BEGIN:VCALENDAR
VERSION:2.0
PRODID:-//Grace Memorial Baptist Church - ECPv6.15.20//NONSGML v1.0//EN
CALSCALE:GREGORIAN
METHOD:PUBLISH
X-ORIGINAL-URL:https://discovergrace.us
X-WR-CALDESC:Events for Grace Memorial Baptist Church
REFRESH-INTERVAL;VALUE=DURATION:PT1H
X-Robots-Tag:noindex
X-PUBLISHED-TTL:PT1H
BEGIN:VTIMEZONE
TZID:America/Chicago
BEGIN:DAYLIGHT
TZOFFSETFROM:-0600
TZOFFSETTO:-0500
TZNAME:CDT
DTSTART:20250309T080000
END:DAYLIGHT
BEGIN:STANDARD
TZOFFSETFROM:-0500
TZOFFSETTO:-0600
TZNAME:CST
DTSTART:20251102T070000
END:STANDARD
BEGIN:DAYLIGHT
TZOFFSETFROM:-0600
TZOFFSETTO:-0500
TZNAME:CDT
DTSTART:20260308T080000
END:DAYLIGHT
BEGIN:STANDARD
TZOFFSETFROM:-0500
TZOFFSETTO:-0600
TZNAME:CST
DTSTART:20261101T070000
END:STANDARD
BEGIN:DAYLIGHT
TZOFFSETFROM:-0600
TZOFFSETTO:-0500
TZNAME:CDT
DTSTART:20270314T080000
END:DAYLIGHT
BEGIN:STANDARD
TZOFFSETFROM:-0500
TZOFFSETTO:-0600
TZNAME:CST
DTSTART:20271107T070000
END:STANDARD
END:VTIMEZONE
BEGIN:VEVENT
DTSTART;VALUE=DATE:20260629
DTEND;VALUE=DATE:20260703
DTSTAMP:20260420T160206
CREATED:20260129T173240Z
LAST-MODIFIED:20260129T173240Z
UID:10004761-1782691200-1783036799@discovergrace.us
SUMMARY:Kids Camp 2026
DESCRIPTION:🏕️ Kids Camp at Tall Timbers — June 29 – July 2\nGet ready for a summer adventure your kids won’t forget! Grace Memorial Baptist Church is excited to send campers to Kids Camp at Tall Timbers Baptist Conference Center in Forest Hill\, LA\, June 29th – July 2nd. This Christ-centered camp is designed for children who have completed 2nd through 6th grade and features a fun mix of Bible study\, worship\, rec rotations\, age-group activities\, snacks\, meals\, and late-night fun in a safe\, encouraging environment! \n🌟 Limited Spots: Only 10 girls and 10 boys will be able to go\, so don’t wait!💵 Secure Your Spot: A $50 non-refundable deposit per child\, paid to Grace Memorial Baptist Church\, will reserve your camper’s place. \n📍 When: June 29 – July 2\, 2026📍 Where: Tall Timbers Baptist Conference Center — Forest Hill\, LA📍 Who: Kids who have completed 2nd–6th grade \nDon’t miss this chance for your child to grow in faith\, make new friends\, and create lifelong memories! \nRegister now by submitting your deposit to GMBC — spots are first-come\, first-served.
URL:https://discovergrace.us/event/kids-camp-2026/
LOCATION:Tall Timbers\, 10218 Hwy. 165 South\, Forest Hill\, LA\, 71430\, United States
ATTACH;FMTTYPE=image/png:https://discovergrace.us/wp-content/uploads/2026/01/2026-Kids-Camp-1030x539-1.png
END:VEVENT
END:VCALENDAR