BEGIN:VCALENDAR
VERSION:2.0
PRODID:-//Grace Memorial Baptist Church - ECPv6.15.20//NONSGML v1.0//EN
CALSCALE:GREGORIAN
METHOD:PUBLISH
X-ORIGINAL-URL:https://discovergrace.us
X-WR-CALDESC:Events for Grace Memorial Baptist Church
REFRESH-INTERVAL;VALUE=DURATION:PT1H
X-Robots-Tag:noindex
X-PUBLISHED-TTL:PT1H
BEGIN:VTIMEZONE
TZID:America/Chicago
BEGIN:DAYLIGHT
TZOFFSETFROM:-0600
TZOFFSETTO:-0500
TZNAME:CDT
DTSTART:20240310T080000
END:DAYLIGHT
BEGIN:STANDARD
TZOFFSETFROM:-0500
TZOFFSETTO:-0600
TZNAME:CST
DTSTART:20241103T070000
END:STANDARD
BEGIN:DAYLIGHT
TZOFFSETFROM:-0600
TZOFFSETTO:-0500
TZNAME:CDT
DTSTART:20250309T080000
END:DAYLIGHT
BEGIN:STANDARD
TZOFFSETFROM:-0500
TZOFFSETTO:-0600
TZNAME:CST
DTSTART:20251102T070000
END:STANDARD
BEGIN:DAYLIGHT
TZOFFSETFROM:-0600
TZOFFSETTO:-0500
TZNAME:CDT
DTSTART:20260308T080000
END:DAYLIGHT
BEGIN:STANDARD
TZOFFSETFROM:-0500
TZOFFSETTO:-0600
TZNAME:CST
DTSTART:20261101T070000
END:STANDARD
END:VTIMEZONE
BEGIN:VEVENT
DTSTART;TZID=America/Chicago:20251207T140000
DTEND;TZID=America/Chicago:20251207T160000
DTSTAMP:20260422T035621
CREATED:20251114T182543Z
LAST-MODIFIED:20251114T182543Z
UID:10004677-1765116000-1765123200@discovergrace.us
SUMMARY:Christmas Open House Tour
DESCRIPTION:Join us for a heartwarming Christmas Open House Tour\, presented by the Ladies of Grace\, on Sunday\, December 7th from 2-4 PM. Step into the holiday spirit as we open our doors to share the joy and festive cheer of the season. \nExplore beautifully decorated homes filled with the warmth of Christmas. Enjoy the sights and sounds of the holidays\, and be inspired by stunning decor and creative displays that will surely get you in the festive mood. \nBest of all\, your participation in this special event will make a meaningful impact. All proceeds from the Christmas Open House Tour will go to support Macedonia missions\, a noble cause that brings hope and assistance to those in need. \nTo secure your spot\, you can purchase tickets Sundays in the Info Center\, or throughout the week in the Church Office. \nMark your calendar and bring your family and friends along for a delightful day of holiday enchantment. Together\, we can make this Christmas season even brighter for others. We can’t wait to share the magic of the season with you! \nDon’t miss this opportunity to celebrate the season and make a difference. See you on December 7th from 2-4 PM!
URL:https://discovergrace.us/event/christmas-open-house-tour/
ATTACH;FMTTYPE=image/jpeg:https://discovergrace.us/wp-content/uploads/2025/11/home-tour-2025-slide-2-scaled.jpg
END:VEVENT
BEGIN:VEVENT
DTSTART;TZID=America/Chicago:20251116T170000
DTEND;TZID=America/Chicago:20251116T180000
DTSTAMP:20260422T035621
CREATED:20250918T201117Z
LAST-MODIFIED:20250918T201117Z
UID:10004079-1763312400-1763316000@discovergrace.us
SUMMARY:The Way of Wisdom - Ladies Bible Study
DESCRIPTION: Ladies\, you’re invited!\n\n\nOur new Women’s Bible Study\, led by Shelly Jones\, kicks off Sunday\, September 28th at 5pm in the Office Conference Room. We’ll be diving into “The Way of Wisdom” – a powerful study through the book of Proverbs led by Jen Wilkin\, Ruth Chou Simons\, Kelly Minter\, and others.\n\n\nProverbs shows us the contrast between God’s path of life and flourishing\, and the world’s path of folly. Together\, we’ll explore what God’s wisdom looks like in everyday life—our words\, work\, friendships\, family\, money\, leadership\, and more.\n\n\n GMBC Office Conference Room\n Sundays\, Starting September 28th   |    5pm\n Participant Bible Study Book: $24
URL:https://discovergrace.us/event/the-way-of-wisdom-ladies-bible-study/2025-11-16/
LOCATION:Fellowship Hall
ATTACH;FMTTYPE=image/jpeg:https://discovergrace.us/wp-content/uploads/2025/09/SUN-PM-AB-New-Ladies-Bible-Study-2-scaled.jpg
END:VEVENT
BEGIN:VEVENT
DTSTART;TZID=America/Chicago:20251109T170000
DTEND;TZID=America/Chicago:20251109T180000
DTSTAMP:20260422T035621
CREATED:20250918T201117Z
LAST-MODIFIED:20250918T201117Z
UID:10004078-1762707600-1762711200@discovergrace.us
SUMMARY:The Way of Wisdom - Ladies Bible Study
DESCRIPTION: Ladies\, you’re invited!\n\n\nOur new Women’s Bible Study\, led by Shelly Jones\, kicks off Sunday\, September 28th at 5pm in the Office Conference Room. We’ll be diving into “The Way of Wisdom” – a powerful study through the book of Proverbs led by Jen Wilkin\, Ruth Chou Simons\, Kelly Minter\, and others.\n\n\nProverbs shows us the contrast between God’s path of life and flourishing\, and the world’s path of folly. Together\, we’ll explore what God’s wisdom looks like in everyday life—our words\, work\, friendships\, family\, money\, leadership\, and more.\n\n\n GMBC Office Conference Room\n Sundays\, Starting September 28th   |    5pm\n Participant Bible Study Book: $24
URL:https://discovergrace.us/event/the-way-of-wisdom-ladies-bible-study/2025-11-09/
LOCATION:Fellowship Hall
ATTACH;FMTTYPE=image/jpeg:https://discovergrace.us/wp-content/uploads/2025/09/SUN-PM-AB-New-Ladies-Bible-Study-2-scaled.jpg
END:VEVENT
BEGIN:VEVENT
DTSTART;TZID=America/Chicago:20251102T170000
DTEND;TZID=America/Chicago:20251102T180000
DTSTAMP:20260422T035621
CREATED:20250918T201117Z
LAST-MODIFIED:20250918T201117Z
UID:10004077-1762102800-1762106400@discovergrace.us
SUMMARY:The Way of Wisdom - Ladies Bible Study
DESCRIPTION: Ladies\, you’re invited!\n\n\nOur new Women’s Bible Study\, led by Shelly Jones\, kicks off Sunday\, September 28th at 5pm in the Office Conference Room. We’ll be diving into “The Way of Wisdom” – a powerful study through the book of Proverbs led by Jen Wilkin\, Ruth Chou Simons\, Kelly Minter\, and others.\n\n\nProverbs shows us the contrast between God’s path of life and flourishing\, and the world’s path of folly. Together\, we’ll explore what God’s wisdom looks like in everyday life—our words\, work\, friendships\, family\, money\, leadership\, and more.\n\n\n GMBC Office Conference Room\n Sundays\, Starting September 28th   |    5pm\n Participant Bible Study Book: $24
URL:https://discovergrace.us/event/the-way-of-wisdom-ladies-bible-study/2025-11-02/
LOCATION:Fellowship Hall
ATTACH;FMTTYPE=image/jpeg:https://discovergrace.us/wp-content/uploads/2025/09/SUN-PM-AB-New-Ladies-Bible-Study-2-scaled.jpg
END:VEVENT
BEGIN:VEVENT
DTSTART;TZID=America/Chicago:20251026T170000
DTEND;TZID=America/Chicago:20251026T180000
DTSTAMP:20260422T035621
CREATED:20250918T201117Z
LAST-MODIFIED:20250918T201117Z
UID:10004076-1761498000-1761501600@discovergrace.us
SUMMARY:The Way of Wisdom - Ladies Bible Study
DESCRIPTION: Ladies\, you’re invited!\n\n\nOur new Women’s Bible Study\, led by Shelly Jones\, kicks off Sunday\, September 28th at 5pm in the Office Conference Room. We’ll be diving into “The Way of Wisdom” – a powerful study through the book of Proverbs led by Jen Wilkin\, Ruth Chou Simons\, Kelly Minter\, and others.\n\n\nProverbs shows us the contrast between God’s path of life and flourishing\, and the world’s path of folly. Together\, we’ll explore what God’s wisdom looks like in everyday life—our words\, work\, friendships\, family\, money\, leadership\, and more.\n\n\n GMBC Office Conference Room\n Sundays\, Starting September 28th   |    5pm\n Participant Bible Study Book: $24
URL:https://discovergrace.us/event/the-way-of-wisdom-ladies-bible-study/2025-10-26/
LOCATION:Fellowship Hall
ATTACH;FMTTYPE=image/jpeg:https://discovergrace.us/wp-content/uploads/2025/09/SUN-PM-AB-New-Ladies-Bible-Study-2-scaled.jpg
END:VEVENT
BEGIN:VEVENT
DTSTART;TZID=America/Chicago:20251019T170000
DTEND;TZID=America/Chicago:20251019T180000
DTSTAMP:20260422T035621
CREATED:20250918T201117Z
LAST-MODIFIED:20250918T201117Z
UID:10004075-1760893200-1760896800@discovergrace.us
SUMMARY:The Way of Wisdom - Ladies Bible Study
DESCRIPTION: Ladies\, you’re invited!\n\n\nOur new Women’s Bible Study\, led by Shelly Jones\, kicks off Sunday\, September 28th at 5pm in the Office Conference Room. We’ll be diving into “The Way of Wisdom” – a powerful study through the book of Proverbs led by Jen Wilkin\, Ruth Chou Simons\, Kelly Minter\, and others.\n\n\nProverbs shows us the contrast between God’s path of life and flourishing\, and the world’s path of folly. Together\, we’ll explore what God’s wisdom looks like in everyday life—our words\, work\, friendships\, family\, money\, leadership\, and more.\n\n\n GMBC Office Conference Room\n Sundays\, Starting September 28th   |    5pm\n Participant Bible Study Book: $24
URL:https://discovergrace.us/event/the-way-of-wisdom-ladies-bible-study/2025-10-19/
LOCATION:Fellowship Hall
ATTACH;FMTTYPE=image/jpeg:https://discovergrace.us/wp-content/uploads/2025/09/SUN-PM-AB-New-Ladies-Bible-Study-2-scaled.jpg
END:VEVENT
BEGIN:VEVENT
DTSTART;TZID=America/Chicago:20251012T170000
DTEND;TZID=America/Chicago:20251012T180000
DTSTAMP:20260422T035621
CREATED:20250918T201117Z
LAST-MODIFIED:20250918T201117Z
UID:10004074-1760288400-1760292000@discovergrace.us
SUMMARY:The Way of Wisdom - Ladies Bible Study
DESCRIPTION: Ladies\, you’re invited!\n\n\nOur new Women’s Bible Study\, led by Shelly Jones\, kicks off Sunday\, September 28th at 5pm in the Office Conference Room. We’ll be diving into “The Way of Wisdom” – a powerful study through the book of Proverbs led by Jen Wilkin\, Ruth Chou Simons\, Kelly Minter\, and others.\n\n\nProverbs shows us the contrast between God’s path of life and flourishing\, and the world’s path of folly. Together\, we’ll explore what God’s wisdom looks like in everyday life—our words\, work\, friendships\, family\, money\, leadership\, and more.\n\n\n GMBC Office Conference Room\n Sundays\, Starting September 28th   |    5pm\n Participant Bible Study Book: $24
URL:https://discovergrace.us/event/the-way-of-wisdom-ladies-bible-study/2025-10-12/
LOCATION:Fellowship Hall
ATTACH;FMTTYPE=image/jpeg:https://discovergrace.us/wp-content/uploads/2025/09/SUN-PM-AB-New-Ladies-Bible-Study-2-scaled.jpg
END:VEVENT
BEGIN:VEVENT
DTSTART;TZID=America/Chicago:20251005T170000
DTEND;TZID=America/Chicago:20251005T180000
DTSTAMP:20260422T035621
CREATED:20250918T201117Z
LAST-MODIFIED:20250918T201117Z
UID:10004073-1759683600-1759687200@discovergrace.us
SUMMARY:The Way of Wisdom - Ladies Bible Study
DESCRIPTION: Ladies\, you’re invited!\n\n\nOur new Women’s Bible Study\, led by Shelly Jones\, kicks off Sunday\, September 28th at 5pm in the Office Conference Room. We’ll be diving into “The Way of Wisdom” – a powerful study through the book of Proverbs led by Jen Wilkin\, Ruth Chou Simons\, Kelly Minter\, and others.\n\n\nProverbs shows us the contrast between God’s path of life and flourishing\, and the world’s path of folly. Together\, we’ll explore what God’s wisdom looks like in everyday life—our words\, work\, friendships\, family\, money\, leadership\, and more.\n\n\n GMBC Office Conference Room\n Sundays\, Starting September 28th   |    5pm\n Participant Bible Study Book: $24
URL:https://discovergrace.us/event/the-way-of-wisdom-ladies-bible-study/2025-10-05/
LOCATION:Fellowship Hall
ATTACH;FMTTYPE=image/jpeg:https://discovergrace.us/wp-content/uploads/2025/09/SUN-PM-AB-New-Ladies-Bible-Study-2-scaled.jpg
END:VEVENT
BEGIN:VEVENT
DTSTART;TZID=America/Chicago:20250928T170000
DTEND;TZID=America/Chicago:20250928T180000
DTSTAMP:20260422T035621
CREATED:20250918T201117Z
LAST-MODIFIED:20250918T201117Z
UID:10004072-1759078800-1759082400@discovergrace.us
SUMMARY:The Way of Wisdom - Ladies Bible Study
DESCRIPTION: Ladies\, you’re invited!\n\n\nOur new Women’s Bible Study\, led by Shelly Jones\, kicks off Sunday\, September 28th at 5pm in the Office Conference Room. We’ll be diving into “The Way of Wisdom” – a powerful study through the book of Proverbs led by Jen Wilkin\, Ruth Chou Simons\, Kelly Minter\, and others.\n\n\nProverbs shows us the contrast between God’s path of life and flourishing\, and the world’s path of folly. Together\, we’ll explore what God’s wisdom looks like in everyday life—our words\, work\, friendships\, family\, money\, leadership\, and more.\n\n\n GMBC Office Conference Room\n Sundays\, Starting September 28th   |    5pm\n Participant Bible Study Book: $24
URL:https://discovergrace.us/event/the-way-of-wisdom-ladies-bible-study/2025-09-28/
LOCATION:Fellowship Hall
ATTACH;FMTTYPE=image/jpeg:https://discovergrace.us/wp-content/uploads/2025/09/SUN-PM-AB-New-Ladies-Bible-Study-2-scaled.jpg
END:VEVENT
BEGIN:VEVENT
DTSTART;TZID=America/Chicago:20250723T121500
DTEND;TZID=America/Chicago:20250723T133000
DTSTAMP:20260422T035621
CREATED:20250721T192710Z
LAST-MODIFIED:20250721T192710Z
UID:10004061-1753272900-1753277400@discovergrace.us
SUMMARY:Ladies' Book Club
DESCRIPTION:We are meeting Wednesday\, July 23rd\, 12:15pm\, at Counter Culture for lunch to discuss July’s book\,\n“A Thousand Voices” by Lisa Wingate.\nMark your calendars and join us for another summer in-person meeting!
URL:https://discovergrace.us/event/ladies-book-club/
LOCATION:Counter Culture\, 154 E Hall Ave\, Slidell\, LA\, 70458\, United States
ATTACH;FMTTYPE=image/jpeg:https://discovergrace.us/wp-content/uploads/2024/03/book-club.jpg
END:VEVENT
END:VCALENDAR