BEGIN:VCALENDAR
VERSION:2.0
PRODID:-//Grace Memorial Baptist Church - ECPv6.15.20//NONSGML v1.0//EN
CALSCALE:GREGORIAN
METHOD:PUBLISH
X-WR-CALNAME:Grace Memorial Baptist Church
X-ORIGINAL-URL:https://discovergrace.us
X-WR-CALDESC:Events for Grace Memorial Baptist Church
REFRESH-INTERVAL;VALUE=DURATION:PT1H
X-Robots-Tag:noindex
X-PUBLISHED-TTL:PT1H
BEGIN:VTIMEZONE
TZID:America/Chicago
BEGIN:DAYLIGHT
TZOFFSETFROM:-0600
TZOFFSETTO:-0500
TZNAME:CDT
DTSTART:20250309T080000
END:DAYLIGHT
BEGIN:STANDARD
TZOFFSETFROM:-0500
TZOFFSETTO:-0600
TZNAME:CST
DTSTART:20251102T070000
END:STANDARD
BEGIN:DAYLIGHT
TZOFFSETFROM:-0600
TZOFFSETTO:-0500
TZNAME:CDT
DTSTART:20260308T080000
END:DAYLIGHT
BEGIN:STANDARD
TZOFFSETFROM:-0500
TZOFFSETTO:-0600
TZNAME:CST
DTSTART:20261101T070000
END:STANDARD
BEGIN:DAYLIGHT
TZOFFSETFROM:-0600
TZOFFSETTO:-0500
TZNAME:CDT
DTSTART:20270314T080000
END:DAYLIGHT
BEGIN:STANDARD
TZOFFSETFROM:-0500
TZOFFSETTO:-0600
TZNAME:CST
DTSTART:20271107T070000
END:STANDARD
END:VTIMEZONE
BEGIN:VEVENT
DTSTART;TZID=America/Chicago:20260329T103000
DTEND;TZID=America/Chicago:20260329T113000
DTSTAMP:20260423T054230
CREATED:20260320T140858Z
LAST-MODIFIED:20260320T140858Z
UID:10004763-1774780200-1774783800@discovergrace.us
SUMMARY:Echoes of Easter - Adult Choir & Orchestra Musical
DESCRIPTION:Join us this Palm Sunday for Echoes of Easter\, a powerful musical presentation celebrating the hope and victory of the resurrection. Featuring the GMBC Adult Choir and Orchestra\, this special worship experience will lead us through the story of Easter in a meaningful and inspiring way. \nBe part of this unforgettable morning on Sunday\, March 29th at 10:30am during our regular worship service.
URL:https://discovergrace.us/event/echoes-of-easter-adult-choir-orchestra-musical/
LOCATION:GMBC Sanctuary\, 58516 Pearl Acres Road\, Slidell\, 70461\, United States
ATTACH;FMTTYPE=image/jpeg:https://discovergrace.us/wp-content/uploads/2026/03/CHOIR-Echoes-of-Easter-date-scaled.jpg
END:VEVENT
END:VCALENDAR