BEGIN:VCALENDAR
VERSION:2.0
PRODID:-//Grace Memorial Baptist Church - ECPv6.15.20//NONSGML v1.0//EN
CALSCALE:GREGORIAN
METHOD:PUBLISH
X-WR-CALNAME:Grace Memorial Baptist Church
X-ORIGINAL-URL:https://discovergrace.us
X-WR-CALDESC:Events for Grace Memorial Baptist Church
REFRESH-INTERVAL;VALUE=DURATION:PT1H
X-Robots-Tag:noindex
X-PUBLISHED-TTL:PT1H
BEGIN:VTIMEZONE
TZID:America/Chicago
BEGIN:DAYLIGHT
TZOFFSETFROM:-0600
TZOFFSETTO:-0500
TZNAME:CDT
DTSTART:20250309T080000
END:DAYLIGHT
BEGIN:STANDARD
TZOFFSETFROM:-0500
TZOFFSETTO:-0600
TZNAME:CST
DTSTART:20251102T070000
END:STANDARD
BEGIN:DAYLIGHT
TZOFFSETFROM:-0600
TZOFFSETTO:-0500
TZNAME:CDT
DTSTART:20260308T080000
END:DAYLIGHT
BEGIN:STANDARD
TZOFFSETFROM:-0500
TZOFFSETTO:-0600
TZNAME:CST
DTSTART:20261101T070000
END:STANDARD
BEGIN:DAYLIGHT
TZOFFSETFROM:-0600
TZOFFSETTO:-0500
TZNAME:CDT
DTSTART:20270314T080000
END:DAYLIGHT
BEGIN:STANDARD
TZOFFSETFROM:-0500
TZOFFSETTO:-0600
TZNAME:CST
DTSTART:20271107T070000
END:STANDARD
END:VTIMEZONE
BEGIN:VEVENT
DTSTART;TZID=America/Chicago:20260422T174500
DTEND;TZID=America/Chicago:20260422T183000
DTSTAMP:20260421T004649
CREATED:20250507T172655Z
LAST-MODIFIED:20251114T183920Z
UID:10003834-1776879900-1776882600@discovergrace.us
SUMMARY:Wednesday Night Dinner
DESCRIPTION:Join us for our Wednesday night activities! \nWe have our Fellowship Dinner at 5:45pm every Wednesday night – reservations required by the Monday before.
URL:https://discovergrace.us/event/wednesday-night-dinner/2026-04-22/
ATTACH;FMTTYPE=image/png:https://discovergrace.us/wp-content/uploads/2025/05/Wednesday-night-meals-Presentation-19-scaled.png
END:VEVENT
BEGIN:VEVENT
DTSTART;TZID=America/Chicago:20260424T080000
DTEND;TZID=America/Chicago:20260424T163000
DTSTAMP:20260421T004649
CREATED:20260416T214458Z
LAST-MODIFIED:20260416T214458Z
UID:10004766-1777017600-1777048200@discovergrace.us
SUMMARY:Garage Sale Drop-Off Day
DESCRIPTION:Garage Sale Donation Drop-Off Day \nHave items you’re ready to pass along? Bring your gently used donations for the GMBC Missions Garage Sale on Friday\, April 24th\, from 8:00 AM to 4:30 PM at the church. Your donated items help support our missions efforts in Macedonia\, turning things you no longer need into a meaningful impact for others. \nPlease ensure items are clean and in good condition. We appreciate your generosity in helping make this event a success! \nThe GMBC Missions Garage Sale will take place the following day\, Saturday\, April 25th\, from 8:00 AM to Noon in the Fellowship Hall. Be sure to come back and shop for a great cause!
URL:https://discovergrace.us/event/garage-sale-drop-off-day/
LOCATION:Fellowship Hall
ATTACH;FMTTYPE=image/jpeg:https://discovergrace.us/wp-content/uploads/2026/04/Garage-Sale-scaled.jpg
END:VEVENT
BEGIN:VEVENT
DTSTART;TZID=America/Chicago:20260425T080000
DTEND;TZID=America/Chicago:20260425T120000
DTSTAMP:20260421T004649
CREATED:20260416T214254Z
LAST-MODIFIED:20260416T214254Z
UID:10004765-1777104000-1777118400@discovergrace.us
SUMMARY:Garage Sale
DESCRIPTION:Join us for our annual GMBC Missions Garage Sale on Saturday\, April 25th\, from 8:00 AM to Noon in the Fellowship Hall! This church-wide event is a great opportunity to find gently used items at affordable prices while supporting a meaningful cause. \nAll proceeds from the sale will go toward our missions efforts in Macedonia\, helping share the love of Christ and meet needs both locally and globally. Every purchase you make plays a part in making an impact! \nHave items to donate? We gladly accept gently used items! Donations can be dropped off on Friday\, April 24th\, from 8:00 AM to 4:30 PM at the church. \nCome early for the best selection\, invite your friends and family\, and shop for a purpose.
URL:https://discovergrace.us/event/garage-sale/
LOCATION:Fellowship Hall
ATTACH;FMTTYPE=image/jpeg:https://discovergrace.us/wp-content/uploads/2026/04/Garage-Sale-scaled.jpg
END:VEVENT
BEGIN:VEVENT
DTSTART;TZID=America/Chicago:20260425T180000
DTEND;TZID=America/Chicago:20260425T200000
DTSTAMP:20260421T004649
CREATED:20260416T214840Z
LAST-MODIFIED:20260416T214840Z
UID:10004767-1777140000-1777147200@discovergrace.us
SUMMARY:Youth Bonfire
DESCRIPTION:Join us for a fun-filled GMBC Youth Bonfire Night on Saturday\, April 25 at 6:00 PM at Jane Molbert’s Home\, where students can come together for an evening of fellowship\, games\, snacks\, and a cozy bonfire under the night sky. It’s a great chance to relax\, laugh\, and build community with friends—whether you’ve been part of the group for years or are coming for the first time\, everyone is welcome! \nPlease note that this event is weather contingent\, so stay tuned for updates in case of any changes.
URL:https://discovergrace.us/event/youth-bonfire/
ATTACH;FMTTYPE=image/jpeg:https://discovergrace.us/wp-content/uploads/2026/04/Bonfire-Night-2026-2-scaled.jpg
ORGANIZER;CN="Student Ministry":MAILTO:stephen@discovergrace.us
END:VEVENT
BEGIN:VEVENT
DTSTART;TZID=America/Chicago:20260426T091500
DTEND;TZID=America/Chicago:20260426T101500
DTSTAMP:20260421T004649
CREATED:20251006T155902Z
LAST-MODIFIED:20251006T155902Z
UID:10004181-1777194900-1777198500@discovergrace.us
SUMMARY:Sunday School
DESCRIPTION:Grow in your faith and connect with others through our Sunday School ministry! We offer classes for all ages\, organized by age\, grade\, gender\, and/or life stage\, so everyone can find a place to belong and learn. Each class provides an opportunity to study God’s Word\, build relationships\, and grow together in Christ. Join us this Sunday at 9:15am—there’s a place for you!
URL:https://discovergrace.us/event/sunday-school/2026-04-26/
LOCATION:GMBC\, 58516 Pearl Acres Road\, Slidell\, LA\, 70461\, United States
ATTACH;FMTTYPE=image/png:https://discovergrace.us/wp-content/uploads/2025/10/Ann.-Slides-Sunday-School-scaled.png
END:VEVENT
BEGIN:VEVENT
DTSTART;TZID=America/Chicago:20260426T103000
DTEND;TZID=America/Chicago:20260426T120000
DTSTAMP:20260421T004649
CREATED:20251006T161036Z
LAST-MODIFIED:20260126T154234Z
UID:10004442-1777199400-1777204800@discovergrace.us
SUMMARY:Worship Service
DESCRIPTION:Join us each Sunday morning at 10:30am for a time of heartfelt worship\, biblical teaching\, and fellowship. Our worship services are centered on praising God\, studying His Word\, and growing together as a community of believers. Whether you’re new to Grace Memorial Baptist Church or have been attending for years\, you’ll find a warm welcome and an opportunity to encounter God’s presence in a meaningful way.
URL:https://discovergrace.us/event/worship-service/2026-04-26/
LOCATION:GMBC Sanctuary\, 58516 Pearl Acres Road\, Slidell\, 70461\, United States
ATTACH;FMTTYPE=image/png:https://discovergrace.us/wp-content/uploads/2025/10/Ann.-Slides-worship-with-us-scaled.png
END:VEVENT
BEGIN:VEVENT
DTSTART;TZID=America/Chicago:20260426T170000
DTEND;TZID=America/Chicago:20260426T180000
DTSTAMP:20260421T004649
CREATED:20260114T210541Z
LAST-MODIFIED:20260114T210806Z
UID:10003569-1777222800-1777226400@discovergrace.us
SUMMARY:Grace University
DESCRIPTION:Join us every Sunday night for Grace University a vibrant lineup of community activities! Engage in meaningful fellowship and growth with Women’s Groups\, Men’s Groups\, Kids Choir\, Preschool Choir\, Youth Discipleship\, and various other studies and activities. Discover a place where all ages thrive and deepen their faith together. Sundays at 5 PM\, there’s something for everyone at Grace U!
URL:https://discovergrace.us/event/grace-university-2/2026-04-26/
LOCATION:GMBC\, 58516 Pearl Acres Road\, Slidell\, LA\, 70461\, United States
ATTACH;FMTTYPE=image/png:https://discovergrace.us/wp-content/uploads/2024/03/Grace-U.png
END:VEVENT
BEGIN:VEVENT
DTSTART;TZID=America/Chicago:20260426T180000
DTEND;TZID=America/Chicago:20260426T200000
DTSTAMP:20260421T004649
CREATED:20260416T215157Z
LAST-MODIFIED:20260416T215157Z
UID:10004768-1777226400-1777233600@discovergrace.us
SUMMARY:Dessert Auction
DESCRIPTION:🍰 Dessert Auction for MFuge Youth Camp 🍰 \nJoin us for a fun evening of sweet treats and friendly bidding—all to support MFuge Youth Camp! Everyone is invited and encouraged to bring a dessert to donate for the auction. \n📅 Sunday\, April 26th🕕 6:00 PM – right after Grace U \nCome ready to enjoy\, bid\, and support our students!
URL:https://discovergrace.us/event/dessert-auction/
LOCATION:Fellowship Hall
ATTACH;FMTTYPE=image/jpeg:https://discovergrace.us/wp-content/uploads/2026/04/Ann.-Slides-dessert-auction-1-scaled.jpg
ORGANIZER;CN="Student Ministry":MAILTO:stephen@discovergrace.us
END:VEVENT
BEGIN:VEVENT
DTSTART;TZID=America/Chicago:20260429T174500
DTEND;TZID=America/Chicago:20260429T183000
DTSTAMP:20260421T004649
CREATED:20250507T172655Z
LAST-MODIFIED:20251114T183920Z
UID:10003835-1777484700-1777487400@discovergrace.us
SUMMARY:Wednesday Night Dinner
DESCRIPTION:Join us for our Wednesday night activities! \nWe have our Fellowship Dinner at 5:45pm every Wednesday night – reservations required by the Monday before.
URL:https://discovergrace.us/event/wednesday-night-dinner/2026-04-29/
ATTACH;FMTTYPE=image/png:https://discovergrace.us/wp-content/uploads/2025/05/Wednesday-night-meals-Presentation-19-scaled.png
END:VEVENT
END:VCALENDAR