BEGIN:VCALENDAR
VERSION:2.0
PRODID:-//Grace Memorial Baptist Church - ECPv6.15.20//NONSGML v1.0//EN
CALSCALE:GREGORIAN
METHOD:PUBLISH
X-WR-CALNAME:Grace Memorial Baptist Church
X-ORIGINAL-URL:https://discovergrace.us
X-WR-CALDESC:Events for Grace Memorial Baptist Church
REFRESH-INTERVAL;VALUE=DURATION:PT1H
X-Robots-Tag:noindex
X-PUBLISHED-TTL:PT1H
BEGIN:VTIMEZONE
TZID:America/Chicago
BEGIN:DAYLIGHT
TZOFFSETFROM:-0600
TZOFFSETTO:-0500
TZNAME:CDT
DTSTART:20250309T080000
END:DAYLIGHT
BEGIN:STANDARD
TZOFFSETFROM:-0500
TZOFFSETTO:-0600
TZNAME:CST
DTSTART:20251102T070000
END:STANDARD
BEGIN:DAYLIGHT
TZOFFSETFROM:-0600
TZOFFSETTO:-0500
TZNAME:CDT
DTSTART:20260308T080000
END:DAYLIGHT
BEGIN:STANDARD
TZOFFSETFROM:-0500
TZOFFSETTO:-0600
TZNAME:CST
DTSTART:20261101T070000
END:STANDARD
BEGIN:DAYLIGHT
TZOFFSETFROM:-0600
TZOFFSETTO:-0500
TZNAME:CDT
DTSTART:20270314T080000
END:DAYLIGHT
BEGIN:STANDARD
TZOFFSETFROM:-0500
TZOFFSETTO:-0600
TZNAME:CST
DTSTART:20271107T070000
END:STANDARD
END:VTIMEZONE
BEGIN:VEVENT
DTSTART;TZID=America/Chicago:20260705T091500
DTEND;TZID=America/Chicago:20260705T101500
DTSTAMP:20260421T181408
CREATED:20251006T155902Z
LAST-MODIFIED:20251006T155902Z
UID:10004191-1783242900-1783246500@discovergrace.us
SUMMARY:Sunday School
DESCRIPTION:Grow in your faith and connect with others through our Sunday School ministry! We offer classes for all ages\, organized by age\, grade\, gender\, and/or life stage\, so everyone can find a place to belong and learn. Each class provides an opportunity to study God’s Word\, build relationships\, and grow together in Christ. Join us this Sunday at 9:15am—there’s a place for you!
URL:https://discovergrace.us/event/sunday-school/2026-07-05/
LOCATION:GMBC\, 58516 Pearl Acres Road\, Slidell\, LA\, 70461\, United States
ATTACH;FMTTYPE=image/png:https://discovergrace.us/wp-content/uploads/2025/10/Ann.-Slides-Sunday-School-scaled.png
END:VEVENT
BEGIN:VEVENT
DTSTART;TZID=America/Chicago:20260705T103000
DTEND;TZID=America/Chicago:20260705T120000
DTSTAMP:20260421T181408
CREATED:20251006T161036Z
LAST-MODIFIED:20260126T154234Z
UID:10004452-1783247400-1783252800@discovergrace.us
SUMMARY:Worship Service
DESCRIPTION:Join us each Sunday morning at 10:30am for a time of heartfelt worship\, biblical teaching\, and fellowship. Our worship services are centered on praising God\, studying His Word\, and growing together as a community of believers. Whether you’re new to Grace Memorial Baptist Church or have been attending for years\, you’ll find a warm welcome and an opportunity to encounter God’s presence in a meaningful way.
URL:https://discovergrace.us/event/worship-service/2026-07-05/
LOCATION:GMBC Sanctuary\, 58516 Pearl Acres Road\, Slidell\, 70461\, United States
ATTACH;FMTTYPE=image/png:https://discovergrace.us/wp-content/uploads/2025/10/Ann.-Slides-worship-with-us-scaled.png
END:VEVENT
BEGIN:VEVENT
DTSTART;TZID=America/Chicago:20260705T170000
DTEND;TZID=America/Chicago:20260705T180000
DTSTAMP:20260421T181408
CREATED:20260114T210541Z
LAST-MODIFIED:20260114T210806Z
UID:10003579-1783270800-1783274400@discovergrace.us
SUMMARY:Grace University
DESCRIPTION:Join us every Sunday night for Grace University a vibrant lineup of community activities! Engage in meaningful fellowship and growth with Women’s Groups\, Men’s Groups\, Kids Choir\, Preschool Choir\, Youth Discipleship\, and various other studies and activities. Discover a place where all ages thrive and deepen their faith together. Sundays at 5 PM\, there’s something for everyone at Grace U!
URL:https://discovergrace.us/event/grace-university-2/2026-07-05/
LOCATION:GMBC\, 58516 Pearl Acres Road\, Slidell\, LA\, 70461\, United States
ATTACH;FMTTYPE=image/png:https://discovergrace.us/wp-content/uploads/2024/03/Grace-U.png
END:VEVENT
BEGIN:VEVENT
DTSTART;TZID=America/Chicago:20260708T174500
DTEND;TZID=America/Chicago:20260708T183000
DTSTAMP:20260421T181408
CREATED:20250507T172655Z
LAST-MODIFIED:20251114T183920Z
UID:10003845-1783532700-1783535400@discovergrace.us
SUMMARY:Wednesday Night Dinner
DESCRIPTION:Join us for our Wednesday night activities! \nWe have our Fellowship Dinner at 5:45pm every Wednesday night – reservations required by the Monday before.
URL:https://discovergrace.us/event/wednesday-night-dinner/2026-07-08/
LOCATION:LA
ATTACH;FMTTYPE=image/png:https://discovergrace.us/wp-content/uploads/2025/05/Wednesday-night-meals-Presentation-19-scaled.png
END:VEVENT
BEGIN:VEVENT
DTSTART;TZID=America/Chicago:20260712T091500
DTEND;TZID=America/Chicago:20260712T101500
DTSTAMP:20260421T181408
CREATED:20251006T155902Z
LAST-MODIFIED:20251006T155902Z
UID:10004192-1783847700-1783851300@discovergrace.us
SUMMARY:Sunday School
DESCRIPTION:Grow in your faith and connect with others through our Sunday School ministry! We offer classes for all ages\, organized by age\, grade\, gender\, and/or life stage\, so everyone can find a place to belong and learn. Each class provides an opportunity to study God’s Word\, build relationships\, and grow together in Christ. Join us this Sunday at 9:15am—there’s a place for you!
URL:https://discovergrace.us/event/sunday-school/2026-07-12/
LOCATION:GMBC\, 58516 Pearl Acres Road\, Slidell\, LA\, 70461\, United States
ATTACH;FMTTYPE=image/png:https://discovergrace.us/wp-content/uploads/2025/10/Ann.-Slides-Sunday-School-scaled.png
END:VEVENT
BEGIN:VEVENT
DTSTART;TZID=America/Chicago:20260712T103000
DTEND;TZID=America/Chicago:20260712T120000
DTSTAMP:20260421T181408
CREATED:20251006T161036Z
LAST-MODIFIED:20260126T154234Z
UID:10004453-1783852200-1783857600@discovergrace.us
SUMMARY:Worship Service
DESCRIPTION:Join us each Sunday morning at 10:30am for a time of heartfelt worship\, biblical teaching\, and fellowship. Our worship services are centered on praising God\, studying His Word\, and growing together as a community of believers. Whether you’re new to Grace Memorial Baptist Church or have been attending for years\, you’ll find a warm welcome and an opportunity to encounter God’s presence in a meaningful way.
URL:https://discovergrace.us/event/worship-service/2026-07-12/
LOCATION:GMBC Sanctuary\, 58516 Pearl Acres Road\, Slidell\, 70461\, United States
ATTACH;FMTTYPE=image/png:https://discovergrace.us/wp-content/uploads/2025/10/Ann.-Slides-worship-with-us-scaled.png
END:VEVENT
BEGIN:VEVENT
DTSTART;TZID=America/Chicago:20260712T170000
DTEND;TZID=America/Chicago:20260712T180000
DTSTAMP:20260421T181408
CREATED:20260114T210541Z
LAST-MODIFIED:20260114T210806Z
UID:10003580-1783875600-1783879200@discovergrace.us
SUMMARY:Grace University
DESCRIPTION:Join us every Sunday night for Grace University a vibrant lineup of community activities! Engage in meaningful fellowship and growth with Women’s Groups\, Men’s Groups\, Kids Choir\, Preschool Choir\, Youth Discipleship\, and various other studies and activities. Discover a place where all ages thrive and deepen their faith together. Sundays at 5 PM\, there’s something for everyone at Grace U!
URL:https://discovergrace.us/event/grace-university-2/2026-07-12/
LOCATION:GMBC\, 58516 Pearl Acres Road\, Slidell\, LA\, 70461\, United States
ATTACH;FMTTYPE=image/png:https://discovergrace.us/wp-content/uploads/2024/03/Grace-U.png
END:VEVENT
BEGIN:VEVENT
DTSTART;TZID=America/Chicago:20260713T100000
DTEND;TZID=America/Chicago:20260713T140000
DTSTAMP:20260421T181408
CREATED:20251003T170805Z
LAST-MODIFIED:20251003T170805Z
UID:10004096-1783936800-1783951200@discovergrace.us
SUMMARY:Sewing with Grace
DESCRIPTION:🧵 Sewing with Grace Ministry ✂️Join us for Sewing with Grace on the second Monday of each month\, 10:00 am – 2:00 pm at GMBC! This hands-on ministry creates practical items such as washable pads\, shorts\, dresses\, blankets\, and washcloths for those in need—most often sent to Uganda and Mexico\, but also shared locally when natural disasters strike. 🌍❤️ \nNo sewing experience is required! We need volunteers for sewing\, cutting\, ironing\, assembly\, crochet\, knitting\, and more. If you don’t know how to sew\, we’ll gladly teach you or help you find another way to serve. And while it’s often thought of as a “ladies’ ministry\,” men are welcome too—there’s a place for everyone to help! \nBring your lunch and enjoy a time of fellowship\, along with a short devotional and prayer time. We also welcome donated suitcases to help transport these items overseas. ✈️ \nCome use your hands—and your heart—to bless others in Jesus’ name!
URL:https://discovergrace.us/event/sewing-with-grace/2026-07-13/
LOCATION:Fellowship Hall
ATTACH;FMTTYPE=image/png:https://discovergrace.us/wp-content/uploads/2025/10/Sewing-with-Grace.png
END:VEVENT
BEGIN:VEVENT
DTSTART;TZID=America/Chicago:20260715T174500
DTEND;TZID=America/Chicago:20260715T183000
DTSTAMP:20260421T181408
CREATED:20250507T172655Z
LAST-MODIFIED:20251114T183920Z
UID:10003846-1784137500-1784140200@discovergrace.us
SUMMARY:Wednesday Night Dinner
DESCRIPTION:Join us for our Wednesday night activities! \nWe have our Fellowship Dinner at 5:45pm every Wednesday night – reservations required by the Monday before.
URL:https://discovergrace.us/event/wednesday-night-dinner/2026-07-15/
LOCATION:LA
ATTACH;FMTTYPE=image/png:https://discovergrace.us/wp-content/uploads/2025/05/Wednesday-night-meals-Presentation-19-scaled.png
END:VEVENT
BEGIN:VEVENT
DTSTART;TZID=America/Chicago:20260719T091500
DTEND;TZID=America/Chicago:20260719T101500
DTSTAMP:20260421T181408
CREATED:20251006T155902Z
LAST-MODIFIED:20251006T155902Z
UID:10004193-1784452500-1784456100@discovergrace.us
SUMMARY:Sunday School
DESCRIPTION:Grow in your faith and connect with others through our Sunday School ministry! We offer classes for all ages\, organized by age\, grade\, gender\, and/or life stage\, so everyone can find a place to belong and learn. Each class provides an opportunity to study God’s Word\, build relationships\, and grow together in Christ. Join us this Sunday at 9:15am—there’s a place for you!
URL:https://discovergrace.us/event/sunday-school/2026-07-19/
LOCATION:GMBC\, 58516 Pearl Acres Road\, Slidell\, LA\, 70461\, United States
ATTACH;FMTTYPE=image/png:https://discovergrace.us/wp-content/uploads/2025/10/Ann.-Slides-Sunday-School-scaled.png
END:VEVENT
BEGIN:VEVENT
DTSTART;TZID=America/Chicago:20260719T103000
DTEND;TZID=America/Chicago:20260719T120000
DTSTAMP:20260421T181408
CREATED:20251006T161036Z
LAST-MODIFIED:20260126T154234Z
UID:10004454-1784457000-1784462400@discovergrace.us
SUMMARY:Worship Service
DESCRIPTION:Join us each Sunday morning at 10:30am for a time of heartfelt worship\, biblical teaching\, and fellowship. Our worship services are centered on praising God\, studying His Word\, and growing together as a community of believers. Whether you’re new to Grace Memorial Baptist Church or have been attending for years\, you’ll find a warm welcome and an opportunity to encounter God’s presence in a meaningful way.
URL:https://discovergrace.us/event/worship-service/2026-07-19/
LOCATION:GMBC Sanctuary\, 58516 Pearl Acres Road\, Slidell\, 70461\, United States
ATTACH;FMTTYPE=image/png:https://discovergrace.us/wp-content/uploads/2025/10/Ann.-Slides-worship-with-us-scaled.png
END:VEVENT
BEGIN:VEVENT
DTSTART;TZID=America/Chicago:20260719T170000
DTEND;TZID=America/Chicago:20260719T180000
DTSTAMP:20260421T181408
CREATED:20260114T210541Z
LAST-MODIFIED:20260114T210806Z
UID:10003581-1784480400-1784484000@discovergrace.us
SUMMARY:Grace University
DESCRIPTION:Join us every Sunday night for Grace University a vibrant lineup of community activities! Engage in meaningful fellowship and growth with Women’s Groups\, Men’s Groups\, Kids Choir\, Preschool Choir\, Youth Discipleship\, and various other studies and activities. Discover a place where all ages thrive and deepen their faith together. Sundays at 5 PM\, there’s something for everyone at Grace U!
URL:https://discovergrace.us/event/grace-university-2/2026-07-19/
LOCATION:GMBC\, 58516 Pearl Acres Road\, Slidell\, LA\, 70461\, United States
ATTACH;FMTTYPE=image/png:https://discovergrace.us/wp-content/uploads/2024/03/Grace-U.png
END:VEVENT
BEGIN:VEVENT
DTSTART;TZID=America/Chicago:20260722T174500
DTEND;TZID=America/Chicago:20260722T183000
DTSTAMP:20260421T181408
CREATED:20250507T172655Z
LAST-MODIFIED:20251114T183920Z
UID:10003847-1784742300-1784745000@discovergrace.us
SUMMARY:Wednesday Night Dinner
DESCRIPTION:Join us for our Wednesday night activities! \nWe have our Fellowship Dinner at 5:45pm every Wednesday night – reservations required by the Monday before.
URL:https://discovergrace.us/event/wednesday-night-dinner/2026-07-22/
LOCATION:LA
ATTACH;FMTTYPE=image/png:https://discovergrace.us/wp-content/uploads/2025/05/Wednesday-night-meals-Presentation-19-scaled.png
END:VEVENT
BEGIN:VEVENT
DTSTART;TZID=America/Chicago:20260726T091500
DTEND;TZID=America/Chicago:20260726T101500
DTSTAMP:20260421T181408
CREATED:20251006T155902Z
LAST-MODIFIED:20251006T155902Z
UID:10004194-1785057300-1785060900@discovergrace.us
SUMMARY:Sunday School
DESCRIPTION:Grow in your faith and connect with others through our Sunday School ministry! We offer classes for all ages\, organized by age\, grade\, gender\, and/or life stage\, so everyone can find a place to belong and learn. Each class provides an opportunity to study God’s Word\, build relationships\, and grow together in Christ. Join us this Sunday at 9:15am—there’s a place for you!
URL:https://discovergrace.us/event/sunday-school/2026-07-26/
LOCATION:GMBC\, 58516 Pearl Acres Road\, Slidell\, LA\, 70461\, United States
ATTACH;FMTTYPE=image/png:https://discovergrace.us/wp-content/uploads/2025/10/Ann.-Slides-Sunday-School-scaled.png
END:VEVENT
BEGIN:VEVENT
DTSTART;TZID=America/Chicago:20260726T103000
DTEND;TZID=America/Chicago:20260726T120000
DTSTAMP:20260421T181408
CREATED:20251006T161036Z
LAST-MODIFIED:20260126T154234Z
UID:10004455-1785061800-1785067200@discovergrace.us
SUMMARY:Worship Service
DESCRIPTION:Join us each Sunday morning at 10:30am for a time of heartfelt worship\, biblical teaching\, and fellowship. Our worship services are centered on praising God\, studying His Word\, and growing together as a community of believers. Whether you’re new to Grace Memorial Baptist Church or have been attending for years\, you’ll find a warm welcome and an opportunity to encounter God’s presence in a meaningful way.
URL:https://discovergrace.us/event/worship-service/2026-07-26/
LOCATION:GMBC Sanctuary\, 58516 Pearl Acres Road\, Slidell\, 70461\, United States
ATTACH;FMTTYPE=image/png:https://discovergrace.us/wp-content/uploads/2025/10/Ann.-Slides-worship-with-us-scaled.png
END:VEVENT
BEGIN:VEVENT
DTSTART;TZID=America/Chicago:20260726T170000
DTEND;TZID=America/Chicago:20260726T180000
DTSTAMP:20260421T181408
CREATED:20260114T210541Z
LAST-MODIFIED:20260114T210806Z
UID:10003582-1785085200-1785088800@discovergrace.us
SUMMARY:Grace University
DESCRIPTION:Join us every Sunday night for Grace University a vibrant lineup of community activities! Engage in meaningful fellowship and growth with Women’s Groups\, Men’s Groups\, Kids Choir\, Preschool Choir\, Youth Discipleship\, and various other studies and activities. Discover a place where all ages thrive and deepen their faith together. Sundays at 5 PM\, there’s something for everyone at Grace U!
URL:https://discovergrace.us/event/grace-university-2/2026-07-26/
LOCATION:GMBC\, 58516 Pearl Acres Road\, Slidell\, LA\, 70461\, United States
ATTACH;FMTTYPE=image/png:https://discovergrace.us/wp-content/uploads/2024/03/Grace-U.png
END:VEVENT
BEGIN:VEVENT
DTSTART;TZID=America/Chicago:20260729T174500
DTEND;TZID=America/Chicago:20260729T183000
DTSTAMP:20260421T181408
CREATED:20250507T172655Z
LAST-MODIFIED:20251114T183920Z
UID:10003848-1785347100-1785349800@discovergrace.us
SUMMARY:Wednesday Night Dinner
DESCRIPTION:Join us for our Wednesday night activities! \nWe have our Fellowship Dinner at 5:45pm every Wednesday night – reservations required by the Monday before.
URL:https://discovergrace.us/event/wednesday-night-dinner/2026-07-29/
LOCATION:LA
ATTACH;FMTTYPE=image/png:https://discovergrace.us/wp-content/uploads/2025/05/Wednesday-night-meals-Presentation-19-scaled.png
END:VEVENT
BEGIN:VEVENT
DTSTART;TZID=America/Chicago:20260802T091500
DTEND;TZID=America/Chicago:20260802T101500
DTSTAMP:20260421T181408
CREATED:20251006T155902Z
LAST-MODIFIED:20251006T155902Z
UID:10004195-1785662100-1785665700@discovergrace.us
SUMMARY:Sunday School
DESCRIPTION:Grow in your faith and connect with others through our Sunday School ministry! We offer classes for all ages\, organized by age\, grade\, gender\, and/or life stage\, so everyone can find a place to belong and learn. Each class provides an opportunity to study God’s Word\, build relationships\, and grow together in Christ. Join us this Sunday at 9:15am—there’s a place for you!
URL:https://discovergrace.us/event/sunday-school/2026-08-02/
LOCATION:GMBC\, 58516 Pearl Acres Road\, Slidell\, LA\, 70461\, United States
ATTACH;FMTTYPE=image/png:https://discovergrace.us/wp-content/uploads/2025/10/Ann.-Slides-Sunday-School-scaled.png
END:VEVENT
BEGIN:VEVENT
DTSTART;TZID=America/Chicago:20260802T103000
DTEND;TZID=America/Chicago:20260802T120000
DTSTAMP:20260421T181408
CREATED:20251006T161036Z
LAST-MODIFIED:20260126T154234Z
UID:10004456-1785666600-1785672000@discovergrace.us
SUMMARY:Worship Service
DESCRIPTION:Join us each Sunday morning at 10:30am for a time of heartfelt worship\, biblical teaching\, and fellowship. Our worship services are centered on praising God\, studying His Word\, and growing together as a community of believers. Whether you’re new to Grace Memorial Baptist Church or have been attending for years\, you’ll find a warm welcome and an opportunity to encounter God’s presence in a meaningful way.
URL:https://discovergrace.us/event/worship-service/2026-08-02/
LOCATION:GMBC Sanctuary\, 58516 Pearl Acres Road\, Slidell\, 70461\, United States
ATTACH;FMTTYPE=image/png:https://discovergrace.us/wp-content/uploads/2025/10/Ann.-Slides-worship-with-us-scaled.png
END:VEVENT
BEGIN:VEVENT
DTSTART;TZID=America/Chicago:20260802T170000
DTEND;TZID=America/Chicago:20260802T180000
DTSTAMP:20260421T181408
CREATED:20260114T210541Z
LAST-MODIFIED:20260114T210806Z
UID:10003583-1785690000-1785693600@discovergrace.us
SUMMARY:Grace University
DESCRIPTION:Join us every Sunday night for Grace University a vibrant lineup of community activities! Engage in meaningful fellowship and growth with Women’s Groups\, Men’s Groups\, Kids Choir\, Preschool Choir\, Youth Discipleship\, and various other studies and activities. Discover a place where all ages thrive and deepen their faith together. Sundays at 5 PM\, there’s something for everyone at Grace U!
URL:https://discovergrace.us/event/grace-university-2/2026-08-02/
LOCATION:GMBC\, 58516 Pearl Acres Road\, Slidell\, LA\, 70461\, United States
ATTACH;FMTTYPE=image/png:https://discovergrace.us/wp-content/uploads/2024/03/Grace-U.png
END:VEVENT
BEGIN:VEVENT
DTSTART;TZID=America/Chicago:20260805T174500
DTEND;TZID=America/Chicago:20260805T183000
DTSTAMP:20260421T181408
CREATED:20250507T172655Z
LAST-MODIFIED:20251114T183920Z
UID:10003849-1785951900-1785954600@discovergrace.us
SUMMARY:Wednesday Night Dinner
DESCRIPTION:Join us for our Wednesday night activities! \nWe have our Fellowship Dinner at 5:45pm every Wednesday night – reservations required by the Monday before.
URL:https://discovergrace.us/event/wednesday-night-dinner/2026-08-05/
LOCATION:LA
ATTACH;FMTTYPE=image/png:https://discovergrace.us/wp-content/uploads/2025/05/Wednesday-night-meals-Presentation-19-scaled.png
END:VEVENT
BEGIN:VEVENT
DTSTART;TZID=America/Chicago:20260809T091500
DTEND;TZID=America/Chicago:20260809T101500
DTSTAMP:20260421T181408
CREATED:20251006T155902Z
LAST-MODIFIED:20251006T155902Z
UID:10004196-1786266900-1786270500@discovergrace.us
SUMMARY:Sunday School
DESCRIPTION:Grow in your faith and connect with others through our Sunday School ministry! We offer classes for all ages\, organized by age\, grade\, gender\, and/or life stage\, so everyone can find a place to belong and learn. Each class provides an opportunity to study God’s Word\, build relationships\, and grow together in Christ. Join us this Sunday at 9:15am—there’s a place for you!
URL:https://discovergrace.us/event/sunday-school/2026-08-09/
LOCATION:GMBC\, 58516 Pearl Acres Road\, Slidell\, LA\, 70461\, United States
ATTACH;FMTTYPE=image/png:https://discovergrace.us/wp-content/uploads/2025/10/Ann.-Slides-Sunday-School-scaled.png
END:VEVENT
BEGIN:VEVENT
DTSTART;TZID=America/Chicago:20260809T103000
DTEND;TZID=America/Chicago:20260809T120000
DTSTAMP:20260421T181408
CREATED:20251006T161036Z
LAST-MODIFIED:20260126T154234Z
UID:10004457-1786271400-1786276800@discovergrace.us
SUMMARY:Worship Service
DESCRIPTION:Join us each Sunday morning at 10:30am for a time of heartfelt worship\, biblical teaching\, and fellowship. Our worship services are centered on praising God\, studying His Word\, and growing together as a community of believers. Whether you’re new to Grace Memorial Baptist Church or have been attending for years\, you’ll find a warm welcome and an opportunity to encounter God’s presence in a meaningful way.
URL:https://discovergrace.us/event/worship-service/2026-08-09/
LOCATION:GMBC Sanctuary\, 58516 Pearl Acres Road\, Slidell\, 70461\, United States
ATTACH;FMTTYPE=image/png:https://discovergrace.us/wp-content/uploads/2025/10/Ann.-Slides-worship-with-us-scaled.png
END:VEVENT
BEGIN:VEVENT
DTSTART;TZID=America/Chicago:20260809T170000
DTEND;TZID=America/Chicago:20260809T180000
DTSTAMP:20260421T181408
CREATED:20260114T210541Z
LAST-MODIFIED:20260114T210806Z
UID:10003584-1786294800-1786298400@discovergrace.us
SUMMARY:Grace University
DESCRIPTION:Join us every Sunday night for Grace University a vibrant lineup of community activities! Engage in meaningful fellowship and growth with Women’s Groups\, Men’s Groups\, Kids Choir\, Preschool Choir\, Youth Discipleship\, and various other studies and activities. Discover a place where all ages thrive and deepen their faith together. Sundays at 5 PM\, there’s something for everyone at Grace U!
URL:https://discovergrace.us/event/grace-university-2/2026-08-09/
LOCATION:GMBC\, 58516 Pearl Acres Road\, Slidell\, LA\, 70461\, United States
ATTACH;FMTTYPE=image/png:https://discovergrace.us/wp-content/uploads/2024/03/Grace-U.png
END:VEVENT
BEGIN:VEVENT
DTSTART;TZID=America/Chicago:20260810T100000
DTEND;TZID=America/Chicago:20260810T140000
DTSTAMP:20260421T181408
CREATED:20251003T170805Z
LAST-MODIFIED:20251003T170805Z
UID:10004097-1786356000-1786370400@discovergrace.us
SUMMARY:Sewing with Grace
DESCRIPTION:🧵 Sewing with Grace Ministry ✂️Join us for Sewing with Grace on the second Monday of each month\, 10:00 am – 2:00 pm at GMBC! This hands-on ministry creates practical items such as washable pads\, shorts\, dresses\, blankets\, and washcloths for those in need—most often sent to Uganda and Mexico\, but also shared locally when natural disasters strike. 🌍❤️ \nNo sewing experience is required! We need volunteers for sewing\, cutting\, ironing\, assembly\, crochet\, knitting\, and more. If you don’t know how to sew\, we’ll gladly teach you or help you find another way to serve. And while it’s often thought of as a “ladies’ ministry\,” men are welcome too—there’s a place for everyone to help! \nBring your lunch and enjoy a time of fellowship\, along with a short devotional and prayer time. We also welcome donated suitcases to help transport these items overseas. ✈️ \nCome use your hands—and your heart—to bless others in Jesus’ name!
URL:https://discovergrace.us/event/sewing-with-grace/2026-08-10/
LOCATION:Fellowship Hall
ATTACH;FMTTYPE=image/png:https://discovergrace.us/wp-content/uploads/2025/10/Sewing-with-Grace.png
END:VEVENT
BEGIN:VEVENT
DTSTART;TZID=America/Chicago:20260812T174500
DTEND;TZID=America/Chicago:20260812T183000
DTSTAMP:20260421T181408
CREATED:20250507T172655Z
LAST-MODIFIED:20251114T183920Z
UID:10003850-1786556700-1786559400@discovergrace.us
SUMMARY:Wednesday Night Dinner
DESCRIPTION:Join us for our Wednesday night activities! \nWe have our Fellowship Dinner at 5:45pm every Wednesday night – reservations required by the Monday before.
URL:https://discovergrace.us/event/wednesday-night-dinner/2026-08-12/
LOCATION:LA
ATTACH;FMTTYPE=image/png:https://discovergrace.us/wp-content/uploads/2025/05/Wednesday-night-meals-Presentation-19-scaled.png
END:VEVENT
BEGIN:VEVENT
DTSTART;TZID=America/Chicago:20260816T091500
DTEND;TZID=America/Chicago:20260816T101500
DTSTAMP:20260421T181408
CREATED:20251006T155902Z
LAST-MODIFIED:20251006T155902Z
UID:10004197-1786871700-1786875300@discovergrace.us
SUMMARY:Sunday School
DESCRIPTION:Grow in your faith and connect with others through our Sunday School ministry! We offer classes for all ages\, organized by age\, grade\, gender\, and/or life stage\, so everyone can find a place to belong and learn. Each class provides an opportunity to study God’s Word\, build relationships\, and grow together in Christ. Join us this Sunday at 9:15am—there’s a place for you!
URL:https://discovergrace.us/event/sunday-school/2026-08-16/
LOCATION:GMBC\, 58516 Pearl Acres Road\, Slidell\, LA\, 70461\, United States
ATTACH;FMTTYPE=image/png:https://discovergrace.us/wp-content/uploads/2025/10/Ann.-Slides-Sunday-School-scaled.png
END:VEVENT
BEGIN:VEVENT
DTSTART;TZID=America/Chicago:20260816T103000
DTEND;TZID=America/Chicago:20260816T120000
DTSTAMP:20260421T181408
CREATED:20251006T161036Z
LAST-MODIFIED:20260126T154234Z
UID:10004458-1786876200-1786881600@discovergrace.us
SUMMARY:Worship Service
DESCRIPTION:Join us each Sunday morning at 10:30am for a time of heartfelt worship\, biblical teaching\, and fellowship. Our worship services are centered on praising God\, studying His Word\, and growing together as a community of believers. Whether you’re new to Grace Memorial Baptist Church or have been attending for years\, you’ll find a warm welcome and an opportunity to encounter God’s presence in a meaningful way.
URL:https://discovergrace.us/event/worship-service/2026-08-16/
LOCATION:GMBC Sanctuary\, 58516 Pearl Acres Road\, Slidell\, 70461\, United States
ATTACH;FMTTYPE=image/png:https://discovergrace.us/wp-content/uploads/2025/10/Ann.-Slides-worship-with-us-scaled.png
END:VEVENT
BEGIN:VEVENT
DTSTART;TZID=America/Chicago:20260816T170000
DTEND;TZID=America/Chicago:20260816T180000
DTSTAMP:20260421T181408
CREATED:20260114T210541Z
LAST-MODIFIED:20260114T210806Z
UID:10003585-1786899600-1786903200@discovergrace.us
SUMMARY:Grace University
DESCRIPTION:Join us every Sunday night for Grace University a vibrant lineup of community activities! Engage in meaningful fellowship and growth with Women’s Groups\, Men’s Groups\, Kids Choir\, Preschool Choir\, Youth Discipleship\, and various other studies and activities. Discover a place where all ages thrive and deepen their faith together. Sundays at 5 PM\, there’s something for everyone at Grace U!
URL:https://discovergrace.us/event/grace-university-2/2026-08-16/
LOCATION:GMBC\, 58516 Pearl Acres Road\, Slidell\, LA\, 70461\, United States
ATTACH;FMTTYPE=image/png:https://discovergrace.us/wp-content/uploads/2024/03/Grace-U.png
END:VEVENT
BEGIN:VEVENT
DTSTART;TZID=America/Chicago:20260819T174500
DTEND;TZID=America/Chicago:20260819T183000
DTSTAMP:20260421T181408
CREATED:20250507T172655Z
LAST-MODIFIED:20251114T183920Z
UID:10003851-1787161500-1787164200@discovergrace.us
SUMMARY:Wednesday Night Dinner
DESCRIPTION:Join us for our Wednesday night activities! \nWe have our Fellowship Dinner at 5:45pm every Wednesday night – reservations required by the Monday before.
URL:https://discovergrace.us/event/wednesday-night-dinner/2026-08-19/
LOCATION:LA
ATTACH;FMTTYPE=image/png:https://discovergrace.us/wp-content/uploads/2025/05/Wednesday-night-meals-Presentation-19-scaled.png
END:VEVENT
END:VCALENDAR