BEGIN:VCALENDAR
VERSION:2.0
PRODID:-//Grace Memorial Baptist Church - ECPv6.15.20//NONSGML v1.0//EN
CALSCALE:GREGORIAN
METHOD:PUBLISH
X-WR-CALNAME:Grace Memorial Baptist Church
X-ORIGINAL-URL:https://discovergrace.us
X-WR-CALDESC:Events for Grace Memorial Baptist Church
REFRESH-INTERVAL;VALUE=DURATION:PT1H
X-Robots-Tag:noindex
X-PUBLISHED-TTL:PT1H
BEGIN:VTIMEZONE
TZID:America/Chicago
BEGIN:DAYLIGHT
TZOFFSETFROM:-0600
TZOFFSETTO:-0500
TZNAME:CDT
DTSTART:20250309T080000
END:DAYLIGHT
BEGIN:STANDARD
TZOFFSETFROM:-0500
TZOFFSETTO:-0600
TZNAME:CST
DTSTART:20251102T070000
END:STANDARD
BEGIN:DAYLIGHT
TZOFFSETFROM:-0600
TZOFFSETTO:-0500
TZNAME:CDT
DTSTART:20260308T080000
END:DAYLIGHT
BEGIN:STANDARD
TZOFFSETFROM:-0500
TZOFFSETTO:-0600
TZNAME:CST
DTSTART:20261101T070000
END:STANDARD
BEGIN:DAYLIGHT
TZOFFSETFROM:-0600
TZOFFSETTO:-0500
TZNAME:CDT
DTSTART:20270314T080000
END:DAYLIGHT
BEGIN:STANDARD
TZOFFSETFROM:-0500
TZOFFSETTO:-0600
TZNAME:CST
DTSTART:20271107T070000
END:STANDARD
END:VTIMEZONE
BEGIN:VEVENT
DTSTART;TZID=America/Chicago:20260531T170000
DTEND;TZID=America/Chicago:20260531T180000
DTSTAMP:20260421T143759
CREATED:20260114T210541Z
LAST-MODIFIED:20260114T210806Z
UID:10003574-1780246800-1780250400@discovergrace.us
SUMMARY:Grace University
DESCRIPTION:Join us every Sunday night for Grace University a vibrant lineup of community activities! Engage in meaningful fellowship and growth with Women’s Groups\, Men’s Groups\, Kids Choir\, Preschool Choir\, Youth Discipleship\, and various other studies and activities. Discover a place where all ages thrive and deepen their faith together. Sundays at 5 PM\, there’s something for everyone at Grace U!
URL:https://discovergrace.us/event/grace-university-2/2026-05-31/
LOCATION:GMBC\, 58516 Pearl Acres Road\, Slidell\, LA\, 70461\, United States
ATTACH;FMTTYPE=image/png:https://discovergrace.us/wp-content/uploads/2024/03/Grace-U.png
END:VEVENT
BEGIN:VEVENT
DTSTART;TZID=America/Chicago:20260603T174500
DTEND;TZID=America/Chicago:20260603T183000
DTSTAMP:20260421T143759
CREATED:20250507T172655Z
LAST-MODIFIED:20251114T183920Z
UID:10003840-1780508700-1780511400@discovergrace.us
SUMMARY:Wednesday Night Dinner
DESCRIPTION:Join us for our Wednesday night activities! \nWe have our Fellowship Dinner at 5:45pm every Wednesday night – reservations required by the Monday before.
URL:https://discovergrace.us/event/wednesday-night-dinner/2026-06-03/
LOCATION:LA
ATTACH;FMTTYPE=image/png:https://discovergrace.us/wp-content/uploads/2025/05/Wednesday-night-meals-Presentation-19-scaled.png
END:VEVENT
BEGIN:VEVENT
DTSTART;TZID=America/Chicago:20260607T091500
DTEND;TZID=America/Chicago:20260607T101500
DTSTAMP:20260421T143759
CREATED:20251006T155902Z
LAST-MODIFIED:20251006T155902Z
UID:10004187-1780823700-1780827300@discovergrace.us
SUMMARY:Sunday School
DESCRIPTION:Grow in your faith and connect with others through our Sunday School ministry! We offer classes for all ages\, organized by age\, grade\, gender\, and/or life stage\, so everyone can find a place to belong and learn. Each class provides an opportunity to study God’s Word\, build relationships\, and grow together in Christ. Join us this Sunday at 9:15am—there’s a place for you!
URL:https://discovergrace.us/event/sunday-school/2026-06-07/
LOCATION:GMBC\, 58516 Pearl Acres Road\, Slidell\, LA\, 70461\, United States
ATTACH;FMTTYPE=image/png:https://discovergrace.us/wp-content/uploads/2025/10/Ann.-Slides-Sunday-School-scaled.png
END:VEVENT
BEGIN:VEVENT
DTSTART;TZID=America/Chicago:20260607T103000
DTEND;TZID=America/Chicago:20260607T120000
DTSTAMP:20260421T143759
CREATED:20251006T161036Z
LAST-MODIFIED:20260126T154234Z
UID:10004448-1780828200-1780833600@discovergrace.us
SUMMARY:Worship Service
DESCRIPTION:Join us each Sunday morning at 10:30am for a time of heartfelt worship\, biblical teaching\, and fellowship. Our worship services are centered on praising God\, studying His Word\, and growing together as a community of believers. Whether you’re new to Grace Memorial Baptist Church or have been attending for years\, you’ll find a warm welcome and an opportunity to encounter God’s presence in a meaningful way.
URL:https://discovergrace.us/event/worship-service/2026-06-07/
LOCATION:GMBC Sanctuary\, 58516 Pearl Acres Road\, Slidell\, 70461\, United States
ATTACH;FMTTYPE=image/png:https://discovergrace.us/wp-content/uploads/2025/10/Ann.-Slides-worship-with-us-scaled.png
END:VEVENT
BEGIN:VEVENT
DTSTART;TZID=America/Chicago:20260607T170000
DTEND;TZID=America/Chicago:20260607T180000
DTSTAMP:20260421T143759
CREATED:20260114T210541Z
LAST-MODIFIED:20260114T210806Z
UID:10003575-1780851600-1780855200@discovergrace.us
SUMMARY:Grace University
DESCRIPTION:Join us every Sunday night for Grace University a vibrant lineup of community activities! Engage in meaningful fellowship and growth with Women’s Groups\, Men’s Groups\, Kids Choir\, Preschool Choir\, Youth Discipleship\, and various other studies and activities. Discover a place where all ages thrive and deepen their faith together. Sundays at 5 PM\, there’s something for everyone at Grace U!
URL:https://discovergrace.us/event/grace-university-2/2026-06-07/
LOCATION:GMBC\, 58516 Pearl Acres Road\, Slidell\, LA\, 70461\, United States
ATTACH;FMTTYPE=image/png:https://discovergrace.us/wp-content/uploads/2024/03/Grace-U.png
END:VEVENT
BEGIN:VEVENT
DTSTART;TZID=America/Chicago:20260608T100000
DTEND;TZID=America/Chicago:20260608T140000
DTSTAMP:20260421T143759
CREATED:20251003T170805Z
LAST-MODIFIED:20251003T170805Z
UID:10004095-1780912800-1780927200@discovergrace.us
SUMMARY:Sewing with Grace
DESCRIPTION:🧵 Sewing with Grace Ministry ✂️Join us for Sewing with Grace on the second Monday of each month\, 10:00 am – 2:00 pm at GMBC! This hands-on ministry creates practical items such as washable pads\, shorts\, dresses\, blankets\, and washcloths for those in need—most often sent to Uganda and Mexico\, but also shared locally when natural disasters strike. 🌍❤️ \nNo sewing experience is required! We need volunteers for sewing\, cutting\, ironing\, assembly\, crochet\, knitting\, and more. If you don’t know how to sew\, we’ll gladly teach you or help you find another way to serve. And while it’s often thought of as a “ladies’ ministry\,” men are welcome too—there’s a place for everyone to help! \nBring your lunch and enjoy a time of fellowship\, along with a short devotional and prayer time. We also welcome donated suitcases to help transport these items overseas. ✈️ \nCome use your hands—and your heart—to bless others in Jesus’ name!
URL:https://discovergrace.us/event/sewing-with-grace/2026-06-08/
LOCATION:Fellowship Hall
ATTACH;FMTTYPE=image/png:https://discovergrace.us/wp-content/uploads/2025/10/Sewing-with-Grace.png
END:VEVENT
BEGIN:VEVENT
DTSTART;TZID=America/Chicago:20260610T174500
DTEND;TZID=America/Chicago:20260610T183000
DTSTAMP:20260421T143759
CREATED:20250507T172655Z
LAST-MODIFIED:20251114T183920Z
UID:10003841-1781113500-1781116200@discovergrace.us
SUMMARY:Wednesday Night Dinner
DESCRIPTION:Join us for our Wednesday night activities! \nWe have our Fellowship Dinner at 5:45pm every Wednesday night – reservations required by the Monday before.
URL:https://discovergrace.us/event/wednesday-night-dinner/2026-06-10/
LOCATION:LA
ATTACH;FMTTYPE=image/png:https://discovergrace.us/wp-content/uploads/2025/05/Wednesday-night-meals-Presentation-19-scaled.png
END:VEVENT
BEGIN:VEVENT
DTSTART;TZID=America/Chicago:20260614T091500
DTEND;TZID=America/Chicago:20260614T101500
DTSTAMP:20260421T143759
CREATED:20251006T155902Z
LAST-MODIFIED:20251006T155902Z
UID:10004188-1781428500-1781432100@discovergrace.us
SUMMARY:Sunday School
DESCRIPTION:Grow in your faith and connect with others through our Sunday School ministry! We offer classes for all ages\, organized by age\, grade\, gender\, and/or life stage\, so everyone can find a place to belong and learn. Each class provides an opportunity to study God’s Word\, build relationships\, and grow together in Christ. Join us this Sunday at 9:15am—there’s a place for you!
URL:https://discovergrace.us/event/sunday-school/2026-06-14/
LOCATION:GMBC\, 58516 Pearl Acres Road\, Slidell\, LA\, 70461\, United States
ATTACH;FMTTYPE=image/png:https://discovergrace.us/wp-content/uploads/2025/10/Ann.-Slides-Sunday-School-scaled.png
END:VEVENT
BEGIN:VEVENT
DTSTART;TZID=America/Chicago:20260614T103000
DTEND;TZID=America/Chicago:20260614T120000
DTSTAMP:20260421T143759
CREATED:20251006T161036Z
LAST-MODIFIED:20260126T154234Z
UID:10004449-1781433000-1781438400@discovergrace.us
SUMMARY:Worship Service
DESCRIPTION:Join us each Sunday morning at 10:30am for a time of heartfelt worship\, biblical teaching\, and fellowship. Our worship services are centered on praising God\, studying His Word\, and growing together as a community of believers. Whether you’re new to Grace Memorial Baptist Church or have been attending for years\, you’ll find a warm welcome and an opportunity to encounter God’s presence in a meaningful way.
URL:https://discovergrace.us/event/worship-service/2026-06-14/
LOCATION:GMBC Sanctuary\, 58516 Pearl Acres Road\, Slidell\, 70461\, United States
ATTACH;FMTTYPE=image/png:https://discovergrace.us/wp-content/uploads/2025/10/Ann.-Slides-worship-with-us-scaled.png
END:VEVENT
BEGIN:VEVENT
DTSTART;TZID=America/Chicago:20260614T170000
DTEND;TZID=America/Chicago:20260614T180000
DTSTAMP:20260421T143759
CREATED:20260114T210541Z
LAST-MODIFIED:20260114T210806Z
UID:10003576-1781456400-1781460000@discovergrace.us
SUMMARY:Grace University
DESCRIPTION:Join us every Sunday night for Grace University a vibrant lineup of community activities! Engage in meaningful fellowship and growth with Women’s Groups\, Men’s Groups\, Kids Choir\, Preschool Choir\, Youth Discipleship\, and various other studies and activities. Discover a place where all ages thrive and deepen their faith together. Sundays at 5 PM\, there’s something for everyone at Grace U!
URL:https://discovergrace.us/event/grace-university-2/2026-06-14/
LOCATION:GMBC\, 58516 Pearl Acres Road\, Slidell\, LA\, 70461\, United States
ATTACH;FMTTYPE=image/png:https://discovergrace.us/wp-content/uploads/2024/03/Grace-U.png
END:VEVENT
BEGIN:VEVENT
DTSTART;TZID=America/Chicago:20260617T174500
DTEND;TZID=America/Chicago:20260617T183000
DTSTAMP:20260421T143759
CREATED:20250507T172655Z
LAST-MODIFIED:20251114T183920Z
UID:10003842-1781718300-1781721000@discovergrace.us
SUMMARY:Wednesday Night Dinner
DESCRIPTION:Join us for our Wednesday night activities! \nWe have our Fellowship Dinner at 5:45pm every Wednesday night – reservations required by the Monday before.
URL:https://discovergrace.us/event/wednesday-night-dinner/2026-06-17/
LOCATION:LA
ATTACH;FMTTYPE=image/png:https://discovergrace.us/wp-content/uploads/2025/05/Wednesday-night-meals-Presentation-19-scaled.png
END:VEVENT
BEGIN:VEVENT
DTSTART;TZID=America/Chicago:20260621T091500
DTEND;TZID=America/Chicago:20260621T101500
DTSTAMP:20260421T143759
CREATED:20251006T155902Z
LAST-MODIFIED:20251006T155902Z
UID:10004189-1782033300-1782036900@discovergrace.us
SUMMARY:Sunday School
DESCRIPTION:Grow in your faith and connect with others through our Sunday School ministry! We offer classes for all ages\, organized by age\, grade\, gender\, and/or life stage\, so everyone can find a place to belong and learn. Each class provides an opportunity to study God’s Word\, build relationships\, and grow together in Christ. Join us this Sunday at 9:15am—there’s a place for you!
URL:https://discovergrace.us/event/sunday-school/2026-06-21/
LOCATION:GMBC\, 58516 Pearl Acres Road\, Slidell\, LA\, 70461\, United States
ATTACH;FMTTYPE=image/png:https://discovergrace.us/wp-content/uploads/2025/10/Ann.-Slides-Sunday-School-scaled.png
END:VEVENT
BEGIN:VEVENT
DTSTART;TZID=America/Chicago:20260621T103000
DTEND;TZID=America/Chicago:20260621T120000
DTSTAMP:20260421T143759
CREATED:20251006T161036Z
LAST-MODIFIED:20260126T154234Z
UID:10004450-1782037800-1782043200@discovergrace.us
SUMMARY:Worship Service
DESCRIPTION:Join us each Sunday morning at 10:30am for a time of heartfelt worship\, biblical teaching\, and fellowship. Our worship services are centered on praising God\, studying His Word\, and growing together as a community of believers. Whether you’re new to Grace Memorial Baptist Church or have been attending for years\, you’ll find a warm welcome and an opportunity to encounter God’s presence in a meaningful way.
URL:https://discovergrace.us/event/worship-service/2026-06-21/
LOCATION:GMBC Sanctuary\, 58516 Pearl Acres Road\, Slidell\, 70461\, United States
ATTACH;FMTTYPE=image/png:https://discovergrace.us/wp-content/uploads/2025/10/Ann.-Slides-worship-with-us-scaled.png
END:VEVENT
BEGIN:VEVENT
DTSTART;TZID=America/Chicago:20260621T170000
DTEND;TZID=America/Chicago:20260621T180000
DTSTAMP:20260421T143759
CREATED:20260114T210541Z
LAST-MODIFIED:20260114T210806Z
UID:10003577-1782061200-1782064800@discovergrace.us
SUMMARY:Grace University
DESCRIPTION:Join us every Sunday night for Grace University a vibrant lineup of community activities! Engage in meaningful fellowship and growth with Women’s Groups\, Men’s Groups\, Kids Choir\, Preschool Choir\, Youth Discipleship\, and various other studies and activities. Discover a place where all ages thrive and deepen their faith together. Sundays at 5 PM\, there’s something for everyone at Grace U!
URL:https://discovergrace.us/event/grace-university-2/2026-06-21/
LOCATION:GMBC\, 58516 Pearl Acres Road\, Slidell\, LA\, 70461\, United States
ATTACH;FMTTYPE=image/png:https://discovergrace.us/wp-content/uploads/2024/03/Grace-U.png
END:VEVENT
BEGIN:VEVENT
DTSTART;TZID=America/Chicago:20260624T174500
DTEND;TZID=America/Chicago:20260624T183000
DTSTAMP:20260421T143759
CREATED:20250507T172655Z
LAST-MODIFIED:20251114T183920Z
UID:10003843-1782323100-1782325800@discovergrace.us
SUMMARY:Wednesday Night Dinner
DESCRIPTION:Join us for our Wednesday night activities! \nWe have our Fellowship Dinner at 5:45pm every Wednesday night – reservations required by the Monday before.
URL:https://discovergrace.us/event/wednesday-night-dinner/2026-06-24/
LOCATION:LA
ATTACH;FMTTYPE=image/png:https://discovergrace.us/wp-content/uploads/2025/05/Wednesday-night-meals-Presentation-19-scaled.png
END:VEVENT
BEGIN:VEVENT
DTSTART;TZID=America/Chicago:20260628T091500
DTEND;TZID=America/Chicago:20260628T101500
DTSTAMP:20260421T143759
CREATED:20251006T155902Z
LAST-MODIFIED:20251006T155902Z
UID:10004190-1782638100-1782641700@discovergrace.us
SUMMARY:Sunday School
DESCRIPTION:Grow in your faith and connect with others through our Sunday School ministry! We offer classes for all ages\, organized by age\, grade\, gender\, and/or life stage\, so everyone can find a place to belong and learn. Each class provides an opportunity to study God’s Word\, build relationships\, and grow together in Christ. Join us this Sunday at 9:15am—there’s a place for you!
URL:https://discovergrace.us/event/sunday-school/2026-06-28/
LOCATION:GMBC\, 58516 Pearl Acres Road\, Slidell\, LA\, 70461\, United States
ATTACH;FMTTYPE=image/png:https://discovergrace.us/wp-content/uploads/2025/10/Ann.-Slides-Sunday-School-scaled.png
END:VEVENT
BEGIN:VEVENT
DTSTART;TZID=America/Chicago:20260628T103000
DTEND;TZID=America/Chicago:20260628T120000
DTSTAMP:20260421T143759
CREATED:20251006T161036Z
LAST-MODIFIED:20260126T154234Z
UID:10004451-1782642600-1782648000@discovergrace.us
SUMMARY:Worship Service
DESCRIPTION:Join us each Sunday morning at 10:30am for a time of heartfelt worship\, biblical teaching\, and fellowship. Our worship services are centered on praising God\, studying His Word\, and growing together as a community of believers. Whether you’re new to Grace Memorial Baptist Church or have been attending for years\, you’ll find a warm welcome and an opportunity to encounter God’s presence in a meaningful way.
URL:https://discovergrace.us/event/worship-service/2026-06-28/
LOCATION:GMBC Sanctuary\, 58516 Pearl Acres Road\, Slidell\, 70461\, United States
ATTACH;FMTTYPE=image/png:https://discovergrace.us/wp-content/uploads/2025/10/Ann.-Slides-worship-with-us-scaled.png
END:VEVENT
BEGIN:VEVENT
DTSTART;TZID=America/Chicago:20260628T170000
DTEND;TZID=America/Chicago:20260628T180000
DTSTAMP:20260421T143759
CREATED:20260114T210541Z
LAST-MODIFIED:20260114T210806Z
UID:10003578-1782666000-1782669600@discovergrace.us
SUMMARY:Grace University
DESCRIPTION:Join us every Sunday night for Grace University a vibrant lineup of community activities! Engage in meaningful fellowship and growth with Women’s Groups\, Men’s Groups\, Kids Choir\, Preschool Choir\, Youth Discipleship\, and various other studies and activities. Discover a place where all ages thrive and deepen their faith together. Sundays at 5 PM\, there’s something for everyone at Grace U!
URL:https://discovergrace.us/event/grace-university-2/2026-06-28/
LOCATION:GMBC\, 58516 Pearl Acres Road\, Slidell\, LA\, 70461\, United States
ATTACH;FMTTYPE=image/png:https://discovergrace.us/wp-content/uploads/2024/03/Grace-U.png
END:VEVENT
BEGIN:VEVENT
DTSTART;VALUE=DATE:20260629
DTEND;VALUE=DATE:20260703
DTSTAMP:20260421T143759
CREATED:20260129T173240Z
LAST-MODIFIED:20260129T173240Z
UID:10004761-1782691200-1783036799@discovergrace.us
SUMMARY:Kids Camp 2026
DESCRIPTION:🏕️ Kids Camp at Tall Timbers — June 29 – July 2\nGet ready for a summer adventure your kids won’t forget! Grace Memorial Baptist Church is excited to send campers to Kids Camp at Tall Timbers Baptist Conference Center in Forest Hill\, LA\, June 29th – July 2nd. This Christ-centered camp is designed for children who have completed 2nd through 6th grade and features a fun mix of Bible study\, worship\, rec rotations\, age-group activities\, snacks\, meals\, and late-night fun in a safe\, encouraging environment! \n🌟 Limited Spots: Only 10 girls and 10 boys will be able to go\, so don’t wait!💵 Secure Your Spot: A $50 non-refundable deposit per child\, paid to Grace Memorial Baptist Church\, will reserve your camper’s place. \n📍 When: June 29 – July 2\, 2026📍 Where: Tall Timbers Baptist Conference Center — Forest Hill\, LA📍 Who: Kids who have completed 2nd–6th grade \nDon’t miss this chance for your child to grow in faith\, make new friends\, and create lifelong memories! \nRegister now by submitting your deposit to GMBC — spots are first-come\, first-served.
URL:https://discovergrace.us/event/kids-camp-2026/
LOCATION:Tall Timbers\, 10218 Hwy. 165 South\, Forest Hill\, LA\, 71430\, United States
ATTACH;FMTTYPE=image/png:https://discovergrace.us/wp-content/uploads/2026/01/2026-Kids-Camp-1030x539-1.png
END:VEVENT
BEGIN:VEVENT
DTSTART;TZID=America/Chicago:20260701T174500
DTEND;TZID=America/Chicago:20260701T183000
DTSTAMP:20260421T143759
CREATED:20250507T172655Z
LAST-MODIFIED:20251114T183920Z
UID:10003844-1782927900-1782930600@discovergrace.us
SUMMARY:Wednesday Night Dinner
DESCRIPTION:Join us for our Wednesday night activities! \nWe have our Fellowship Dinner at 5:45pm every Wednesday night – reservations required by the Monday before.
URL:https://discovergrace.us/event/wednesday-night-dinner/2026-07-01/
LOCATION:LA
ATTACH;FMTTYPE=image/png:https://discovergrace.us/wp-content/uploads/2025/05/Wednesday-night-meals-Presentation-19-scaled.png
END:VEVENT
BEGIN:VEVENT
DTSTART;TZID=America/Chicago:20260705T091500
DTEND;TZID=America/Chicago:20260705T101500
DTSTAMP:20260421T143759
CREATED:20251006T155902Z
LAST-MODIFIED:20251006T155902Z
UID:10004191-1783242900-1783246500@discovergrace.us
SUMMARY:Sunday School
DESCRIPTION:Grow in your faith and connect with others through our Sunday School ministry! We offer classes for all ages\, organized by age\, grade\, gender\, and/or life stage\, so everyone can find a place to belong and learn. Each class provides an opportunity to study God’s Word\, build relationships\, and grow together in Christ. Join us this Sunday at 9:15am—there’s a place for you!
URL:https://discovergrace.us/event/sunday-school/2026-07-05/
LOCATION:GMBC\, 58516 Pearl Acres Road\, Slidell\, LA\, 70461\, United States
ATTACH;FMTTYPE=image/png:https://discovergrace.us/wp-content/uploads/2025/10/Ann.-Slides-Sunday-School-scaled.png
END:VEVENT
BEGIN:VEVENT
DTSTART;TZID=America/Chicago:20260705T103000
DTEND;TZID=America/Chicago:20260705T120000
DTSTAMP:20260421T143759
CREATED:20251006T161036Z
LAST-MODIFIED:20260126T154234Z
UID:10004452-1783247400-1783252800@discovergrace.us
SUMMARY:Worship Service
DESCRIPTION:Join us each Sunday morning at 10:30am for a time of heartfelt worship\, biblical teaching\, and fellowship. Our worship services are centered on praising God\, studying His Word\, and growing together as a community of believers. Whether you’re new to Grace Memorial Baptist Church or have been attending for years\, you’ll find a warm welcome and an opportunity to encounter God’s presence in a meaningful way.
URL:https://discovergrace.us/event/worship-service/2026-07-05/
LOCATION:GMBC Sanctuary\, 58516 Pearl Acres Road\, Slidell\, 70461\, United States
ATTACH;FMTTYPE=image/png:https://discovergrace.us/wp-content/uploads/2025/10/Ann.-Slides-worship-with-us-scaled.png
END:VEVENT
BEGIN:VEVENT
DTSTART;TZID=America/Chicago:20260705T170000
DTEND;TZID=America/Chicago:20260705T180000
DTSTAMP:20260421T143759
CREATED:20260114T210541Z
LAST-MODIFIED:20260114T210806Z
UID:10003579-1783270800-1783274400@discovergrace.us
SUMMARY:Grace University
DESCRIPTION:Join us every Sunday night for Grace University a vibrant lineup of community activities! Engage in meaningful fellowship and growth with Women’s Groups\, Men’s Groups\, Kids Choir\, Preschool Choir\, Youth Discipleship\, and various other studies and activities. Discover a place where all ages thrive and deepen their faith together. Sundays at 5 PM\, there’s something for everyone at Grace U!
URL:https://discovergrace.us/event/grace-university-2/2026-07-05/
LOCATION:GMBC\, 58516 Pearl Acres Road\, Slidell\, LA\, 70461\, United States
ATTACH;FMTTYPE=image/png:https://discovergrace.us/wp-content/uploads/2024/03/Grace-U.png
END:VEVENT
BEGIN:VEVENT
DTSTART;TZID=America/Chicago:20260708T174500
DTEND;TZID=America/Chicago:20260708T183000
DTSTAMP:20260421T143759
CREATED:20250507T172655Z
LAST-MODIFIED:20251114T183920Z
UID:10003845-1783532700-1783535400@discovergrace.us
SUMMARY:Wednesday Night Dinner
DESCRIPTION:Join us for our Wednesday night activities! \nWe have our Fellowship Dinner at 5:45pm every Wednesday night – reservations required by the Monday before.
URL:https://discovergrace.us/event/wednesday-night-dinner/2026-07-08/
LOCATION:LA
ATTACH;FMTTYPE=image/png:https://discovergrace.us/wp-content/uploads/2025/05/Wednesday-night-meals-Presentation-19-scaled.png
END:VEVENT
BEGIN:VEVENT
DTSTART;TZID=America/Chicago:20260712T091500
DTEND;TZID=America/Chicago:20260712T101500
DTSTAMP:20260421T143759
CREATED:20251006T155902Z
LAST-MODIFIED:20251006T155902Z
UID:10004192-1783847700-1783851300@discovergrace.us
SUMMARY:Sunday School
DESCRIPTION:Grow in your faith and connect with others through our Sunday School ministry! We offer classes for all ages\, organized by age\, grade\, gender\, and/or life stage\, so everyone can find a place to belong and learn. Each class provides an opportunity to study God’s Word\, build relationships\, and grow together in Christ. Join us this Sunday at 9:15am—there’s a place for you!
URL:https://discovergrace.us/event/sunday-school/2026-07-12/
LOCATION:GMBC\, 58516 Pearl Acres Road\, Slidell\, LA\, 70461\, United States
ATTACH;FMTTYPE=image/png:https://discovergrace.us/wp-content/uploads/2025/10/Ann.-Slides-Sunday-School-scaled.png
END:VEVENT
BEGIN:VEVENT
DTSTART;TZID=America/Chicago:20260712T103000
DTEND;TZID=America/Chicago:20260712T120000
DTSTAMP:20260421T143759
CREATED:20251006T161036Z
LAST-MODIFIED:20260126T154234Z
UID:10004453-1783852200-1783857600@discovergrace.us
SUMMARY:Worship Service
DESCRIPTION:Join us each Sunday morning at 10:30am for a time of heartfelt worship\, biblical teaching\, and fellowship. Our worship services are centered on praising God\, studying His Word\, and growing together as a community of believers. Whether you’re new to Grace Memorial Baptist Church or have been attending for years\, you’ll find a warm welcome and an opportunity to encounter God’s presence in a meaningful way.
URL:https://discovergrace.us/event/worship-service/2026-07-12/
LOCATION:GMBC Sanctuary\, 58516 Pearl Acres Road\, Slidell\, 70461\, United States
ATTACH;FMTTYPE=image/png:https://discovergrace.us/wp-content/uploads/2025/10/Ann.-Slides-worship-with-us-scaled.png
END:VEVENT
BEGIN:VEVENT
DTSTART;TZID=America/Chicago:20260712T170000
DTEND;TZID=America/Chicago:20260712T180000
DTSTAMP:20260421T143759
CREATED:20260114T210541Z
LAST-MODIFIED:20260114T210806Z
UID:10003580-1783875600-1783879200@discovergrace.us
SUMMARY:Grace University
DESCRIPTION:Join us every Sunday night for Grace University a vibrant lineup of community activities! Engage in meaningful fellowship and growth with Women’s Groups\, Men’s Groups\, Kids Choir\, Preschool Choir\, Youth Discipleship\, and various other studies and activities. Discover a place where all ages thrive and deepen their faith together. Sundays at 5 PM\, there’s something for everyone at Grace U!
URL:https://discovergrace.us/event/grace-university-2/2026-07-12/
LOCATION:GMBC\, 58516 Pearl Acres Road\, Slidell\, LA\, 70461\, United States
ATTACH;FMTTYPE=image/png:https://discovergrace.us/wp-content/uploads/2024/03/Grace-U.png
END:VEVENT
BEGIN:VEVENT
DTSTART;TZID=America/Chicago:20260713T100000
DTEND;TZID=America/Chicago:20260713T140000
DTSTAMP:20260421T143759
CREATED:20251003T170805Z
LAST-MODIFIED:20251003T170805Z
UID:10004096-1783936800-1783951200@discovergrace.us
SUMMARY:Sewing with Grace
DESCRIPTION:🧵 Sewing with Grace Ministry ✂️Join us for Sewing with Grace on the second Monday of each month\, 10:00 am – 2:00 pm at GMBC! This hands-on ministry creates practical items such as washable pads\, shorts\, dresses\, blankets\, and washcloths for those in need—most often sent to Uganda and Mexico\, but also shared locally when natural disasters strike. 🌍❤️ \nNo sewing experience is required! We need volunteers for sewing\, cutting\, ironing\, assembly\, crochet\, knitting\, and more. If you don’t know how to sew\, we’ll gladly teach you or help you find another way to serve. And while it’s often thought of as a “ladies’ ministry\,” men are welcome too—there’s a place for everyone to help! \nBring your lunch and enjoy a time of fellowship\, along with a short devotional and prayer time. We also welcome donated suitcases to help transport these items overseas. ✈️ \nCome use your hands—and your heart—to bless others in Jesus’ name!
URL:https://discovergrace.us/event/sewing-with-grace/2026-07-13/
LOCATION:Fellowship Hall
ATTACH;FMTTYPE=image/png:https://discovergrace.us/wp-content/uploads/2025/10/Sewing-with-Grace.png
END:VEVENT
BEGIN:VEVENT
DTSTART;TZID=America/Chicago:20260715T174500
DTEND;TZID=America/Chicago:20260715T183000
DTSTAMP:20260421T143759
CREATED:20250507T172655Z
LAST-MODIFIED:20251114T183920Z
UID:10003846-1784137500-1784140200@discovergrace.us
SUMMARY:Wednesday Night Dinner
DESCRIPTION:Join us for our Wednesday night activities! \nWe have our Fellowship Dinner at 5:45pm every Wednesday night – reservations required by the Monday before.
URL:https://discovergrace.us/event/wednesday-night-dinner/2026-07-15/
LOCATION:LA
ATTACH;FMTTYPE=image/png:https://discovergrace.us/wp-content/uploads/2025/05/Wednesday-night-meals-Presentation-19-scaled.png
END:VEVENT
BEGIN:VEVENT
DTSTART;TZID=America/Chicago:20260719T091500
DTEND;TZID=America/Chicago:20260719T101500
DTSTAMP:20260421T143759
CREATED:20251006T155902Z
LAST-MODIFIED:20251006T155902Z
UID:10004193-1784452500-1784456100@discovergrace.us
SUMMARY:Sunday School
DESCRIPTION:Grow in your faith and connect with others through our Sunday School ministry! We offer classes for all ages\, organized by age\, grade\, gender\, and/or life stage\, so everyone can find a place to belong and learn. Each class provides an opportunity to study God’s Word\, build relationships\, and grow together in Christ. Join us this Sunday at 9:15am—there’s a place for you!
URL:https://discovergrace.us/event/sunday-school/2026-07-19/
LOCATION:GMBC\, 58516 Pearl Acres Road\, Slidell\, LA\, 70461\, United States
ATTACH;FMTTYPE=image/png:https://discovergrace.us/wp-content/uploads/2025/10/Ann.-Slides-Sunday-School-scaled.png
END:VEVENT
END:VCALENDAR