BEGIN:VCALENDAR
VERSION:2.0
PRODID:-//Grace Memorial Baptist Church - ECPv6.15.20//NONSGML v1.0//EN
CALSCALE:GREGORIAN
METHOD:PUBLISH
X-ORIGINAL-URL:https://discovergrace.us
X-WR-CALDESC:Events for Grace Memorial Baptist Church
REFRESH-INTERVAL;VALUE=DURATION:PT1H
X-Robots-Tag:noindex
X-PUBLISHED-TTL:PT1H
BEGIN:VTIMEZONE
TZID:America/Chicago
BEGIN:DAYLIGHT
TZOFFSETFROM:-0600
TZOFFSETTO:-0500
TZNAME:CDT
DTSTART:20260308T080000
END:DAYLIGHT
BEGIN:STANDARD
TZOFFSETFROM:-0500
TZOFFSETTO:-0600
TZNAME:CST
DTSTART:20261101T070000
END:STANDARD
BEGIN:DAYLIGHT
TZOFFSETFROM:-0600
TZOFFSETTO:-0500
TZNAME:CDT
DTSTART:20270314T080000
END:DAYLIGHT
BEGIN:STANDARD
TZOFFSETFROM:-0500
TZOFFSETTO:-0600
TZNAME:CST
DTSTART:20271107T070000
END:STANDARD
BEGIN:DAYLIGHT
TZOFFSETFROM:-0600
TZOFFSETTO:-0500
TZNAME:CDT
DTSTART:20280312T080000
END:DAYLIGHT
BEGIN:STANDARD
TZOFFSETFROM:-0500
TZOFFSETTO:-0600
TZNAME:CST
DTSTART:20281105T070000
END:STANDARD
END:VTIMEZONE
BEGIN:VEVENT
DTSTART;TZID=America/Chicago:20270822T170000
DTEND;TZID=America/Chicago:20270822T180000
DTSTAMP:20260423T054432
CREATED:20260114T210541Z
LAST-MODIFIED:20260114T210806Z
UID:10003638-1818954000-1818957600@discovergrace.us
SUMMARY:Grace University
DESCRIPTION:Join us every Sunday night for Grace University a vibrant lineup of community activities! Engage in meaningful fellowship and growth with Women’s Groups\, Men’s Groups\, Kids Choir\, Preschool Choir\, Youth Discipleship\, and various other studies and activities. Discover a place where all ages thrive and deepen their faith together. Sundays at 5 PM\, there’s something for everyone at Grace U!
URL:https://discovergrace.us/event/grace-university-2/2027-08-22/
LOCATION:GMBC\, 58516 Pearl Acres Road\, Slidell\, LA\, 70461\, United States
ATTACH;FMTTYPE=image/png:https://discovergrace.us/wp-content/uploads/2024/03/Grace-U.png
END:VEVENT
BEGIN:VEVENT
DTSTART;TZID=America/Chicago:20270825T174500
DTEND;TZID=America/Chicago:20270825T183000
DTSTAMP:20260423T054432
CREATED:20250507T172655Z
LAST-MODIFIED:20251114T183920Z
UID:10003904-1819215900-1819218600@discovergrace.us
SUMMARY:Wednesday Night Dinner
DESCRIPTION:Join us for our Wednesday night activities! \nWe have our Fellowship Dinner at 5:45pm every Wednesday night – reservations required by the Monday before.
URL:https://discovergrace.us/event/wednesday-night-dinner/2027-08-25/
ATTACH;FMTTYPE=image/png:https://discovergrace.us/wp-content/uploads/2025/05/Wednesday-night-meals-Presentation-19-scaled.png
END:VEVENT
BEGIN:VEVENT
DTSTART;TZID=America/Chicago:20270829T091500
DTEND;TZID=America/Chicago:20270829T101500
DTSTAMP:20260423T054432
CREATED:20251006T155902Z
LAST-MODIFIED:20251006T155902Z
UID:10004251-1819530900-1819534500@discovergrace.us
SUMMARY:Sunday School
DESCRIPTION:Grow in your faith and connect with others through our Sunday School ministry! We offer classes for all ages\, organized by age\, grade\, gender\, and/or life stage\, so everyone can find a place to belong and learn. Each class provides an opportunity to study God’s Word\, build relationships\, and grow together in Christ. Join us this Sunday at 9:15am—there’s a place for you!
URL:https://discovergrace.us/event/sunday-school/2027-08-29/
LOCATION:GMBC\, 58516 Pearl Acres Road\, Slidell\, LA\, 70461\, United States
ATTACH;FMTTYPE=image/png:https://discovergrace.us/wp-content/uploads/2025/10/Ann.-Slides-Sunday-School-scaled.png
END:VEVENT
BEGIN:VEVENT
DTSTART;TZID=America/Chicago:20270829T103000
DTEND;TZID=America/Chicago:20270829T120000
DTSTAMP:20260423T054432
CREATED:20251006T161036Z
LAST-MODIFIED:20260126T154234Z
UID:10004512-1819535400-1819540800@discovergrace.us
SUMMARY:Worship Service
DESCRIPTION:Join us each Sunday morning at 10:30am for a time of heartfelt worship\, biblical teaching\, and fellowship. Our worship services are centered on praising God\, studying His Word\, and growing together as a community of believers. Whether you’re new to Grace Memorial Baptist Church or have been attending for years\, you’ll find a warm welcome and an opportunity to encounter God’s presence in a meaningful way.
URL:https://discovergrace.us/event/worship-service/2027-08-29/
LOCATION:GMBC Sanctuary\, 58516 Pearl Acres Road\, Slidell\, 70461\, United States
ATTACH;FMTTYPE=image/png:https://discovergrace.us/wp-content/uploads/2025/10/Ann.-Slides-worship-with-us-scaled.png
END:VEVENT
BEGIN:VEVENT
DTSTART;TZID=America/Chicago:20270829T170000
DTEND;TZID=America/Chicago:20270829T180000
DTSTAMP:20260423T054432
CREATED:20260114T210541Z
LAST-MODIFIED:20260114T210806Z
UID:10003639-1819558800-1819562400@discovergrace.us
SUMMARY:Grace University
DESCRIPTION:Join us every Sunday night for Grace University a vibrant lineup of community activities! Engage in meaningful fellowship and growth with Women’s Groups\, Men’s Groups\, Kids Choir\, Preschool Choir\, Youth Discipleship\, and various other studies and activities. Discover a place where all ages thrive and deepen their faith together. Sundays at 5 PM\, there’s something for everyone at Grace U!
URL:https://discovergrace.us/event/grace-university-2/2027-08-29/
LOCATION:GMBC\, 58516 Pearl Acres Road\, Slidell\, LA\, 70461\, United States
ATTACH;FMTTYPE=image/png:https://discovergrace.us/wp-content/uploads/2024/03/Grace-U.png
END:VEVENT
BEGIN:VEVENT
DTSTART;TZID=America/Chicago:20270901T174500
DTEND;TZID=America/Chicago:20270901T183000
DTSTAMP:20260423T054432
CREATED:20250507T172655Z
LAST-MODIFIED:20251114T183920Z
UID:10003905-1819820700-1819823400@discovergrace.us
SUMMARY:Wednesday Night Dinner
DESCRIPTION:Join us for our Wednesday night activities! \nWe have our Fellowship Dinner at 5:45pm every Wednesday night – reservations required by the Monday before.
URL:https://discovergrace.us/event/wednesday-night-dinner/2027-09-01/
ATTACH;FMTTYPE=image/png:https://discovergrace.us/wp-content/uploads/2025/05/Wednesday-night-meals-Presentation-19-scaled.png
END:VEVENT
BEGIN:VEVENT
DTSTART;TZID=America/Chicago:20270905T091500
DTEND;TZID=America/Chicago:20270905T101500
DTSTAMP:20260423T054432
CREATED:20251006T155902Z
LAST-MODIFIED:20251006T155902Z
UID:10004252-1820135700-1820139300@discovergrace.us
SUMMARY:Sunday School
DESCRIPTION:Grow in your faith and connect with others through our Sunday School ministry! We offer classes for all ages\, organized by age\, grade\, gender\, and/or life stage\, so everyone can find a place to belong and learn. Each class provides an opportunity to study God’s Word\, build relationships\, and grow together in Christ. Join us this Sunday at 9:15am—there’s a place for you!
URL:https://discovergrace.us/event/sunday-school/2027-09-05/
LOCATION:GMBC\, 58516 Pearl Acres Road\, Slidell\, LA\, 70461\, United States
ATTACH;FMTTYPE=image/png:https://discovergrace.us/wp-content/uploads/2025/10/Ann.-Slides-Sunday-School-scaled.png
END:VEVENT
BEGIN:VEVENT
DTSTART;TZID=America/Chicago:20270905T103000
DTEND;TZID=America/Chicago:20270905T120000
DTSTAMP:20260423T054432
CREATED:20251006T161036Z
LAST-MODIFIED:20260126T154234Z
UID:10004513-1820140200-1820145600@discovergrace.us
SUMMARY:Worship Service
DESCRIPTION:Join us each Sunday morning at 10:30am for a time of heartfelt worship\, biblical teaching\, and fellowship. Our worship services are centered on praising God\, studying His Word\, and growing together as a community of believers. Whether you’re new to Grace Memorial Baptist Church or have been attending for years\, you’ll find a warm welcome and an opportunity to encounter God’s presence in a meaningful way.
URL:https://discovergrace.us/event/worship-service/2027-09-05/
LOCATION:GMBC Sanctuary\, 58516 Pearl Acres Road\, Slidell\, 70461\, United States
ATTACH;FMTTYPE=image/png:https://discovergrace.us/wp-content/uploads/2025/10/Ann.-Slides-worship-with-us-scaled.png
END:VEVENT
BEGIN:VEVENT
DTSTART;TZID=America/Chicago:20270905T170000
DTEND;TZID=America/Chicago:20270905T180000
DTSTAMP:20260423T054432
CREATED:20260114T210541Z
LAST-MODIFIED:20260114T210806Z
UID:10003640-1820163600-1820167200@discovergrace.us
SUMMARY:Grace University
DESCRIPTION:Join us every Sunday night for Grace University a vibrant lineup of community activities! Engage in meaningful fellowship and growth with Women’s Groups\, Men’s Groups\, Kids Choir\, Preschool Choir\, Youth Discipleship\, and various other studies and activities. Discover a place where all ages thrive and deepen their faith together. Sundays at 5 PM\, there’s something for everyone at Grace U!
URL:https://discovergrace.us/event/grace-university-2/2027-09-05/
LOCATION:GMBC\, 58516 Pearl Acres Road\, Slidell\, LA\, 70461\, United States
ATTACH;FMTTYPE=image/png:https://discovergrace.us/wp-content/uploads/2024/03/Grace-U.png
END:VEVENT
BEGIN:VEVENT
DTSTART;TZID=America/Chicago:20270908T174500
DTEND;TZID=America/Chicago:20270908T183000
DTSTAMP:20260423T054432
CREATED:20250507T172655Z
LAST-MODIFIED:20251114T183920Z
UID:10003906-1820425500-1820428200@discovergrace.us
SUMMARY:Wednesday Night Dinner
DESCRIPTION:Join us for our Wednesday night activities! \nWe have our Fellowship Dinner at 5:45pm every Wednesday night – reservations required by the Monday before.
URL:https://discovergrace.us/event/wednesday-night-dinner/2027-09-08/
ATTACH;FMTTYPE=image/png:https://discovergrace.us/wp-content/uploads/2025/05/Wednesday-night-meals-Presentation-19-scaled.png
END:VEVENT
BEGIN:VEVENT
DTSTART;TZID=America/Chicago:20270912T091500
DTEND;TZID=America/Chicago:20270912T101500
DTSTAMP:20260423T054432
CREATED:20251006T155902Z
LAST-MODIFIED:20251006T155902Z
UID:10004253-1820740500-1820744100@discovergrace.us
SUMMARY:Sunday School
DESCRIPTION:Grow in your faith and connect with others through our Sunday School ministry! We offer classes for all ages\, organized by age\, grade\, gender\, and/or life stage\, so everyone can find a place to belong and learn. Each class provides an opportunity to study God’s Word\, build relationships\, and grow together in Christ. Join us this Sunday at 9:15am—there’s a place for you!
URL:https://discovergrace.us/event/sunday-school/2027-09-12/
LOCATION:GMBC\, 58516 Pearl Acres Road\, Slidell\, LA\, 70461\, United States
ATTACH;FMTTYPE=image/png:https://discovergrace.us/wp-content/uploads/2025/10/Ann.-Slides-Sunday-School-scaled.png
END:VEVENT
BEGIN:VEVENT
DTSTART;TZID=America/Chicago:20270912T103000
DTEND;TZID=America/Chicago:20270912T120000
DTSTAMP:20260423T054432
CREATED:20251006T161036Z
LAST-MODIFIED:20260126T154234Z
UID:10004514-1820745000-1820750400@discovergrace.us
SUMMARY:Worship Service
DESCRIPTION:Join us each Sunday morning at 10:30am for a time of heartfelt worship\, biblical teaching\, and fellowship. Our worship services are centered on praising God\, studying His Word\, and growing together as a community of believers. Whether you’re new to Grace Memorial Baptist Church or have been attending for years\, you’ll find a warm welcome and an opportunity to encounter God’s presence in a meaningful way.
URL:https://discovergrace.us/event/worship-service/2027-09-12/
LOCATION:GMBC Sanctuary\, 58516 Pearl Acres Road\, Slidell\, 70461\, United States
ATTACH;FMTTYPE=image/png:https://discovergrace.us/wp-content/uploads/2025/10/Ann.-Slides-worship-with-us-scaled.png
END:VEVENT
BEGIN:VEVENT
DTSTART;TZID=America/Chicago:20270912T170000
DTEND;TZID=America/Chicago:20270912T180000
DTSTAMP:20260423T054432
CREATED:20260114T210541Z
LAST-MODIFIED:20260114T210806Z
UID:10003641-1820768400-1820772000@discovergrace.us
SUMMARY:Grace University
DESCRIPTION:Join us every Sunday night for Grace University a vibrant lineup of community activities! Engage in meaningful fellowship and growth with Women’s Groups\, Men’s Groups\, Kids Choir\, Preschool Choir\, Youth Discipleship\, and various other studies and activities. Discover a place where all ages thrive and deepen their faith together. Sundays at 5 PM\, there’s something for everyone at Grace U!
URL:https://discovergrace.us/event/grace-university-2/2027-09-12/
LOCATION:GMBC\, 58516 Pearl Acres Road\, Slidell\, LA\, 70461\, United States
ATTACH;FMTTYPE=image/png:https://discovergrace.us/wp-content/uploads/2024/03/Grace-U.png
END:VEVENT
BEGIN:VEVENT
DTSTART;TZID=America/Chicago:20270913T100000
DTEND;TZID=America/Chicago:20270913T140000
DTSTAMP:20260423T054432
CREATED:20251003T170805Z
LAST-MODIFIED:20251003T170805Z
UID:10004110-1820829600-1820844000@discovergrace.us
SUMMARY:Sewing with Grace
DESCRIPTION:🧵 Sewing with Grace Ministry ✂️Join us for Sewing with Grace on the second Monday of each month\, 10:00 am – 2:00 pm at GMBC! This hands-on ministry creates practical items such as washable pads\, shorts\, dresses\, blankets\, and washcloths for those in need—most often sent to Uganda and Mexico\, but also shared locally when natural disasters strike. 🌍❤️ \nNo sewing experience is required! We need volunteers for sewing\, cutting\, ironing\, assembly\, crochet\, knitting\, and more. If you don’t know how to sew\, we’ll gladly teach you or help you find another way to serve. And while it’s often thought of as a “ladies’ ministry\,” men are welcome too—there’s a place for everyone to help! \nBring your lunch and enjoy a time of fellowship\, along with a short devotional and prayer time. We also welcome donated suitcases to help transport these items overseas. ✈️ \nCome use your hands—and your heart—to bless others in Jesus’ name!
URL:https://discovergrace.us/event/sewing-with-grace/2027-09-13/
LOCATION:Fellowship Hall
ATTACH;FMTTYPE=image/png:https://discovergrace.us/wp-content/uploads/2025/10/Sewing-with-Grace.png
END:VEVENT
BEGIN:VEVENT
DTSTART;TZID=America/Chicago:20270915T174500
DTEND;TZID=America/Chicago:20270915T183000
DTSTAMP:20260423T054432
CREATED:20250507T172655Z
LAST-MODIFIED:20251114T183920Z
UID:10003907-1821030300-1821033000@discovergrace.us
SUMMARY:Wednesday Night Dinner
DESCRIPTION:Join us for our Wednesday night activities! \nWe have our Fellowship Dinner at 5:45pm every Wednesday night – reservations required by the Monday before.
URL:https://discovergrace.us/event/wednesday-night-dinner/2027-09-15/
ATTACH;FMTTYPE=image/png:https://discovergrace.us/wp-content/uploads/2025/05/Wednesday-night-meals-Presentation-19-scaled.png
END:VEVENT
BEGIN:VEVENT
DTSTART;TZID=America/Chicago:20270919T091500
DTEND;TZID=America/Chicago:20270919T101500
DTSTAMP:20260423T054432
CREATED:20251006T155902Z
LAST-MODIFIED:20251006T155902Z
UID:10004254-1821345300-1821348900@discovergrace.us
SUMMARY:Sunday School
DESCRIPTION:Grow in your faith and connect with others through our Sunday School ministry! We offer classes for all ages\, organized by age\, grade\, gender\, and/or life stage\, so everyone can find a place to belong and learn. Each class provides an opportunity to study God’s Word\, build relationships\, and grow together in Christ. Join us this Sunday at 9:15am—there’s a place for you!
URL:https://discovergrace.us/event/sunday-school/2027-09-19/
LOCATION:GMBC\, 58516 Pearl Acres Road\, Slidell\, LA\, 70461\, United States
ATTACH;FMTTYPE=image/png:https://discovergrace.us/wp-content/uploads/2025/10/Ann.-Slides-Sunday-School-scaled.png
END:VEVENT
BEGIN:VEVENT
DTSTART;TZID=America/Chicago:20270919T103000
DTEND;TZID=America/Chicago:20270919T120000
DTSTAMP:20260423T054432
CREATED:20251006T161036Z
LAST-MODIFIED:20260126T154234Z
UID:10004515-1821349800-1821355200@discovergrace.us
SUMMARY:Worship Service
DESCRIPTION:Join us each Sunday morning at 10:30am for a time of heartfelt worship\, biblical teaching\, and fellowship. Our worship services are centered on praising God\, studying His Word\, and growing together as a community of believers. Whether you’re new to Grace Memorial Baptist Church or have been attending for years\, you’ll find a warm welcome and an opportunity to encounter God’s presence in a meaningful way.
URL:https://discovergrace.us/event/worship-service/2027-09-19/
LOCATION:GMBC Sanctuary\, 58516 Pearl Acres Road\, Slidell\, 70461\, United States
ATTACH;FMTTYPE=image/png:https://discovergrace.us/wp-content/uploads/2025/10/Ann.-Slides-worship-with-us-scaled.png
END:VEVENT
BEGIN:VEVENT
DTSTART;TZID=America/Chicago:20270919T170000
DTEND;TZID=America/Chicago:20270919T180000
DTSTAMP:20260423T054432
CREATED:20260114T210541Z
LAST-MODIFIED:20260114T210806Z
UID:10003642-1821373200-1821376800@discovergrace.us
SUMMARY:Grace University
DESCRIPTION:Join us every Sunday night for Grace University a vibrant lineup of community activities! Engage in meaningful fellowship and growth with Women’s Groups\, Men’s Groups\, Kids Choir\, Preschool Choir\, Youth Discipleship\, and various other studies and activities. Discover a place where all ages thrive and deepen their faith together. Sundays at 5 PM\, there’s something for everyone at Grace U!
URL:https://discovergrace.us/event/grace-university-2/2027-09-19/
LOCATION:GMBC\, 58516 Pearl Acres Road\, Slidell\, LA\, 70461\, United States
ATTACH;FMTTYPE=image/png:https://discovergrace.us/wp-content/uploads/2024/03/Grace-U.png
END:VEVENT
BEGIN:VEVENT
DTSTART;TZID=America/Chicago:20270922T174500
DTEND;TZID=America/Chicago:20270922T183000
DTSTAMP:20260423T054432
CREATED:20250507T172655Z
LAST-MODIFIED:20251114T183920Z
UID:10003908-1821635100-1821637800@discovergrace.us
SUMMARY:Wednesday Night Dinner
DESCRIPTION:Join us for our Wednesday night activities! \nWe have our Fellowship Dinner at 5:45pm every Wednesday night – reservations required by the Monday before.
URL:https://discovergrace.us/event/wednesday-night-dinner/2027-09-22/
ATTACH;FMTTYPE=image/png:https://discovergrace.us/wp-content/uploads/2025/05/Wednesday-night-meals-Presentation-19-scaled.png
END:VEVENT
BEGIN:VEVENT
DTSTART;TZID=America/Chicago:20270926T091500
DTEND;TZID=America/Chicago:20270926T101500
DTSTAMP:20260423T054432
CREATED:20251006T155902Z
LAST-MODIFIED:20251006T155902Z
UID:10004255-1821950100-1821953700@discovergrace.us
SUMMARY:Sunday School
DESCRIPTION:Grow in your faith and connect with others through our Sunday School ministry! We offer classes for all ages\, organized by age\, grade\, gender\, and/or life stage\, so everyone can find a place to belong and learn. Each class provides an opportunity to study God’s Word\, build relationships\, and grow together in Christ. Join us this Sunday at 9:15am—there’s a place for you!
URL:https://discovergrace.us/event/sunday-school/2027-09-26/
LOCATION:GMBC\, 58516 Pearl Acres Road\, Slidell\, LA\, 70461\, United States
ATTACH;FMTTYPE=image/png:https://discovergrace.us/wp-content/uploads/2025/10/Ann.-Slides-Sunday-School-scaled.png
END:VEVENT
BEGIN:VEVENT
DTSTART;TZID=America/Chicago:20270926T103000
DTEND;TZID=America/Chicago:20270926T120000
DTSTAMP:20260423T054432
CREATED:20251006T161036Z
LAST-MODIFIED:20260126T154234Z
UID:10004516-1821954600-1821960000@discovergrace.us
SUMMARY:Worship Service
DESCRIPTION:Join us each Sunday morning at 10:30am for a time of heartfelt worship\, biblical teaching\, and fellowship. Our worship services are centered on praising God\, studying His Word\, and growing together as a community of believers. Whether you’re new to Grace Memorial Baptist Church or have been attending for years\, you’ll find a warm welcome and an opportunity to encounter God’s presence in a meaningful way.
URL:https://discovergrace.us/event/worship-service/2027-09-26/
LOCATION:GMBC Sanctuary\, 58516 Pearl Acres Road\, Slidell\, 70461\, United States
ATTACH;FMTTYPE=image/png:https://discovergrace.us/wp-content/uploads/2025/10/Ann.-Slides-worship-with-us-scaled.png
END:VEVENT
BEGIN:VEVENT
DTSTART;TZID=America/Chicago:20270926T170000
DTEND;TZID=America/Chicago:20270926T180000
DTSTAMP:20260423T054432
CREATED:20260114T210541Z
LAST-MODIFIED:20260114T210806Z
UID:10003643-1821978000-1821981600@discovergrace.us
SUMMARY:Grace University
DESCRIPTION:Join us every Sunday night for Grace University a vibrant lineup of community activities! Engage in meaningful fellowship and growth with Women’s Groups\, Men’s Groups\, Kids Choir\, Preschool Choir\, Youth Discipleship\, and various other studies and activities. Discover a place where all ages thrive and deepen their faith together. Sundays at 5 PM\, there’s something for everyone at Grace U!
URL:https://discovergrace.us/event/grace-university-2/2027-09-26/
LOCATION:GMBC\, 58516 Pearl Acres Road\, Slidell\, LA\, 70461\, United States
ATTACH;FMTTYPE=image/png:https://discovergrace.us/wp-content/uploads/2024/03/Grace-U.png
END:VEVENT
BEGIN:VEVENT
DTSTART;TZID=America/Chicago:20270929T174500
DTEND;TZID=America/Chicago:20270929T183000
DTSTAMP:20260423T054432
CREATED:20250507T172655Z
LAST-MODIFIED:20251114T183920Z
UID:10003909-1822239900-1822242600@discovergrace.us
SUMMARY:Wednesday Night Dinner
DESCRIPTION:Join us for our Wednesday night activities! \nWe have our Fellowship Dinner at 5:45pm every Wednesday night – reservations required by the Monday before.
URL:https://discovergrace.us/event/wednesday-night-dinner/2027-09-29/
ATTACH;FMTTYPE=image/png:https://discovergrace.us/wp-content/uploads/2025/05/Wednesday-night-meals-Presentation-19-scaled.png
END:VEVENT
BEGIN:VEVENT
DTSTART;TZID=America/Chicago:20271003T091500
DTEND;TZID=America/Chicago:20271003T101500
DTSTAMP:20260423T054432
CREATED:20251006T155902Z
LAST-MODIFIED:20251006T155902Z
UID:10004256-1822554900-1822558500@discovergrace.us
SUMMARY:Sunday School
DESCRIPTION:Grow in your faith and connect with others through our Sunday School ministry! We offer classes for all ages\, organized by age\, grade\, gender\, and/or life stage\, so everyone can find a place to belong and learn. Each class provides an opportunity to study God’s Word\, build relationships\, and grow together in Christ. Join us this Sunday at 9:15am—there’s a place for you!
URL:https://discovergrace.us/event/sunday-school/2027-10-03/
LOCATION:GMBC\, 58516 Pearl Acres Road\, Slidell\, LA\, 70461\, United States
ATTACH;FMTTYPE=image/png:https://discovergrace.us/wp-content/uploads/2025/10/Ann.-Slides-Sunday-School-scaled.png
END:VEVENT
BEGIN:VEVENT
DTSTART;TZID=America/Chicago:20271003T103000
DTEND;TZID=America/Chicago:20271003T120000
DTSTAMP:20260423T054432
CREATED:20251006T161036Z
LAST-MODIFIED:20260126T154234Z
UID:10004517-1822559400-1822564800@discovergrace.us
SUMMARY:Worship Service
DESCRIPTION:Join us each Sunday morning at 10:30am for a time of heartfelt worship\, biblical teaching\, and fellowship. Our worship services are centered on praising God\, studying His Word\, and growing together as a community of believers. Whether you’re new to Grace Memorial Baptist Church or have been attending for years\, you’ll find a warm welcome and an opportunity to encounter God’s presence in a meaningful way.
URL:https://discovergrace.us/event/worship-service/2027-10-03/
LOCATION:GMBC Sanctuary\, 58516 Pearl Acres Road\, Slidell\, 70461\, United States
ATTACH;FMTTYPE=image/png:https://discovergrace.us/wp-content/uploads/2025/10/Ann.-Slides-worship-with-us-scaled.png
END:VEVENT
BEGIN:VEVENT
DTSTART;TZID=America/Chicago:20271003T170000
DTEND;TZID=America/Chicago:20271003T180000
DTSTAMP:20260423T054432
CREATED:20260114T210541Z
LAST-MODIFIED:20260114T210806Z
UID:10003644-1822582800-1822586400@discovergrace.us
SUMMARY:Grace University
DESCRIPTION:Join us every Sunday night for Grace University a vibrant lineup of community activities! Engage in meaningful fellowship and growth with Women’s Groups\, Men’s Groups\, Kids Choir\, Preschool Choir\, Youth Discipleship\, and various other studies and activities. Discover a place where all ages thrive and deepen their faith together. Sundays at 5 PM\, there’s something for everyone at Grace U!
URL:https://discovergrace.us/event/grace-university-2/2027-10-03/
LOCATION:GMBC\, 58516 Pearl Acres Road\, Slidell\, LA\, 70461\, United States
ATTACH;FMTTYPE=image/png:https://discovergrace.us/wp-content/uploads/2024/03/Grace-U.png
END:VEVENT
BEGIN:VEVENT
DTSTART;TZID=America/Chicago:20271006T174500
DTEND;TZID=America/Chicago:20271006T183000
DTSTAMP:20260423T054432
CREATED:20250507T172655Z
LAST-MODIFIED:20251114T183920Z
UID:10003910-1822844700-1822847400@discovergrace.us
SUMMARY:Wednesday Night Dinner
DESCRIPTION:Join us for our Wednesday night activities! \nWe have our Fellowship Dinner at 5:45pm every Wednesday night – reservations required by the Monday before.
URL:https://discovergrace.us/event/wednesday-night-dinner/2027-10-06/
ATTACH;FMTTYPE=image/png:https://discovergrace.us/wp-content/uploads/2025/05/Wednesday-night-meals-Presentation-19-scaled.png
END:VEVENT
BEGIN:VEVENT
DTSTART;TZID=America/Chicago:20271010T091500
DTEND;TZID=America/Chicago:20271010T101500
DTSTAMP:20260423T054432
CREATED:20251006T155902Z
LAST-MODIFIED:20251006T155902Z
UID:10004257-1823159700-1823163300@discovergrace.us
SUMMARY:Sunday School
DESCRIPTION:Grow in your faith and connect with others through our Sunday School ministry! We offer classes for all ages\, organized by age\, grade\, gender\, and/or life stage\, so everyone can find a place to belong and learn. Each class provides an opportunity to study God’s Word\, build relationships\, and grow together in Christ. Join us this Sunday at 9:15am—there’s a place for you!
URL:https://discovergrace.us/event/sunday-school/2027-10-10/
LOCATION:GMBC\, 58516 Pearl Acres Road\, Slidell\, LA\, 70461\, United States
ATTACH;FMTTYPE=image/png:https://discovergrace.us/wp-content/uploads/2025/10/Ann.-Slides-Sunday-School-scaled.png
END:VEVENT
BEGIN:VEVENT
DTSTART;TZID=America/Chicago:20271010T103000
DTEND;TZID=America/Chicago:20271010T120000
DTSTAMP:20260423T054432
CREATED:20251006T161036Z
LAST-MODIFIED:20260126T154234Z
UID:10004518-1823164200-1823169600@discovergrace.us
SUMMARY:Worship Service
DESCRIPTION:Join us each Sunday morning at 10:30am for a time of heartfelt worship\, biblical teaching\, and fellowship. Our worship services are centered on praising God\, studying His Word\, and growing together as a community of believers. Whether you’re new to Grace Memorial Baptist Church or have been attending for years\, you’ll find a warm welcome and an opportunity to encounter God’s presence in a meaningful way.
URL:https://discovergrace.us/event/worship-service/2027-10-10/
LOCATION:GMBC Sanctuary\, 58516 Pearl Acres Road\, Slidell\, 70461\, United States
ATTACH;FMTTYPE=image/png:https://discovergrace.us/wp-content/uploads/2025/10/Ann.-Slides-worship-with-us-scaled.png
END:VEVENT
BEGIN:VEVENT
DTSTART;TZID=America/Chicago:20271010T170000
DTEND;TZID=America/Chicago:20271010T180000
DTSTAMP:20260423T054432
CREATED:20260114T210541Z
LAST-MODIFIED:20260114T210806Z
UID:10003645-1823187600-1823191200@discovergrace.us
SUMMARY:Grace University
DESCRIPTION:Join us every Sunday night for Grace University a vibrant lineup of community activities! Engage in meaningful fellowship and growth with Women’s Groups\, Men’s Groups\, Kids Choir\, Preschool Choir\, Youth Discipleship\, and various other studies and activities. Discover a place where all ages thrive and deepen their faith together. Sundays at 5 PM\, there’s something for everyone at Grace U!
URL:https://discovergrace.us/event/grace-university-2/2027-10-10/
LOCATION:GMBC\, 58516 Pearl Acres Road\, Slidell\, LA\, 70461\, United States
ATTACH;FMTTYPE=image/png:https://discovergrace.us/wp-content/uploads/2024/03/Grace-U.png
END:VEVENT
END:VCALENDAR