BEGIN:VCALENDAR
VERSION:2.0
PRODID:-//Grace Memorial Baptist Church - ECPv6.15.20//NONSGML v1.0//EN
CALSCALE:GREGORIAN
METHOD:PUBLISH
X-WR-CALNAME:Grace Memorial Baptist Church
X-ORIGINAL-URL:https://discovergrace.us
X-WR-CALDESC:Events for Grace Memorial Baptist Church
REFRESH-INTERVAL;VALUE=DURATION:PT1H
X-Robots-Tag:noindex
X-PUBLISHED-TTL:PT1H
BEGIN:VTIMEZONE
TZID:America/Chicago
BEGIN:DAYLIGHT
TZOFFSETFROM:-0600
TZOFFSETTO:-0500
TZNAME:CDT
DTSTART:20260308T080000
END:DAYLIGHT
BEGIN:STANDARD
TZOFFSETFROM:-0500
TZOFFSETTO:-0600
TZNAME:CST
DTSTART:20261101T070000
END:STANDARD
BEGIN:DAYLIGHT
TZOFFSETFROM:-0600
TZOFFSETTO:-0500
TZNAME:CDT
DTSTART:20270314T080000
END:DAYLIGHT
BEGIN:STANDARD
TZOFFSETFROM:-0500
TZOFFSETTO:-0600
TZNAME:CST
DTSTART:20271107T070000
END:STANDARD
BEGIN:DAYLIGHT
TZOFFSETFROM:-0600
TZOFFSETTO:-0500
TZNAME:CDT
DTSTART:20280312T080000
END:DAYLIGHT
BEGIN:STANDARD
TZOFFSETFROM:-0500
TZOFFSETTO:-0600
TZNAME:CST
DTSTART:20281105T070000
END:STANDARD
END:VTIMEZONE
BEGIN:VEVENT
DTSTART;TZID=America/Chicago:20270307T091500
DTEND;TZID=America/Chicago:20270307T101500
DTSTAMP:20260422T165700
CREATED:20251006T155902Z
LAST-MODIFIED:20251006T155902Z
UID:10004226-1804410900-1804414500@discovergrace.us
SUMMARY:Sunday School
DESCRIPTION:Grow in your faith and connect with others through our Sunday School ministry! We offer classes for all ages\, organized by age\, grade\, gender\, and/or life stage\, so everyone can find a place to belong and learn. Each class provides an opportunity to study God’s Word\, build relationships\, and grow together in Christ. Join us this Sunday at 9:15am—there’s a place for you!
URL:https://discovergrace.us/event/sunday-school/2027-03-07/
LOCATION:GMBC\, 58516 Pearl Acres Road\, Slidell\, LA\, 70461\, United States
ATTACH;FMTTYPE=image/png:https://discovergrace.us/wp-content/uploads/2025/10/Ann.-Slides-Sunday-School-scaled.png
END:VEVENT
BEGIN:VEVENT
DTSTART;TZID=America/Chicago:20270307T103000
DTEND;TZID=America/Chicago:20270307T120000
DTSTAMP:20260422T165700
CREATED:20251006T161036Z
LAST-MODIFIED:20260126T154234Z
UID:10004487-1804415400-1804420800@discovergrace.us
SUMMARY:Worship Service
DESCRIPTION:Join us each Sunday morning at 10:30am for a time of heartfelt worship\, biblical teaching\, and fellowship. Our worship services are centered on praising God\, studying His Word\, and growing together as a community of believers. Whether you’re new to Grace Memorial Baptist Church or have been attending for years\, you’ll find a warm welcome and an opportunity to encounter God’s presence in a meaningful way.
URL:https://discovergrace.us/event/worship-service/2027-03-07/
LOCATION:GMBC Sanctuary\, 58516 Pearl Acres Road\, Slidell\, 70461\, United States
ATTACH;FMTTYPE=image/png:https://discovergrace.us/wp-content/uploads/2025/10/Ann.-Slides-worship-with-us-scaled.png
END:VEVENT
BEGIN:VEVENT
DTSTART;TZID=America/Chicago:20270307T170000
DTEND;TZID=America/Chicago:20270307T180000
DTSTAMP:20260422T165700
CREATED:20260114T210541Z
LAST-MODIFIED:20260114T210806Z
UID:10003614-1804438800-1804442400@discovergrace.us
SUMMARY:Grace University
DESCRIPTION:Join us every Sunday night for Grace University a vibrant lineup of community activities! Engage in meaningful fellowship and growth with Women’s Groups\, Men’s Groups\, Kids Choir\, Preschool Choir\, Youth Discipleship\, and various other studies and activities. Discover a place where all ages thrive and deepen their faith together. Sundays at 5 PM\, there’s something for everyone at Grace U!
URL:https://discovergrace.us/event/grace-university-2/2027-03-07/
LOCATION:GMBC\, 58516 Pearl Acres Road\, Slidell\, LA\, 70461\, United States
ATTACH;FMTTYPE=image/png:https://discovergrace.us/wp-content/uploads/2024/03/Grace-U.png
END:VEVENT
BEGIN:VEVENT
DTSTART;TZID=America/Chicago:20270308T100000
DTEND;TZID=America/Chicago:20270308T140000
DTSTAMP:20260422T165700
CREATED:20251003T170805Z
LAST-MODIFIED:20251003T170805Z
UID:10004104-1804500000-1804514400@discovergrace.us
SUMMARY:Sewing with Grace
DESCRIPTION:🧵 Sewing with Grace Ministry ✂️Join us for Sewing with Grace on the second Monday of each month\, 10:00 am – 2:00 pm at GMBC! This hands-on ministry creates practical items such as washable pads\, shorts\, dresses\, blankets\, and washcloths for those in need—most often sent to Uganda and Mexico\, but also shared locally when natural disasters strike. 🌍❤️ \nNo sewing experience is required! We need volunteers for sewing\, cutting\, ironing\, assembly\, crochet\, knitting\, and more. If you don’t know how to sew\, we’ll gladly teach you or help you find another way to serve. And while it’s often thought of as a “ladies’ ministry\,” men are welcome too—there’s a place for everyone to help! \nBring your lunch and enjoy a time of fellowship\, along with a short devotional and prayer time. We also welcome donated suitcases to help transport these items overseas. ✈️ \nCome use your hands—and your heart—to bless others in Jesus’ name!
URL:https://discovergrace.us/event/sewing-with-grace/2027-03-08/
LOCATION:Fellowship Hall
ATTACH;FMTTYPE=image/png:https://discovergrace.us/wp-content/uploads/2025/10/Sewing-with-Grace.png
END:VEVENT
BEGIN:VEVENT
DTSTART;TZID=America/Chicago:20270310T174500
DTEND;TZID=America/Chicago:20270310T183000
DTSTAMP:20260422T165700
CREATED:20250507T172655Z
LAST-MODIFIED:20251114T183920Z
UID:10003880-1804700700-1804703400@discovergrace.us
SUMMARY:Wednesday Night Dinner
DESCRIPTION:Join us for our Wednesday night activities! \nWe have our Fellowship Dinner at 5:45pm every Wednesday night – reservations required by the Monday before.
URL:https://discovergrace.us/event/wednesday-night-dinner/2027-03-10/
LOCATION:LA
ATTACH;FMTTYPE=image/png:https://discovergrace.us/wp-content/uploads/2025/05/Wednesday-night-meals-Presentation-19-scaled.png
END:VEVENT
BEGIN:VEVENT
DTSTART;TZID=America/Chicago:20270314T091500
DTEND;TZID=America/Chicago:20270314T101500
DTSTAMP:20260422T165700
CREATED:20251006T155902Z
LAST-MODIFIED:20251006T155902Z
UID:10004227-1805015700-1805019300@discovergrace.us
SUMMARY:Sunday School
DESCRIPTION:Grow in your faith and connect with others through our Sunday School ministry! We offer classes for all ages\, organized by age\, grade\, gender\, and/or life stage\, so everyone can find a place to belong and learn. Each class provides an opportunity to study God’s Word\, build relationships\, and grow together in Christ. Join us this Sunday at 9:15am—there’s a place for you!
URL:https://discovergrace.us/event/sunday-school/2027-03-14/
LOCATION:GMBC\, 58516 Pearl Acres Road\, Slidell\, LA\, 70461\, United States
ATTACH;FMTTYPE=image/png:https://discovergrace.us/wp-content/uploads/2025/10/Ann.-Slides-Sunday-School-scaled.png
END:VEVENT
BEGIN:VEVENT
DTSTART;TZID=America/Chicago:20270314T103000
DTEND;TZID=America/Chicago:20270314T120000
DTSTAMP:20260422T165700
CREATED:20251006T161036Z
LAST-MODIFIED:20260126T154234Z
UID:10004488-1805020200-1805025600@discovergrace.us
SUMMARY:Worship Service
DESCRIPTION:Join us each Sunday morning at 10:30am for a time of heartfelt worship\, biblical teaching\, and fellowship. Our worship services are centered on praising God\, studying His Word\, and growing together as a community of believers. Whether you’re new to Grace Memorial Baptist Church or have been attending for years\, you’ll find a warm welcome and an opportunity to encounter God’s presence in a meaningful way.
URL:https://discovergrace.us/event/worship-service/2027-03-14/
LOCATION:GMBC Sanctuary\, 58516 Pearl Acres Road\, Slidell\, 70461\, United States
ATTACH;FMTTYPE=image/png:https://discovergrace.us/wp-content/uploads/2025/10/Ann.-Slides-worship-with-us-scaled.png
END:VEVENT
BEGIN:VEVENT
DTSTART;TZID=America/Chicago:20270314T170000
DTEND;TZID=America/Chicago:20270314T180000
DTSTAMP:20260422T165700
CREATED:20260114T210541Z
LAST-MODIFIED:20260114T210806Z
UID:10003615-1805043600-1805047200@discovergrace.us
SUMMARY:Grace University
DESCRIPTION:Join us every Sunday night for Grace University a vibrant lineup of community activities! Engage in meaningful fellowship and growth with Women’s Groups\, Men’s Groups\, Kids Choir\, Preschool Choir\, Youth Discipleship\, and various other studies and activities. Discover a place where all ages thrive and deepen their faith together. Sundays at 5 PM\, there’s something for everyone at Grace U!
URL:https://discovergrace.us/event/grace-university-2/2027-03-14/
LOCATION:GMBC\, 58516 Pearl Acres Road\, Slidell\, LA\, 70461\, United States
ATTACH;FMTTYPE=image/png:https://discovergrace.us/wp-content/uploads/2024/03/Grace-U.png
END:VEVENT
BEGIN:VEVENT
DTSTART;TZID=America/Chicago:20270317T174500
DTEND;TZID=America/Chicago:20270317T183000
DTSTAMP:20260422T165700
CREATED:20250507T172655Z
LAST-MODIFIED:20251114T183920Z
UID:10003881-1805305500-1805308200@discovergrace.us
SUMMARY:Wednesday Night Dinner
DESCRIPTION:Join us for our Wednesday night activities! \nWe have our Fellowship Dinner at 5:45pm every Wednesday night – reservations required by the Monday before.
URL:https://discovergrace.us/event/wednesday-night-dinner/2027-03-17/
LOCATION:LA
ATTACH;FMTTYPE=image/png:https://discovergrace.us/wp-content/uploads/2025/05/Wednesday-night-meals-Presentation-19-scaled.png
END:VEVENT
BEGIN:VEVENT
DTSTART;TZID=America/Chicago:20270321T091500
DTEND;TZID=America/Chicago:20270321T101500
DTSTAMP:20260422T165700
CREATED:20251006T155902Z
LAST-MODIFIED:20251006T155902Z
UID:10004228-1805620500-1805624100@discovergrace.us
SUMMARY:Sunday School
DESCRIPTION:Grow in your faith and connect with others through our Sunday School ministry! We offer classes for all ages\, organized by age\, grade\, gender\, and/or life stage\, so everyone can find a place to belong and learn. Each class provides an opportunity to study God’s Word\, build relationships\, and grow together in Christ. Join us this Sunday at 9:15am—there’s a place for you!
URL:https://discovergrace.us/event/sunday-school/2027-03-21/
LOCATION:GMBC\, 58516 Pearl Acres Road\, Slidell\, LA\, 70461\, United States
ATTACH;FMTTYPE=image/png:https://discovergrace.us/wp-content/uploads/2025/10/Ann.-Slides-Sunday-School-scaled.png
END:VEVENT
BEGIN:VEVENT
DTSTART;TZID=America/Chicago:20270321T103000
DTEND;TZID=America/Chicago:20270321T120000
DTSTAMP:20260422T165700
CREATED:20251006T161036Z
LAST-MODIFIED:20260126T154234Z
UID:10004489-1805625000-1805630400@discovergrace.us
SUMMARY:Worship Service
DESCRIPTION:Join us each Sunday morning at 10:30am for a time of heartfelt worship\, biblical teaching\, and fellowship. Our worship services are centered on praising God\, studying His Word\, and growing together as a community of believers. Whether you’re new to Grace Memorial Baptist Church or have been attending for years\, you’ll find a warm welcome and an opportunity to encounter God’s presence in a meaningful way.
URL:https://discovergrace.us/event/worship-service/2027-03-21/
LOCATION:GMBC Sanctuary\, 58516 Pearl Acres Road\, Slidell\, 70461\, United States
ATTACH;FMTTYPE=image/png:https://discovergrace.us/wp-content/uploads/2025/10/Ann.-Slides-worship-with-us-scaled.png
END:VEVENT
BEGIN:VEVENT
DTSTART;TZID=America/Chicago:20270321T170000
DTEND;TZID=America/Chicago:20270321T180000
DTSTAMP:20260422T165700
CREATED:20260114T210541Z
LAST-MODIFIED:20260114T210806Z
UID:10003616-1805648400-1805652000@discovergrace.us
SUMMARY:Grace University
DESCRIPTION:Join us every Sunday night for Grace University a vibrant lineup of community activities! Engage in meaningful fellowship and growth with Women’s Groups\, Men’s Groups\, Kids Choir\, Preschool Choir\, Youth Discipleship\, and various other studies and activities. Discover a place where all ages thrive and deepen their faith together. Sundays at 5 PM\, there’s something for everyone at Grace U!
URL:https://discovergrace.us/event/grace-university-2/2027-03-21/
LOCATION:GMBC\, 58516 Pearl Acres Road\, Slidell\, LA\, 70461\, United States
ATTACH;FMTTYPE=image/png:https://discovergrace.us/wp-content/uploads/2024/03/Grace-U.png
END:VEVENT
BEGIN:VEVENT
DTSTART;TZID=America/Chicago:20270324T174500
DTEND;TZID=America/Chicago:20270324T183000
DTSTAMP:20260422T165700
CREATED:20250507T172655Z
LAST-MODIFIED:20251114T183920Z
UID:10003882-1805910300-1805913000@discovergrace.us
SUMMARY:Wednesday Night Dinner
DESCRIPTION:Join us for our Wednesday night activities! \nWe have our Fellowship Dinner at 5:45pm every Wednesday night – reservations required by the Monday before.
URL:https://discovergrace.us/event/wednesday-night-dinner/2027-03-24/
LOCATION:LA
ATTACH;FMTTYPE=image/png:https://discovergrace.us/wp-content/uploads/2025/05/Wednesday-night-meals-Presentation-19-scaled.png
END:VEVENT
BEGIN:VEVENT
DTSTART;TZID=America/Chicago:20270328T091500
DTEND;TZID=America/Chicago:20270328T101500
DTSTAMP:20260422T165700
CREATED:20251006T155902Z
LAST-MODIFIED:20251006T155902Z
UID:10004229-1806225300-1806228900@discovergrace.us
SUMMARY:Sunday School
DESCRIPTION:Grow in your faith and connect with others through our Sunday School ministry! We offer classes for all ages\, organized by age\, grade\, gender\, and/or life stage\, so everyone can find a place to belong and learn. Each class provides an opportunity to study God’s Word\, build relationships\, and grow together in Christ. Join us this Sunday at 9:15am—there’s a place for you!
URL:https://discovergrace.us/event/sunday-school/2027-03-28/
LOCATION:GMBC\, 58516 Pearl Acres Road\, Slidell\, LA\, 70461\, United States
ATTACH;FMTTYPE=image/png:https://discovergrace.us/wp-content/uploads/2025/10/Ann.-Slides-Sunday-School-scaled.png
END:VEVENT
BEGIN:VEVENT
DTSTART;TZID=America/Chicago:20270328T103000
DTEND;TZID=America/Chicago:20270328T120000
DTSTAMP:20260422T165700
CREATED:20251006T161036Z
LAST-MODIFIED:20260126T154234Z
UID:10004490-1806229800-1806235200@discovergrace.us
SUMMARY:Worship Service
DESCRIPTION:Join us each Sunday morning at 10:30am for a time of heartfelt worship\, biblical teaching\, and fellowship. Our worship services are centered on praising God\, studying His Word\, and growing together as a community of believers. Whether you’re new to Grace Memorial Baptist Church or have been attending for years\, you’ll find a warm welcome and an opportunity to encounter God’s presence in a meaningful way.
URL:https://discovergrace.us/event/worship-service/2027-03-28/
LOCATION:GMBC Sanctuary\, 58516 Pearl Acres Road\, Slidell\, 70461\, United States
ATTACH;FMTTYPE=image/png:https://discovergrace.us/wp-content/uploads/2025/10/Ann.-Slides-worship-with-us-scaled.png
END:VEVENT
BEGIN:VEVENT
DTSTART;TZID=America/Chicago:20270328T170000
DTEND;TZID=America/Chicago:20270328T180000
DTSTAMP:20260422T165700
CREATED:20260114T210541Z
LAST-MODIFIED:20260114T210806Z
UID:10003617-1806253200-1806256800@discovergrace.us
SUMMARY:Grace University
DESCRIPTION:Join us every Sunday night for Grace University a vibrant lineup of community activities! Engage in meaningful fellowship and growth with Women’s Groups\, Men’s Groups\, Kids Choir\, Preschool Choir\, Youth Discipleship\, and various other studies and activities. Discover a place where all ages thrive and deepen their faith together. Sundays at 5 PM\, there’s something for everyone at Grace U!
URL:https://discovergrace.us/event/grace-university-2/2027-03-28/
LOCATION:GMBC\, 58516 Pearl Acres Road\, Slidell\, LA\, 70461\, United States
ATTACH;FMTTYPE=image/png:https://discovergrace.us/wp-content/uploads/2024/03/Grace-U.png
END:VEVENT
BEGIN:VEVENT
DTSTART;TZID=America/Chicago:20270331T174500
DTEND;TZID=America/Chicago:20270331T183000
DTSTAMP:20260422T165700
CREATED:20250507T172655Z
LAST-MODIFIED:20251114T183920Z
UID:10003883-1806515100-1806517800@discovergrace.us
SUMMARY:Wednesday Night Dinner
DESCRIPTION:Join us for our Wednesday night activities! \nWe have our Fellowship Dinner at 5:45pm every Wednesday night – reservations required by the Monday before.
URL:https://discovergrace.us/event/wednesday-night-dinner/2027-03-31/
LOCATION:LA
ATTACH;FMTTYPE=image/png:https://discovergrace.us/wp-content/uploads/2025/05/Wednesday-night-meals-Presentation-19-scaled.png
END:VEVENT
BEGIN:VEVENT
DTSTART;TZID=America/Chicago:20270404T091500
DTEND;TZID=America/Chicago:20270404T101500
DTSTAMP:20260422T165700
CREATED:20251006T155902Z
LAST-MODIFIED:20251006T155902Z
UID:10004230-1806830100-1806833700@discovergrace.us
SUMMARY:Sunday School
DESCRIPTION:Grow in your faith and connect with others through our Sunday School ministry! We offer classes for all ages\, organized by age\, grade\, gender\, and/or life stage\, so everyone can find a place to belong and learn. Each class provides an opportunity to study God’s Word\, build relationships\, and grow together in Christ. Join us this Sunday at 9:15am—there’s a place for you!
URL:https://discovergrace.us/event/sunday-school/2027-04-04/
LOCATION:GMBC\, 58516 Pearl Acres Road\, Slidell\, LA\, 70461\, United States
ATTACH;FMTTYPE=image/png:https://discovergrace.us/wp-content/uploads/2025/10/Ann.-Slides-Sunday-School-scaled.png
END:VEVENT
BEGIN:VEVENT
DTSTART;TZID=America/Chicago:20270404T103000
DTEND;TZID=America/Chicago:20270404T120000
DTSTAMP:20260422T165700
CREATED:20251006T161036Z
LAST-MODIFIED:20260126T154234Z
UID:10004491-1806834600-1806840000@discovergrace.us
SUMMARY:Worship Service
DESCRIPTION:Join us each Sunday morning at 10:30am for a time of heartfelt worship\, biblical teaching\, and fellowship. Our worship services are centered on praising God\, studying His Word\, and growing together as a community of believers. Whether you’re new to Grace Memorial Baptist Church or have been attending for years\, you’ll find a warm welcome and an opportunity to encounter God’s presence in a meaningful way.
URL:https://discovergrace.us/event/worship-service/2027-04-04/
LOCATION:GMBC Sanctuary\, 58516 Pearl Acres Road\, Slidell\, 70461\, United States
ATTACH;FMTTYPE=image/png:https://discovergrace.us/wp-content/uploads/2025/10/Ann.-Slides-worship-with-us-scaled.png
END:VEVENT
BEGIN:VEVENT
DTSTART;TZID=America/Chicago:20270404T170000
DTEND;TZID=America/Chicago:20270404T180000
DTSTAMP:20260422T165700
CREATED:20260114T210541Z
LAST-MODIFIED:20260114T210806Z
UID:10003618-1806858000-1806861600@discovergrace.us
SUMMARY:Grace University
DESCRIPTION:Join us every Sunday night for Grace University a vibrant lineup of community activities! Engage in meaningful fellowship and growth with Women’s Groups\, Men’s Groups\, Kids Choir\, Preschool Choir\, Youth Discipleship\, and various other studies and activities. Discover a place where all ages thrive and deepen their faith together. Sundays at 5 PM\, there’s something for everyone at Grace U!
URL:https://discovergrace.us/event/grace-university-2/2027-04-04/
LOCATION:GMBC\, 58516 Pearl Acres Road\, Slidell\, LA\, 70461\, United States
ATTACH;FMTTYPE=image/png:https://discovergrace.us/wp-content/uploads/2024/03/Grace-U.png
END:VEVENT
BEGIN:VEVENT
DTSTART;TZID=America/Chicago:20270407T174500
DTEND;TZID=America/Chicago:20270407T183000
DTSTAMP:20260422T165700
CREATED:20250507T172655Z
LAST-MODIFIED:20251114T183920Z
UID:10003884-1807119900-1807122600@discovergrace.us
SUMMARY:Wednesday Night Dinner
DESCRIPTION:Join us for our Wednesday night activities! \nWe have our Fellowship Dinner at 5:45pm every Wednesday night – reservations required by the Monday before.
URL:https://discovergrace.us/event/wednesday-night-dinner/2027-04-07/
LOCATION:LA
ATTACH;FMTTYPE=image/png:https://discovergrace.us/wp-content/uploads/2025/05/Wednesday-night-meals-Presentation-19-scaled.png
END:VEVENT
BEGIN:VEVENT
DTSTART;TZID=America/Chicago:20270411T091500
DTEND;TZID=America/Chicago:20270411T101500
DTSTAMP:20260422T165700
CREATED:20251006T155902Z
LAST-MODIFIED:20251006T155902Z
UID:10004231-1807434900-1807438500@discovergrace.us
SUMMARY:Sunday School
DESCRIPTION:Grow in your faith and connect with others through our Sunday School ministry! We offer classes for all ages\, organized by age\, grade\, gender\, and/or life stage\, so everyone can find a place to belong and learn. Each class provides an opportunity to study God’s Word\, build relationships\, and grow together in Christ. Join us this Sunday at 9:15am—there’s a place for you!
URL:https://discovergrace.us/event/sunday-school/2027-04-11/
LOCATION:GMBC\, 58516 Pearl Acres Road\, Slidell\, LA\, 70461\, United States
ATTACH;FMTTYPE=image/png:https://discovergrace.us/wp-content/uploads/2025/10/Ann.-Slides-Sunday-School-scaled.png
END:VEVENT
BEGIN:VEVENT
DTSTART;TZID=America/Chicago:20270411T103000
DTEND;TZID=America/Chicago:20270411T120000
DTSTAMP:20260422T165700
CREATED:20251006T161036Z
LAST-MODIFIED:20260126T154234Z
UID:10004492-1807439400-1807444800@discovergrace.us
SUMMARY:Worship Service
DESCRIPTION:Join us each Sunday morning at 10:30am for a time of heartfelt worship\, biblical teaching\, and fellowship. Our worship services are centered on praising God\, studying His Word\, and growing together as a community of believers. Whether you’re new to Grace Memorial Baptist Church or have been attending for years\, you’ll find a warm welcome and an opportunity to encounter God’s presence in a meaningful way.
URL:https://discovergrace.us/event/worship-service/2027-04-11/
LOCATION:GMBC Sanctuary\, 58516 Pearl Acres Road\, Slidell\, 70461\, United States
ATTACH;FMTTYPE=image/png:https://discovergrace.us/wp-content/uploads/2025/10/Ann.-Slides-worship-with-us-scaled.png
END:VEVENT
BEGIN:VEVENT
DTSTART;TZID=America/Chicago:20270411T170000
DTEND;TZID=America/Chicago:20270411T180000
DTSTAMP:20260422T165700
CREATED:20260114T210541Z
LAST-MODIFIED:20260114T210806Z
UID:10003619-1807462800-1807466400@discovergrace.us
SUMMARY:Grace University
DESCRIPTION:Join us every Sunday night for Grace University a vibrant lineup of community activities! Engage in meaningful fellowship and growth with Women’s Groups\, Men’s Groups\, Kids Choir\, Preschool Choir\, Youth Discipleship\, and various other studies and activities. Discover a place where all ages thrive and deepen their faith together. Sundays at 5 PM\, there’s something for everyone at Grace U!
URL:https://discovergrace.us/event/grace-university-2/2027-04-11/
LOCATION:GMBC\, 58516 Pearl Acres Road\, Slidell\, LA\, 70461\, United States
ATTACH;FMTTYPE=image/png:https://discovergrace.us/wp-content/uploads/2024/03/Grace-U.png
END:VEVENT
BEGIN:VEVENT
DTSTART;TZID=America/Chicago:20270412T100000
DTEND;TZID=America/Chicago:20270412T140000
DTSTAMP:20260422T165700
CREATED:20251003T170805Z
LAST-MODIFIED:20251003T170805Z
UID:10004105-1807524000-1807538400@discovergrace.us
SUMMARY:Sewing with Grace
DESCRIPTION:🧵 Sewing with Grace Ministry ✂️Join us for Sewing with Grace on the second Monday of each month\, 10:00 am – 2:00 pm at GMBC! This hands-on ministry creates practical items such as washable pads\, shorts\, dresses\, blankets\, and washcloths for those in need—most often sent to Uganda and Mexico\, but also shared locally when natural disasters strike. 🌍❤️ \nNo sewing experience is required! We need volunteers for sewing\, cutting\, ironing\, assembly\, crochet\, knitting\, and more. If you don’t know how to sew\, we’ll gladly teach you or help you find another way to serve. And while it’s often thought of as a “ladies’ ministry\,” men are welcome too—there’s a place for everyone to help! \nBring your lunch and enjoy a time of fellowship\, along with a short devotional and prayer time. We also welcome donated suitcases to help transport these items overseas. ✈️ \nCome use your hands—and your heart—to bless others in Jesus’ name!
URL:https://discovergrace.us/event/sewing-with-grace/2027-04-12/
LOCATION:Fellowship Hall
ATTACH;FMTTYPE=image/png:https://discovergrace.us/wp-content/uploads/2025/10/Sewing-with-Grace.png
END:VEVENT
BEGIN:VEVENT
DTSTART;TZID=America/Chicago:20270414T174500
DTEND;TZID=America/Chicago:20270414T183000
DTSTAMP:20260422T165700
CREATED:20250507T172655Z
LAST-MODIFIED:20251114T183920Z
UID:10003885-1807724700-1807727400@discovergrace.us
SUMMARY:Wednesday Night Dinner
DESCRIPTION:Join us for our Wednesday night activities! \nWe have our Fellowship Dinner at 5:45pm every Wednesday night – reservations required by the Monday before.
URL:https://discovergrace.us/event/wednesday-night-dinner/2027-04-14/
LOCATION:LA
ATTACH;FMTTYPE=image/png:https://discovergrace.us/wp-content/uploads/2025/05/Wednesday-night-meals-Presentation-19-scaled.png
END:VEVENT
BEGIN:VEVENT
DTSTART;TZID=America/Chicago:20270418T091500
DTEND;TZID=America/Chicago:20270418T101500
DTSTAMP:20260422T165700
CREATED:20251006T155902Z
LAST-MODIFIED:20251006T155902Z
UID:10004232-1808039700-1808043300@discovergrace.us
SUMMARY:Sunday School
DESCRIPTION:Grow in your faith and connect with others through our Sunday School ministry! We offer classes for all ages\, organized by age\, grade\, gender\, and/or life stage\, so everyone can find a place to belong and learn. Each class provides an opportunity to study God’s Word\, build relationships\, and grow together in Christ. Join us this Sunday at 9:15am—there’s a place for you!
URL:https://discovergrace.us/event/sunday-school/2027-04-18/
LOCATION:GMBC\, 58516 Pearl Acres Road\, Slidell\, LA\, 70461\, United States
ATTACH;FMTTYPE=image/png:https://discovergrace.us/wp-content/uploads/2025/10/Ann.-Slides-Sunday-School-scaled.png
END:VEVENT
BEGIN:VEVENT
DTSTART;TZID=America/Chicago:20270418T103000
DTEND;TZID=America/Chicago:20270418T120000
DTSTAMP:20260422T165700
CREATED:20251006T161036Z
LAST-MODIFIED:20260126T154234Z
UID:10004493-1808044200-1808049600@discovergrace.us
SUMMARY:Worship Service
DESCRIPTION:Join us each Sunday morning at 10:30am for a time of heartfelt worship\, biblical teaching\, and fellowship. Our worship services are centered on praising God\, studying His Word\, and growing together as a community of believers. Whether you’re new to Grace Memorial Baptist Church or have been attending for years\, you’ll find a warm welcome and an opportunity to encounter God’s presence in a meaningful way.
URL:https://discovergrace.us/event/worship-service/2027-04-18/
LOCATION:GMBC Sanctuary\, 58516 Pearl Acres Road\, Slidell\, 70461\, United States
ATTACH;FMTTYPE=image/png:https://discovergrace.us/wp-content/uploads/2025/10/Ann.-Slides-worship-with-us-scaled.png
END:VEVENT
BEGIN:VEVENT
DTSTART;TZID=America/Chicago:20270418T170000
DTEND;TZID=America/Chicago:20270418T180000
DTSTAMP:20260422T165700
CREATED:20260114T210541Z
LAST-MODIFIED:20260114T210806Z
UID:10003620-1808067600-1808071200@discovergrace.us
SUMMARY:Grace University
DESCRIPTION:Join us every Sunday night for Grace University a vibrant lineup of community activities! Engage in meaningful fellowship and growth with Women’s Groups\, Men’s Groups\, Kids Choir\, Preschool Choir\, Youth Discipleship\, and various other studies and activities. Discover a place where all ages thrive and deepen their faith together. Sundays at 5 PM\, there’s something for everyone at Grace U!
URL:https://discovergrace.us/event/grace-university-2/2027-04-18/
LOCATION:GMBC\, 58516 Pearl Acres Road\, Slidell\, LA\, 70461\, United States
ATTACH;FMTTYPE=image/png:https://discovergrace.us/wp-content/uploads/2024/03/Grace-U.png
END:VEVENT
BEGIN:VEVENT
DTSTART;TZID=America/Chicago:20270421T174500
DTEND;TZID=America/Chicago:20270421T183000
DTSTAMP:20260422T165700
CREATED:20250507T172655Z
LAST-MODIFIED:20251114T183920Z
UID:10003886-1808329500-1808332200@discovergrace.us
SUMMARY:Wednesday Night Dinner
DESCRIPTION:Join us for our Wednesday night activities! \nWe have our Fellowship Dinner at 5:45pm every Wednesday night – reservations required by the Monday before.
URL:https://discovergrace.us/event/wednesday-night-dinner/2027-04-21/
LOCATION:LA
ATTACH;FMTTYPE=image/png:https://discovergrace.us/wp-content/uploads/2025/05/Wednesday-night-meals-Presentation-19-scaled.png
END:VEVENT
END:VCALENDAR