BEGIN:VCALENDAR
VERSION:2.0
PRODID:-//Grace Memorial Baptist Church - ECPv6.15.20//NONSGML v1.0//EN
CALSCALE:GREGORIAN
METHOD:PUBLISH
X-WR-CALNAME:Grace Memorial Baptist Church
X-ORIGINAL-URL:https://discovergrace.us
X-WR-CALDESC:Events for Grace Memorial Baptist Church
REFRESH-INTERVAL;VALUE=DURATION:PT1H
X-Robots-Tag:noindex
X-PUBLISHED-TTL:PT1H
BEGIN:VTIMEZONE
TZID:America/Chicago
BEGIN:DAYLIGHT
TZOFFSETFROM:-0600
TZOFFSETTO:-0500
TZNAME:CDT
DTSTART:20240310T080000
END:DAYLIGHT
BEGIN:STANDARD
TZOFFSETFROM:-0500
TZOFFSETTO:-0600
TZNAME:CST
DTSTART:20241103T070000
END:STANDARD
BEGIN:DAYLIGHT
TZOFFSETFROM:-0600
TZOFFSETTO:-0500
TZNAME:CDT
DTSTART:20250309T080000
END:DAYLIGHT
BEGIN:STANDARD
TZOFFSETFROM:-0500
TZOFFSETTO:-0600
TZNAME:CST
DTSTART:20251102T070000
END:STANDARD
BEGIN:DAYLIGHT
TZOFFSETFROM:-0600
TZOFFSETTO:-0500
TZNAME:CDT
DTSTART:20260308T080000
END:DAYLIGHT
BEGIN:STANDARD
TZOFFSETFROM:-0500
TZOFFSETTO:-0600
TZNAME:CST
DTSTART:20261101T070000
END:STANDARD
END:VTIMEZONE
BEGIN:VEVENT
DTSTART;TZID=America/Chicago:20250514T174500
DTEND;TZID=America/Chicago:20250514T183000
DTSTAMP:20260422T063954
CREATED:20250507T172655Z
LAST-MODIFIED:20251114T183920Z
UID:10003785-1747244700-1747247400@discovergrace.us
SUMMARY:Wednesday Night Dinner
DESCRIPTION:Join us for our Wednesday night activities! \nWe have our Fellowship Dinner at 5:45pm every Wednesday night – reservations required by the Monday before.
URL:https://discovergrace.us/event/wednesday-night-dinner/2025-05-14/
LOCATION:LA
ATTACH;FMTTYPE=image/png:https://discovergrace.us/wp-content/uploads/2025/05/Wednesday-night-meals-Presentation-19-scaled.png
END:VEVENT
BEGIN:VEVENT
DTSTART;VALUE=DATE:20250511
DTEND;VALUE=DATE:20250512
DTSTAMP:20260422T063954
CREATED:20250507T201541Z
LAST-MODIFIED:20250507T201541Z
UID:10004045-1746921600-1747007999@discovergrace.us
SUMMARY:Mother's Day
DESCRIPTION:No evening activites
URL:https://discovergrace.us/event/mothers-day/
LOCATION:LA
ATTACH;FMTTYPE=image/png:https://discovergrace.us/wp-content/uploads/2025/05/Announcement-Slides-moms-day.png
END:VEVENT
BEGIN:VEVENT
DTSTART;TZID=America/Chicago:20250507T174500
DTEND;TZID=America/Chicago:20250507T183000
DTSTAMP:20260422T063954
CREATED:20250507T172655Z
LAST-MODIFIED:20251114T183920Z
UID:10003784-1746639900-1746642600@discovergrace.us
SUMMARY:Wednesday Night Dinner
DESCRIPTION:Join us for our Wednesday night activities! \nWe have our Fellowship Dinner at 5:45pm every Wednesday night – reservations required by the Monday before.
URL:https://discovergrace.us/event/wednesday-night-dinner/2025-05-07/
LOCATION:LA
ATTACH;FMTTYPE=image/png:https://discovergrace.us/wp-content/uploads/2025/05/Wednesday-night-meals-Presentation-19-scaled.png
END:VEVENT
BEGIN:VEVENT
DTSTART;TZID=America/Chicago:20250504T170000
DTEND;TZID=America/Chicago:20250504T180000
DTSTAMP:20260422T063954
CREATED:20250428T154144Z
LAST-MODIFIED:20251114T184108Z
UID:10003518-1746378000-1746381600@discovergrace.us
SUMMARY:Grace University
DESCRIPTION:Join us every Sunday night for Grace University a vibrant lineup of community activities! Engage in meaningful fellowship and growth with Women’s Groups\, Men’s Groups\, Kids Choir\, Preschool Choir\, Youth Discipleship\, and various other studies and activities. Discover a place where all ages thrive and deepen their faith together. Sundays at 5 PM\, there’s something for everyone at Grace U!
URL:https://discovergrace.us/event/grace-university/2025-05-04/
LOCATION:GMBC\, 58516 Pearl Acres Road\, Slidell\, LA\, 70461\, United States
ATTACH;FMTTYPE=image/png:https://discovergrace.us/wp-content/uploads/2024/03/Grace-U.png
END:VEVENT
END:VCALENDAR