BEGIN:VCALENDAR
VERSION:2.0
PRODID:-//Grace Memorial Baptist Church - ECPv6.15.20//NONSGML v1.0//EN
CALSCALE:GREGORIAN
METHOD:PUBLISH
X-WR-CALNAME:Grace Memorial Baptist Church
X-ORIGINAL-URL:https://discovergrace.us
X-WR-CALDESC:Events for Grace Memorial Baptist Church
REFRESH-INTERVAL;VALUE=DURATION:PT1H
X-Robots-Tag:noindex
X-PUBLISHED-TTL:PT1H
BEGIN:VTIMEZONE
TZID:America/Chicago
BEGIN:DAYLIGHT
TZOFFSETFROM:-0600
TZOFFSETTO:-0500
TZNAME:CDT
DTSTART:20250309T080000
END:DAYLIGHT
BEGIN:STANDARD
TZOFFSETFROM:-0500
TZOFFSETTO:-0600
TZNAME:CST
DTSTART:20251102T070000
END:STANDARD
BEGIN:DAYLIGHT
TZOFFSETFROM:-0600
TZOFFSETTO:-0500
TZNAME:CDT
DTSTART:20260308T080000
END:DAYLIGHT
BEGIN:STANDARD
TZOFFSETFROM:-0500
TZOFFSETTO:-0600
TZNAME:CST
DTSTART:20261101T070000
END:STANDARD
BEGIN:DAYLIGHT
TZOFFSETFROM:-0600
TZOFFSETTO:-0500
TZNAME:CDT
DTSTART:20270314T080000
END:DAYLIGHT
BEGIN:STANDARD
TZOFFSETFROM:-0500
TZOFFSETTO:-0600
TZNAME:CST
DTSTART:20271107T070000
END:STANDARD
END:VTIMEZONE
BEGIN:VEVENT
DTSTART;TZID=America/Chicago:20261101T091500
DTEND;TZID=America/Chicago:20261101T101500
DTSTAMP:20260422T053855
CREATED:20251006T155902Z
LAST-MODIFIED:20251006T155902Z
UID:10004208-1793524500-1793528100@discovergrace.us
SUMMARY:Sunday School
DESCRIPTION:Grow in your faith and connect with others through our Sunday School ministry! We offer classes for all ages\, organized by age\, grade\, gender\, and/or life stage\, so everyone can find a place to belong and learn. Each class provides an opportunity to study God’s Word\, build relationships\, and grow together in Christ. Join us this Sunday at 9:15am—there’s a place for you!
URL:https://discovergrace.us/event/sunday-school/2026-11-01/
LOCATION:GMBC\, 58516 Pearl Acres Road\, Slidell\, LA\, 70461\, United States
ATTACH;FMTTYPE=image/png:https://discovergrace.us/wp-content/uploads/2025/10/Ann.-Slides-Sunday-School-scaled.png
END:VEVENT
BEGIN:VEVENT
DTSTART;TZID=America/Chicago:20261101T103000
DTEND;TZID=America/Chicago:20261101T120000
DTSTAMP:20260422T053855
CREATED:20251006T161036Z
LAST-MODIFIED:20260126T154234Z
UID:10004469-1793529000-1793534400@discovergrace.us
SUMMARY:Worship Service
DESCRIPTION:Join us each Sunday morning at 10:30am for a time of heartfelt worship\, biblical teaching\, and fellowship. Our worship services are centered on praising God\, studying His Word\, and growing together as a community of believers. Whether you’re new to Grace Memorial Baptist Church or have been attending for years\, you’ll find a warm welcome and an opportunity to encounter God’s presence in a meaningful way.
URL:https://discovergrace.us/event/worship-service/2026-11-01/
LOCATION:GMBC Sanctuary\, 58516 Pearl Acres Road\, Slidell\, 70461\, United States
ATTACH;FMTTYPE=image/png:https://discovergrace.us/wp-content/uploads/2025/10/Ann.-Slides-worship-with-us-scaled.png
END:VEVENT
BEGIN:VEVENT
DTSTART;TZID=America/Chicago:20261101T170000
DTEND;TZID=America/Chicago:20261101T180000
DTSTAMP:20260422T053855
CREATED:20260114T210541Z
LAST-MODIFIED:20260114T210806Z
UID:10003596-1793552400-1793556000@discovergrace.us
SUMMARY:Grace University
DESCRIPTION:Join us every Sunday night for Grace University a vibrant lineup of community activities! Engage in meaningful fellowship and growth with Women’s Groups\, Men’s Groups\, Kids Choir\, Preschool Choir\, Youth Discipleship\, and various other studies and activities. Discover a place where all ages thrive and deepen their faith together. Sundays at 5 PM\, there’s something for everyone at Grace U!
URL:https://discovergrace.us/event/grace-university-2/2026-11-01/
LOCATION:GMBC\, 58516 Pearl Acres Road\, Slidell\, LA\, 70461\, United States
ATTACH;FMTTYPE=image/png:https://discovergrace.us/wp-content/uploads/2024/03/Grace-U.png
END:VEVENT
BEGIN:VEVENT
DTSTART;TZID=America/Chicago:20261104T174500
DTEND;TZID=America/Chicago:20261104T183000
DTSTAMP:20260422T053855
CREATED:20250507T172655Z
LAST-MODIFIED:20251114T183920Z
UID:10003862-1793814300-1793817000@discovergrace.us
SUMMARY:Wednesday Night Dinner
DESCRIPTION:Join us for our Wednesday night activities! \nWe have our Fellowship Dinner at 5:45pm every Wednesday night – reservations required by the Monday before.
URL:https://discovergrace.us/event/wednesday-night-dinner/2026-11-04/
LOCATION:LA
ATTACH;FMTTYPE=image/png:https://discovergrace.us/wp-content/uploads/2025/05/Wednesday-night-meals-Presentation-19-scaled.png
END:VEVENT
BEGIN:VEVENT
DTSTART;TZID=America/Chicago:20261108T091500
DTEND;TZID=America/Chicago:20261108T101500
DTSTAMP:20260422T053855
CREATED:20251006T155902Z
LAST-MODIFIED:20251006T155902Z
UID:10004209-1794129300-1794132900@discovergrace.us
SUMMARY:Sunday School
DESCRIPTION:Grow in your faith and connect with others through our Sunday School ministry! We offer classes for all ages\, organized by age\, grade\, gender\, and/or life stage\, so everyone can find a place to belong and learn. Each class provides an opportunity to study God’s Word\, build relationships\, and grow together in Christ. Join us this Sunday at 9:15am—there’s a place for you!
URL:https://discovergrace.us/event/sunday-school/2026-11-08/
LOCATION:GMBC\, 58516 Pearl Acres Road\, Slidell\, LA\, 70461\, United States
ATTACH;FMTTYPE=image/png:https://discovergrace.us/wp-content/uploads/2025/10/Ann.-Slides-Sunday-School-scaled.png
END:VEVENT
BEGIN:VEVENT
DTSTART;TZID=America/Chicago:20261108T103000
DTEND;TZID=America/Chicago:20261108T120000
DTSTAMP:20260422T053855
CREATED:20251006T161036Z
LAST-MODIFIED:20260126T154234Z
UID:10004470-1794133800-1794139200@discovergrace.us
SUMMARY:Worship Service
DESCRIPTION:Join us each Sunday morning at 10:30am for a time of heartfelt worship\, biblical teaching\, and fellowship. Our worship services are centered on praising God\, studying His Word\, and growing together as a community of believers. Whether you’re new to Grace Memorial Baptist Church or have been attending for years\, you’ll find a warm welcome and an opportunity to encounter God’s presence in a meaningful way.
URL:https://discovergrace.us/event/worship-service/2026-11-08/
LOCATION:GMBC Sanctuary\, 58516 Pearl Acres Road\, Slidell\, 70461\, United States
ATTACH;FMTTYPE=image/png:https://discovergrace.us/wp-content/uploads/2025/10/Ann.-Slides-worship-with-us-scaled.png
END:VEVENT
BEGIN:VEVENT
DTSTART;TZID=America/Chicago:20261108T170000
DTEND;TZID=America/Chicago:20261108T180000
DTSTAMP:20260422T053855
CREATED:20260114T210541Z
LAST-MODIFIED:20260114T210806Z
UID:10003597-1794157200-1794160800@discovergrace.us
SUMMARY:Grace University
DESCRIPTION:Join us every Sunday night for Grace University a vibrant lineup of community activities! Engage in meaningful fellowship and growth with Women’s Groups\, Men’s Groups\, Kids Choir\, Preschool Choir\, Youth Discipleship\, and various other studies and activities. Discover a place where all ages thrive and deepen their faith together. Sundays at 5 PM\, there’s something for everyone at Grace U!
URL:https://discovergrace.us/event/grace-university-2/2026-11-08/
LOCATION:GMBC\, 58516 Pearl Acres Road\, Slidell\, LA\, 70461\, United States
ATTACH;FMTTYPE=image/png:https://discovergrace.us/wp-content/uploads/2024/03/Grace-U.png
END:VEVENT
BEGIN:VEVENT
DTSTART;TZID=America/Chicago:20261109T100000
DTEND;TZID=America/Chicago:20261109T140000
DTSTAMP:20260422T053855
CREATED:20251003T170805Z
LAST-MODIFIED:20251003T170805Z
UID:10004100-1794218400-1794232800@discovergrace.us
SUMMARY:Sewing with Grace
DESCRIPTION:🧵 Sewing with Grace Ministry ✂️Join us for Sewing with Grace on the second Monday of each month\, 10:00 am – 2:00 pm at GMBC! This hands-on ministry creates practical items such as washable pads\, shorts\, dresses\, blankets\, and washcloths for those in need—most often sent to Uganda and Mexico\, but also shared locally when natural disasters strike. 🌍❤️ \nNo sewing experience is required! We need volunteers for sewing\, cutting\, ironing\, assembly\, crochet\, knitting\, and more. If you don’t know how to sew\, we’ll gladly teach you or help you find another way to serve. And while it’s often thought of as a “ladies’ ministry\,” men are welcome too—there’s a place for everyone to help! \nBring your lunch and enjoy a time of fellowship\, along with a short devotional and prayer time. We also welcome donated suitcases to help transport these items overseas. ✈️ \nCome use your hands—and your heart—to bless others in Jesus’ name!
URL:https://discovergrace.us/event/sewing-with-grace/2026-11-09/
LOCATION:Fellowship Hall
ATTACH;FMTTYPE=image/png:https://discovergrace.us/wp-content/uploads/2025/10/Sewing-with-Grace.png
END:VEVENT
BEGIN:VEVENT
DTSTART;TZID=America/Chicago:20261111T174500
DTEND;TZID=America/Chicago:20261111T183000
DTSTAMP:20260422T053855
CREATED:20250507T172655Z
LAST-MODIFIED:20251114T183920Z
UID:10003863-1794419100-1794421800@discovergrace.us
SUMMARY:Wednesday Night Dinner
DESCRIPTION:Join us for our Wednesday night activities! \nWe have our Fellowship Dinner at 5:45pm every Wednesday night – reservations required by the Monday before.
URL:https://discovergrace.us/event/wednesday-night-dinner/2026-11-11/
LOCATION:LA
ATTACH;FMTTYPE=image/png:https://discovergrace.us/wp-content/uploads/2025/05/Wednesday-night-meals-Presentation-19-scaled.png
END:VEVENT
BEGIN:VEVENT
DTSTART;TZID=America/Chicago:20261115T091500
DTEND;TZID=America/Chicago:20261115T101500
DTSTAMP:20260422T053855
CREATED:20251006T155902Z
LAST-MODIFIED:20251006T155902Z
UID:10004210-1794734100-1794737700@discovergrace.us
SUMMARY:Sunday School
DESCRIPTION:Grow in your faith and connect with others through our Sunday School ministry! We offer classes for all ages\, organized by age\, grade\, gender\, and/or life stage\, so everyone can find a place to belong and learn. Each class provides an opportunity to study God’s Word\, build relationships\, and grow together in Christ. Join us this Sunday at 9:15am—there’s a place for you!
URL:https://discovergrace.us/event/sunday-school/2026-11-15/
LOCATION:GMBC\, 58516 Pearl Acres Road\, Slidell\, LA\, 70461\, United States
ATTACH;FMTTYPE=image/png:https://discovergrace.us/wp-content/uploads/2025/10/Ann.-Slides-Sunday-School-scaled.png
END:VEVENT
BEGIN:VEVENT
DTSTART;TZID=America/Chicago:20261115T103000
DTEND;TZID=America/Chicago:20261115T120000
DTSTAMP:20260422T053855
CREATED:20251006T161036Z
LAST-MODIFIED:20260126T154234Z
UID:10004471-1794738600-1794744000@discovergrace.us
SUMMARY:Worship Service
DESCRIPTION:Join us each Sunday morning at 10:30am for a time of heartfelt worship\, biblical teaching\, and fellowship. Our worship services are centered on praising God\, studying His Word\, and growing together as a community of believers. Whether you’re new to Grace Memorial Baptist Church or have been attending for years\, you’ll find a warm welcome and an opportunity to encounter God’s presence in a meaningful way.
URL:https://discovergrace.us/event/worship-service/2026-11-15/
LOCATION:GMBC Sanctuary\, 58516 Pearl Acres Road\, Slidell\, 70461\, United States
ATTACH;FMTTYPE=image/png:https://discovergrace.us/wp-content/uploads/2025/10/Ann.-Slides-worship-with-us-scaled.png
END:VEVENT
BEGIN:VEVENT
DTSTART;TZID=America/Chicago:20261115T170000
DTEND;TZID=America/Chicago:20261115T180000
DTSTAMP:20260422T053855
CREATED:20260114T210541Z
LAST-MODIFIED:20260114T210806Z
UID:10003598-1794762000-1794765600@discovergrace.us
SUMMARY:Grace University
DESCRIPTION:Join us every Sunday night for Grace University a vibrant lineup of community activities! Engage in meaningful fellowship and growth with Women’s Groups\, Men’s Groups\, Kids Choir\, Preschool Choir\, Youth Discipleship\, and various other studies and activities. Discover a place where all ages thrive and deepen their faith together. Sundays at 5 PM\, there’s something for everyone at Grace U!
URL:https://discovergrace.us/event/grace-university-2/2026-11-15/
LOCATION:GMBC\, 58516 Pearl Acres Road\, Slidell\, LA\, 70461\, United States
ATTACH;FMTTYPE=image/png:https://discovergrace.us/wp-content/uploads/2024/03/Grace-U.png
END:VEVENT
BEGIN:VEVENT
DTSTART;TZID=America/Chicago:20261118T174500
DTEND;TZID=America/Chicago:20261118T183000
DTSTAMP:20260422T053855
CREATED:20250507T172655Z
LAST-MODIFIED:20251114T183920Z
UID:10003864-1795023900-1795026600@discovergrace.us
SUMMARY:Wednesday Night Dinner
DESCRIPTION:Join us for our Wednesday night activities! \nWe have our Fellowship Dinner at 5:45pm every Wednesday night – reservations required by the Monday before.
URL:https://discovergrace.us/event/wednesday-night-dinner/2026-11-18/
LOCATION:LA
ATTACH;FMTTYPE=image/png:https://discovergrace.us/wp-content/uploads/2025/05/Wednesday-night-meals-Presentation-19-scaled.png
END:VEVENT
BEGIN:VEVENT
DTSTART;TZID=America/Chicago:20261122T091500
DTEND;TZID=America/Chicago:20261122T101500
DTSTAMP:20260422T053855
CREATED:20251006T155902Z
LAST-MODIFIED:20251006T155902Z
UID:10004211-1795338900-1795342500@discovergrace.us
SUMMARY:Sunday School
DESCRIPTION:Grow in your faith and connect with others through our Sunday School ministry! We offer classes for all ages\, organized by age\, grade\, gender\, and/or life stage\, so everyone can find a place to belong and learn. Each class provides an opportunity to study God’s Word\, build relationships\, and grow together in Christ. Join us this Sunday at 9:15am—there’s a place for you!
URL:https://discovergrace.us/event/sunday-school/2026-11-22/
LOCATION:GMBC\, 58516 Pearl Acres Road\, Slidell\, LA\, 70461\, United States
ATTACH;FMTTYPE=image/png:https://discovergrace.us/wp-content/uploads/2025/10/Ann.-Slides-Sunday-School-scaled.png
END:VEVENT
BEGIN:VEVENT
DTSTART;TZID=America/Chicago:20261122T103000
DTEND;TZID=America/Chicago:20261122T120000
DTSTAMP:20260422T053855
CREATED:20251006T161036Z
LAST-MODIFIED:20260126T154234Z
UID:10004472-1795343400-1795348800@discovergrace.us
SUMMARY:Worship Service
DESCRIPTION:Join us each Sunday morning at 10:30am for a time of heartfelt worship\, biblical teaching\, and fellowship. Our worship services are centered on praising God\, studying His Word\, and growing together as a community of believers. Whether you’re new to Grace Memorial Baptist Church or have been attending for years\, you’ll find a warm welcome and an opportunity to encounter God’s presence in a meaningful way.
URL:https://discovergrace.us/event/worship-service/2026-11-22/
LOCATION:GMBC Sanctuary\, 58516 Pearl Acres Road\, Slidell\, 70461\, United States
ATTACH;FMTTYPE=image/png:https://discovergrace.us/wp-content/uploads/2025/10/Ann.-Slides-worship-with-us-scaled.png
END:VEVENT
BEGIN:VEVENT
DTSTART;TZID=America/Chicago:20261122T170000
DTEND;TZID=America/Chicago:20261122T180000
DTSTAMP:20260422T053855
CREATED:20260114T210541Z
LAST-MODIFIED:20260114T210806Z
UID:10003599-1795366800-1795370400@discovergrace.us
SUMMARY:Grace University
DESCRIPTION:Join us every Sunday night for Grace University a vibrant lineup of community activities! Engage in meaningful fellowship and growth with Women’s Groups\, Men’s Groups\, Kids Choir\, Preschool Choir\, Youth Discipleship\, and various other studies and activities. Discover a place where all ages thrive and deepen their faith together. Sundays at 5 PM\, there’s something for everyone at Grace U!
URL:https://discovergrace.us/event/grace-university-2/2026-11-22/
LOCATION:GMBC\, 58516 Pearl Acres Road\, Slidell\, LA\, 70461\, United States
ATTACH;FMTTYPE=image/png:https://discovergrace.us/wp-content/uploads/2024/03/Grace-U.png
END:VEVENT
BEGIN:VEVENT
DTSTART;TZID=America/Chicago:20261125T174500
DTEND;TZID=America/Chicago:20261125T183000
DTSTAMP:20260422T053855
CREATED:20250507T172655Z
LAST-MODIFIED:20251114T183920Z
UID:10003865-1795628700-1795631400@discovergrace.us
SUMMARY:Wednesday Night Dinner
DESCRIPTION:Join us for our Wednesday night activities! \nWe have our Fellowship Dinner at 5:45pm every Wednesday night – reservations required by the Monday before.
URL:https://discovergrace.us/event/wednesday-night-dinner/2026-11-25/
LOCATION:LA
ATTACH;FMTTYPE=image/png:https://discovergrace.us/wp-content/uploads/2025/05/Wednesday-night-meals-Presentation-19-scaled.png
END:VEVENT
BEGIN:VEVENT
DTSTART;TZID=America/Chicago:20261129T091500
DTEND;TZID=America/Chicago:20261129T101500
DTSTAMP:20260422T053855
CREATED:20251006T155902Z
LAST-MODIFIED:20251006T155902Z
UID:10004212-1795943700-1795947300@discovergrace.us
SUMMARY:Sunday School
DESCRIPTION:Grow in your faith and connect with others through our Sunday School ministry! We offer classes for all ages\, organized by age\, grade\, gender\, and/or life stage\, so everyone can find a place to belong and learn. Each class provides an opportunity to study God’s Word\, build relationships\, and grow together in Christ. Join us this Sunday at 9:15am—there’s a place for you!
URL:https://discovergrace.us/event/sunday-school/2026-11-29/
LOCATION:GMBC\, 58516 Pearl Acres Road\, Slidell\, LA\, 70461\, United States
ATTACH;FMTTYPE=image/png:https://discovergrace.us/wp-content/uploads/2025/10/Ann.-Slides-Sunday-School-scaled.png
END:VEVENT
BEGIN:VEVENT
DTSTART;TZID=America/Chicago:20261129T103000
DTEND;TZID=America/Chicago:20261129T120000
DTSTAMP:20260422T053855
CREATED:20251006T161036Z
LAST-MODIFIED:20260126T154234Z
UID:10004473-1795948200-1795953600@discovergrace.us
SUMMARY:Worship Service
DESCRIPTION:Join us each Sunday morning at 10:30am for a time of heartfelt worship\, biblical teaching\, and fellowship. Our worship services are centered on praising God\, studying His Word\, and growing together as a community of believers. Whether you’re new to Grace Memorial Baptist Church or have been attending for years\, you’ll find a warm welcome and an opportunity to encounter God’s presence in a meaningful way.
URL:https://discovergrace.us/event/worship-service/2026-11-29/
LOCATION:GMBC Sanctuary\, 58516 Pearl Acres Road\, Slidell\, 70461\, United States
ATTACH;FMTTYPE=image/png:https://discovergrace.us/wp-content/uploads/2025/10/Ann.-Slides-worship-with-us-scaled.png
END:VEVENT
BEGIN:VEVENT
DTSTART;TZID=America/Chicago:20261129T170000
DTEND;TZID=America/Chicago:20261129T180000
DTSTAMP:20260422T053855
CREATED:20260114T210541Z
LAST-MODIFIED:20260114T210806Z
UID:10003600-1795971600-1795975200@discovergrace.us
SUMMARY:Grace University
DESCRIPTION:Join us every Sunday night for Grace University a vibrant lineup of community activities! Engage in meaningful fellowship and growth with Women’s Groups\, Men’s Groups\, Kids Choir\, Preschool Choir\, Youth Discipleship\, and various other studies and activities. Discover a place where all ages thrive and deepen their faith together. Sundays at 5 PM\, there’s something for everyone at Grace U!
URL:https://discovergrace.us/event/grace-university-2/2026-11-29/
LOCATION:GMBC\, 58516 Pearl Acres Road\, Slidell\, LA\, 70461\, United States
ATTACH;FMTTYPE=image/png:https://discovergrace.us/wp-content/uploads/2024/03/Grace-U.png
END:VEVENT
BEGIN:VEVENT
DTSTART;TZID=America/Chicago:20261202T174500
DTEND;TZID=America/Chicago:20261202T183000
DTSTAMP:20260422T053855
CREATED:20250507T172655Z
LAST-MODIFIED:20251114T183920Z
UID:10003866-1796233500-1796236200@discovergrace.us
SUMMARY:Wednesday Night Dinner
DESCRIPTION:Join us for our Wednesday night activities! \nWe have our Fellowship Dinner at 5:45pm every Wednesday night – reservations required by the Monday before.
URL:https://discovergrace.us/event/wednesday-night-dinner/2026-12-02/
LOCATION:LA
ATTACH;FMTTYPE=image/png:https://discovergrace.us/wp-content/uploads/2025/05/Wednesday-night-meals-Presentation-19-scaled.png
END:VEVENT
BEGIN:VEVENT
DTSTART;TZID=America/Chicago:20261206T091500
DTEND;TZID=America/Chicago:20261206T101500
DTSTAMP:20260422T053855
CREATED:20251006T155902Z
LAST-MODIFIED:20251006T155902Z
UID:10004213-1796548500-1796552100@discovergrace.us
SUMMARY:Sunday School
DESCRIPTION:Grow in your faith and connect with others through our Sunday School ministry! We offer classes for all ages\, organized by age\, grade\, gender\, and/or life stage\, so everyone can find a place to belong and learn. Each class provides an opportunity to study God’s Word\, build relationships\, and grow together in Christ. Join us this Sunday at 9:15am—there’s a place for you!
URL:https://discovergrace.us/event/sunday-school/2026-12-06/
LOCATION:GMBC\, 58516 Pearl Acres Road\, Slidell\, LA\, 70461\, United States
ATTACH;FMTTYPE=image/png:https://discovergrace.us/wp-content/uploads/2025/10/Ann.-Slides-Sunday-School-scaled.png
END:VEVENT
BEGIN:VEVENT
DTSTART;TZID=America/Chicago:20261206T103000
DTEND;TZID=America/Chicago:20261206T120000
DTSTAMP:20260422T053855
CREATED:20251006T161036Z
LAST-MODIFIED:20260126T154234Z
UID:10004474-1796553000-1796558400@discovergrace.us
SUMMARY:Worship Service
DESCRIPTION:Join us each Sunday morning at 10:30am for a time of heartfelt worship\, biblical teaching\, and fellowship. Our worship services are centered on praising God\, studying His Word\, and growing together as a community of believers. Whether you’re new to Grace Memorial Baptist Church or have been attending for years\, you’ll find a warm welcome and an opportunity to encounter God’s presence in a meaningful way.
URL:https://discovergrace.us/event/worship-service/2026-12-06/
LOCATION:GMBC Sanctuary\, 58516 Pearl Acres Road\, Slidell\, 70461\, United States
ATTACH;FMTTYPE=image/png:https://discovergrace.us/wp-content/uploads/2025/10/Ann.-Slides-worship-with-us-scaled.png
END:VEVENT
BEGIN:VEVENT
DTSTART;TZID=America/Chicago:20261206T170000
DTEND;TZID=America/Chicago:20261206T180000
DTSTAMP:20260422T053855
CREATED:20260114T210541Z
LAST-MODIFIED:20260114T210806Z
UID:10003601-1796576400-1796580000@discovergrace.us
SUMMARY:Grace University
DESCRIPTION:Join us every Sunday night for Grace University a vibrant lineup of community activities! Engage in meaningful fellowship and growth with Women’s Groups\, Men’s Groups\, Kids Choir\, Preschool Choir\, Youth Discipleship\, and various other studies and activities. Discover a place where all ages thrive and deepen their faith together. Sundays at 5 PM\, there’s something for everyone at Grace U!
URL:https://discovergrace.us/event/grace-university-2/2026-12-06/
LOCATION:GMBC\, 58516 Pearl Acres Road\, Slidell\, LA\, 70461\, United States
ATTACH;FMTTYPE=image/png:https://discovergrace.us/wp-content/uploads/2024/03/Grace-U.png
END:VEVENT
BEGIN:VEVENT
DTSTART;TZID=America/Chicago:20261209T174500
DTEND;TZID=America/Chicago:20261209T183000
DTSTAMP:20260422T053855
CREATED:20250507T172655Z
LAST-MODIFIED:20251114T183920Z
UID:10003867-1796838300-1796841000@discovergrace.us
SUMMARY:Wednesday Night Dinner
DESCRIPTION:Join us for our Wednesday night activities! \nWe have our Fellowship Dinner at 5:45pm every Wednesday night – reservations required by the Monday before.
URL:https://discovergrace.us/event/wednesday-night-dinner/2026-12-09/
LOCATION:LA
ATTACH;FMTTYPE=image/png:https://discovergrace.us/wp-content/uploads/2025/05/Wednesday-night-meals-Presentation-19-scaled.png
END:VEVENT
BEGIN:VEVENT
DTSTART;TZID=America/Chicago:20261213T091500
DTEND;TZID=America/Chicago:20261213T101500
DTSTAMP:20260422T053855
CREATED:20251006T155902Z
LAST-MODIFIED:20251006T155902Z
UID:10004214-1797153300-1797156900@discovergrace.us
SUMMARY:Sunday School
DESCRIPTION:Grow in your faith and connect with others through our Sunday School ministry! We offer classes for all ages\, organized by age\, grade\, gender\, and/or life stage\, so everyone can find a place to belong and learn. Each class provides an opportunity to study God’s Word\, build relationships\, and grow together in Christ. Join us this Sunday at 9:15am—there’s a place for you!
URL:https://discovergrace.us/event/sunday-school/2026-12-13/
LOCATION:GMBC\, 58516 Pearl Acres Road\, Slidell\, LA\, 70461\, United States
ATTACH;FMTTYPE=image/png:https://discovergrace.us/wp-content/uploads/2025/10/Ann.-Slides-Sunday-School-scaled.png
END:VEVENT
BEGIN:VEVENT
DTSTART;TZID=America/Chicago:20261213T103000
DTEND;TZID=America/Chicago:20261213T120000
DTSTAMP:20260422T053855
CREATED:20251006T161036Z
LAST-MODIFIED:20260126T154234Z
UID:10004475-1797157800-1797163200@discovergrace.us
SUMMARY:Worship Service
DESCRIPTION:Join us each Sunday morning at 10:30am for a time of heartfelt worship\, biblical teaching\, and fellowship. Our worship services are centered on praising God\, studying His Word\, and growing together as a community of believers. Whether you’re new to Grace Memorial Baptist Church or have been attending for years\, you’ll find a warm welcome and an opportunity to encounter God’s presence in a meaningful way.
URL:https://discovergrace.us/event/worship-service/2026-12-13/
LOCATION:GMBC Sanctuary\, 58516 Pearl Acres Road\, Slidell\, 70461\, United States
ATTACH;FMTTYPE=image/png:https://discovergrace.us/wp-content/uploads/2025/10/Ann.-Slides-worship-with-us-scaled.png
END:VEVENT
BEGIN:VEVENT
DTSTART;TZID=America/Chicago:20261213T170000
DTEND;TZID=America/Chicago:20261213T180000
DTSTAMP:20260422T053855
CREATED:20260114T210541Z
LAST-MODIFIED:20260114T210806Z
UID:10003602-1797181200-1797184800@discovergrace.us
SUMMARY:Grace University
DESCRIPTION:Join us every Sunday night for Grace University a vibrant lineup of community activities! Engage in meaningful fellowship and growth with Women’s Groups\, Men’s Groups\, Kids Choir\, Preschool Choir\, Youth Discipleship\, and various other studies and activities. Discover a place where all ages thrive and deepen their faith together. Sundays at 5 PM\, there’s something for everyone at Grace U!
URL:https://discovergrace.us/event/grace-university-2/2026-12-13/
LOCATION:GMBC\, 58516 Pearl Acres Road\, Slidell\, LA\, 70461\, United States
ATTACH;FMTTYPE=image/png:https://discovergrace.us/wp-content/uploads/2024/03/Grace-U.png
END:VEVENT
BEGIN:VEVENT
DTSTART;TZID=America/Chicago:20261214T100000
DTEND;TZID=America/Chicago:20261214T140000
DTSTAMP:20260422T053855
CREATED:20251003T170805Z
LAST-MODIFIED:20251003T170805Z
UID:10004101-1797242400-1797256800@discovergrace.us
SUMMARY:Sewing with Grace
DESCRIPTION:🧵 Sewing with Grace Ministry ✂️Join us for Sewing with Grace on the second Monday of each month\, 10:00 am – 2:00 pm at GMBC! This hands-on ministry creates practical items such as washable pads\, shorts\, dresses\, blankets\, and washcloths for those in need—most often sent to Uganda and Mexico\, but also shared locally when natural disasters strike. 🌍❤️ \nNo sewing experience is required! We need volunteers for sewing\, cutting\, ironing\, assembly\, crochet\, knitting\, and more. If you don’t know how to sew\, we’ll gladly teach you or help you find another way to serve. And while it’s often thought of as a “ladies’ ministry\,” men are welcome too—there’s a place for everyone to help! \nBring your lunch and enjoy a time of fellowship\, along with a short devotional and prayer time. We also welcome donated suitcases to help transport these items overseas. ✈️ \nCome use your hands—and your heart—to bless others in Jesus’ name!
URL:https://discovergrace.us/event/sewing-with-grace/2026-12-14/
LOCATION:Fellowship Hall
ATTACH;FMTTYPE=image/png:https://discovergrace.us/wp-content/uploads/2025/10/Sewing-with-Grace.png
END:VEVENT
BEGIN:VEVENT
DTSTART;TZID=America/Chicago:20261216T174500
DTEND;TZID=America/Chicago:20261216T183000
DTSTAMP:20260422T053855
CREATED:20250507T172655Z
LAST-MODIFIED:20251114T183920Z
UID:10003868-1797443100-1797445800@discovergrace.us
SUMMARY:Wednesday Night Dinner
DESCRIPTION:Join us for our Wednesday night activities! \nWe have our Fellowship Dinner at 5:45pm every Wednesday night – reservations required by the Monday before.
URL:https://discovergrace.us/event/wednesday-night-dinner/2026-12-16/
LOCATION:LA
ATTACH;FMTTYPE=image/png:https://discovergrace.us/wp-content/uploads/2025/05/Wednesday-night-meals-Presentation-19-scaled.png
END:VEVENT
END:VCALENDAR