BEGIN:VCALENDAR
VERSION:2.0
PRODID:-//Grace Memorial Baptist Church - ECPv6.15.20//NONSGML v1.0//EN
CALSCALE:GREGORIAN
METHOD:PUBLISH
X-ORIGINAL-URL:https://discovergrace.us
X-WR-CALDESC:Events for Grace Memorial Baptist Church
REFRESH-INTERVAL;VALUE=DURATION:PT1H
X-Robots-Tag:noindex
X-PUBLISHED-TTL:PT1H
BEGIN:VTIMEZONE
TZID:America/Chicago
BEGIN:DAYLIGHT
TZOFFSETFROM:-0600
TZOFFSETTO:-0500
TZNAME:CDT
DTSTART:20250309T080000
END:DAYLIGHT
BEGIN:STANDARD
TZOFFSETFROM:-0500
TZOFFSETTO:-0600
TZNAME:CST
DTSTART:20251102T070000
END:STANDARD
BEGIN:DAYLIGHT
TZOFFSETFROM:-0600
TZOFFSETTO:-0500
TZNAME:CDT
DTSTART:20260308T080000
END:DAYLIGHT
BEGIN:STANDARD
TZOFFSETFROM:-0500
TZOFFSETTO:-0600
TZNAME:CST
DTSTART:20261101T070000
END:STANDARD
BEGIN:DAYLIGHT
TZOFFSETFROM:-0600
TZOFFSETTO:-0500
TZNAME:CDT
DTSTART:20270314T080000
END:DAYLIGHT
BEGIN:STANDARD
TZOFFSETFROM:-0500
TZOFFSETTO:-0600
TZNAME:CST
DTSTART:20271107T070000
END:STANDARD
END:VTIMEZONE
BEGIN:VEVENT
DTSTART;TZID=America/Chicago:20260413T100000
DTEND;TZID=America/Chicago:20260413T140000
DTSTAMP:20260421T022929
CREATED:20251003T170805Z
LAST-MODIFIED:20251003T170805Z
UID:10004093-1776074400-1776088800@discovergrace.us
SUMMARY:Sewing with Grace
DESCRIPTION:🧵 Sewing with Grace Ministry ✂️Join us for Sewing with Grace on the second Monday of each month\, 10:00 am – 2:00 pm at GMBC! This hands-on ministry creates practical items such as washable pads\, shorts\, dresses\, blankets\, and washcloths for those in need—most often sent to Uganda and Mexico\, but also shared locally when natural disasters strike. 🌍❤️ \nNo sewing experience is required! We need volunteers for sewing\, cutting\, ironing\, assembly\, crochet\, knitting\, and more. If you don’t know how to sew\, we’ll gladly teach you or help you find another way to serve. And while it’s often thought of as a “ladies’ ministry\,” men are welcome too—there’s a place for everyone to help! \nBring your lunch and enjoy a time of fellowship\, along with a short devotional and prayer time. We also welcome donated suitcases to help transport these items overseas. ✈️ \nCome use your hands—and your heart—to bless others in Jesus’ name!
URL:https://discovergrace.us/event/sewing-with-grace/2026-04-13/
LOCATION:Fellowship Hall
ATTACH;FMTTYPE=image/png:https://discovergrace.us/wp-content/uploads/2025/10/Sewing-with-Grace.png
END:VEVENT
END:VCALENDAR