BEGIN:VCALENDAR
VERSION:2.0
PRODID:-//Grace Memorial Baptist Church - ECPv6.15.20//NONSGML v1.0//EN
CALSCALE:GREGORIAN
METHOD:PUBLISH
X-WR-CALNAME:Grace Memorial Baptist Church
X-ORIGINAL-URL:https://discovergrace.us
X-WR-CALDESC:Events for Grace Memorial Baptist Church
REFRESH-INTERVAL;VALUE=DURATION:PT1H
X-Robots-Tag:noindex
X-PUBLISHED-TTL:PT1H
BEGIN:VTIMEZONE
TZID:America/Chicago
BEGIN:DAYLIGHT
TZOFFSETFROM:-0600
TZOFFSETTO:-0500
TZNAME:CDT
DTSTART:20250309T080000
END:DAYLIGHT
BEGIN:STANDARD
TZOFFSETFROM:-0500
TZOFFSETTO:-0600
TZNAME:CST
DTSTART:20251102T070000
END:STANDARD
BEGIN:DAYLIGHT
TZOFFSETFROM:-0600
TZOFFSETTO:-0500
TZNAME:CDT
DTSTART:20260308T080000
END:DAYLIGHT
BEGIN:STANDARD
TZOFFSETFROM:-0500
TZOFFSETTO:-0600
TZNAME:CST
DTSTART:20261101T070000
END:STANDARD
BEGIN:DAYLIGHT
TZOFFSETFROM:-0600
TZOFFSETTO:-0500
TZNAME:CDT
DTSTART:20270314T080000
END:DAYLIGHT
BEGIN:STANDARD
TZOFFSETFROM:-0500
TZOFFSETTO:-0600
TZNAME:CST
DTSTART:20271107T070000
END:STANDARD
END:VTIMEZONE
BEGIN:VEVENT
DTSTART;TZID=America/Chicago:20260210T180000
DTEND;TZID=America/Chicago:20260210T200000
DTSTAMP:20260421T034147
CREATED:20260126T154944Z
LAST-MODIFIED:20260126T154944Z
UID:10004759-1770746400-1770753600@discovergrace.us
SUMMARY:B.A.S.I.C. Steak Night
DESCRIPTION:🌹🥩 Love is in the air\, and so is the smell of a sizzling steak! Seniors\, join us for a special evening of great food\, fellowship\, and worship at our B.A.S.I.C. Group’s Annual Valentine’s Steak Dinner! ❤️✨ \n📅 Tuesday\, February 10th🕕 6:00 PM💲 $10 per person📌 Reservations must be in by Sunday\, February 8th \nEnjoy a delicious steak dinner\, uplifting praise & worship led by vocalist/musician Dr. Mike Peterson\, and a wonderful time of fellowship. Don’t miss this unforgettable night—reserve your spot today! 🎶❤️
URL:https://discovergrace.us/event/b-a-s-i-c-steak-night/
LOCATION:Fellowship Hall
ATTACH;FMTTYPE=image/jpeg:https://discovergrace.us/wp-content/uploads/2026/01/Ann.-Slides-BASIC-Steak-1-scaled.jpg
END:VEVENT
END:VCALENDAR